Workbook

Sheet Form Responses 1
A1: Timestamp | B1: Email Address | C1: Initial - Car 1 - Displacement (m) | D1: Initial - Car 1 - Time (s) | E1: Initial - Car 1 - Velocity (m/s) | F1: Initial - Car 1 - Momentum (kg*m/s) | G1: Initial - Car 1 - Kinetic Energy (J) | H1: Final - Car 1 - Displacement (m) | I1: Final - Car 1 - Time (s) | J1: Final - Car 1 - Velocity (m/s) | K1: Final - Car 1 - Momentum (kg*m/s) | L1: Final - Car 1 - Kinetic Energy (J) | M1: Final - Car 2 - Displacement (m) | N1: Final - Car 2 - Time (s) | O1: Final - Car 2 - Velocity (m/s) | P1: Final - Car 2 - Momentum (kg*m/s) | Q1: Final - Car 2 - Kinetic Energy (J) | R1: Initial Momentum of System | S1: Initial Kinetic Energy of System | T1: Final Momentum of System | U1: Final Kinetic Energy of System | V1: Momentum Conserved? | W1: Elastic Collision?
A2: 42779.653 | B2: mbayer@clearview.ab.ca | C2: 1 | D2: 1 | E2: 1 | F2: 0.25 | G2: 0.13 | H2: 0.05 | I2: 1 | J2: 0.05 | K2: 0.01 | L2: 0.0003 | M2: 0.95 | N2: 1 | O2: 0.95 | P2: 0.24 | Q2: 0.1128 | R2: 0.25 | S2: 0.13 | T2: 0.25 | U2: 0.11 | V2: Momentum is conserved (<20% difference) | W2: Elastic (<20% difference)
A3: 42780.426 | B3: Student 1 | C3: 1.05 | D3: 1.39 | E3: 0.7554 | F3: 0.18885 | G3: 0.07133 | H3: 0 | I3: 3.68 | J3: 0 | K3: 0 | L3: 0 | M3: 2.27 | N3: 3.68 | O3: 0.61685 | P3: 0.1542 | Q3: 0.047563 | R3: 0.18885 | S3: 0.07133 | T3: 0.1542 | U3: 0.047563 | V3: Momentum is conserved (<20% difference) | W3: Not elastic (>20% difference)
A4: 42780.728 | B4: Student 2 | C4: 1.05 | D4: 1.39 | E4: 0.75539568 | F4: 0.18884892 | G4: 0.07132783 | H4: 0 | I4: 3.68 | J4: 0 | K4: 0 | L4: 0 | M4: 2.27 | N4: 3.68 | O4: 0.61684783 | P4: 0.15421196 | Q4: 0.047562655 | R4: 0.18885 | S4: 0.07133 | T4: 0.15421 | U4: 0.047563 | V4: Momentum is not conserved (>20% difference) | W4: Not elastic (>20% difference)
A5: 42780.737 | B5: Student 3 | C5: 1.05 | D5: 1.39 | E5: 0.75539568 | F5: 0.18884892 | G5: 0.07132783 | H5: 0 | I5: 3.68 | J5: 0 | K5: 0 | L5: 0 | M5: 2.27 | N5: 3.68 | O5: 0.61684783 | P5: 0.15421196 | Q5: 0.047563 | R5: 0.18885 | S5: 0.07133 | T5: 0.15421 | U5: 0.047563 | V5: Momentum is conserved (<20% difference) | W5: Not elastic (>20% difference)
A6: 42781.408 | B6: Student 4 | C6: 1.05 | D6: 1.39 | E6: 0.7554 | F6: 0.18885 | G6: 0.07133 | H6: 0 | I6: 3.68 | J6: 0 | K6: 0 | L6: 0 | M6: 2.27 | N6: 3.68 | O6: 0.61685 | P6: 0.154211 | Q6: 0.047563 | R6: 0.18885 | S6: 0.07133 | T6: 0.154211 | U6: 0.047563 | V6: Momentum is conserved (<20% difference) | W6: Elastic (<20% difference)
A7: 42781.409 | B7: Student 5 | C7: 1.05 | D7: 1.39 | E7: 0.755 | F7: 0.194 | G7: 0.713 | H7: 0 | I7: 3.68 | J7: 0 | K7: 0 | L7: 0 | M7: 2.27 | N7: 3.68 | O7: 0.617 | P7: 0.154 | Q7: 0.048 | R7: 0.194 | S7: 0.713 | T7: 0.154 | U7: 0.048 | V7: Momentum is conserved (<20% difference) | W7: Elastic (<20% difference)
A8: 42781.411 | B8: Student 6 | C8: 1.05 | D8: 1.39 | E8: 0.7554 | F8: 0.18885 | G8: 0.07133 | H8: 0 | I8: 3.68 | J8: 0 | K8: 0 | L8: 0 | M8: 2.27 | N8: 3.68 | O8: 0.61685 | P8: 0.154211 | Q8: 0.047563 | R8: 0.1885 | S8: 0.07133 | T8: 0.154211 | U8: 0.047563 | V8: Momentum is conserved (<20% difference) | W8: Elastic (<20% difference)
A9: 42781.417 | B9: Student 7 | C9: 1 | D9: 0.68 | E9: 1.47 | F9: 0.3676 | G9: 0.27 | H9: 0 | I9: 2 | J9: 0 | K9: 0 | L9: 0 | M9: 2.06 | N9: 2.25 | O9: 0.9156 | P9: 0.2289 | Q9: 0.1048 | R9: 0.3676 | S9: 0.27 | T9: 0.2289 | U9: 0.1048 | V9: Momentum is not conserved (>20% difference) | W9: Not elastic (>20% difference)
A10: 42781.419 | B10: Student 8 | C10: 1 | D10: 0.68 | E10: 1.47 | F10: 0.3676 | G10: 0.2701 | H10: 0 | I10: 2.25 | J10: 0 | K10: 0 | L10: 0 | M10: 2.065 | N10: 2.25 | O10: 0.917 | P10: 0.22925 | Q10: 0.105 | R10: 0.3676 | S10: 0.2701 | T10: 0.22925 | U10: 0.105 | V10: Momentum is not conserved (>20% difference) | W10: Not elastic (>20% difference)
A11: 42781.42 | B11: Student 9 | C11: 1 | D11: 0.68 | E11: 1.471 | F11: 0.368 | G11: 0.27 | H11: 0 | I11: 1 | J11: 0 | K11: 0 | L11: 0 | M11: 2.06 | N11: 2.52 | O11: 0.916 | P11: 0.229 | Q11: 0.105 | R11: 0.368 | S11: 0.27 | T11: 0.229 | U11: 0.105 | V11: Momentum is not conserved (>20% difference) | W11: Not elastic (>20% difference)
A12: 42793.637 | B12: Student 10 | C12: 1 | D12: 0.68 | E12: 1.4706 | F12: 0.3677 | G12: 0.2703 | H12: 0 | I12: 0 | J12: 0 | K12: 0 | L12: 0 | M12: 2.11 | N12: 2.25 | O12: 0.9378 | P12: 0.2344 | Q12: 0.1053 | R12: 0.3677 | S12: 0.2703 | T12: 0.2344 | U12: 0.1053 | V12: Momentum is not conserved (>20% difference) | W12: Not elastic (>20% difference)
A13: 43144.558 | B13: Student 11 | C13: 1 | D13: 1 | E13: 1 | F13: 0.25 | G13: 0.13 | H13: 0.05 | I13: 1 | J13: 0.05 | K13: 0.01 | L13: 0.0003 | M13: 0.95 | N13: 1 | O13: 0.95 | P13: 0.24 | Q13: 0.1128 | R13: 0.25 | S13: 0.13 | T13: 0.25 | U13: 0.11 | V13: Momentum is conserved (<20% difference) | W13: Elastic (<20% difference)
... A95: 43930.484 | B95: Student 93 | C95: 2 | D95: 1.99 | E95: 1 | F95: 0.25 | G95: 0.125 | H95: 0.02 | I95: 0.46 | J95: 0.043 | K95: 0.0103 | L95: 0 | M95: 0.6 | N95: 0.785 | O95: 0.769 | P95: 0.1922 | Q95: 0 | R95: 0.25 | S95: 0.125 | T95: 0.26375 | U95: 0 | V95: Momentum is not conserved (>20% difference) | W95: Not elastic (>20% difference)

Sheet Calculations
A1: Condition #1 | BC1: Momentum is not conserved (>20% difference) | BH1: Not elastic (>20% difference)
BC2: Momentum is conserved (<20% difference) | BH2: Elastic (<20% difference)
B3: SPEC | C3: 0.25 | D3: Blue 1 (kg) | E3: 0.25 | BC3: Momentum is gained (measurement error) | BH3: Energy is gained (measurement error)
D4: Red 2 (kg) | E4: 0.25
C6: Initial Blue Car 1 | O6: Final Blue Car 1 | AA6: Final Red Car 2 | AM6: Analysis
C7: v1i | G7: p1i | K7: Ek1i | O7: v1f | S7: p1f | W7: Ek1f | AA7: v2f | AE7: p2f | AI7: Ek2f | AM7: p-sys-initial | AQ7: Ek-sys-initial | AU7: p-sys-final | AY7: Ek-sys-final | BC7: p-conserved? | BH7: Ek-conserved?
A8: Name | B8: TOTAL | C8: Low SPEC | D8: High SPEC | E8: Within SPEC? | F8: Marks | G8: Low SPEC | H8: High SPEC | I8: Within SPEC? | J8: Marks | K8: Low SPEC | L8: High SPEC | M8: Within SPEC? | N8: Marks | O8: Low SPEC | P8: High SPEC | Q8: Within SPEC? | R8: Marks | S8: Low SPEC | T8: High SPEC | U8: Within SPEC? | V8: Marks | W8: Low SPEC | X8: High SPEC | Y8: Within SPEC? | Z8: Marks | AA8: Low SPEC | AB8: High SPEC | AC8: Within SPEC? | AD8: Marks | AE8: Low SPEC | AF8: High SPEC | AG8: Within SPEC? | AH8: Marks | AI8: Low SPEC | AJ8: High SPEC | AK8: Within SPEC? | AL8: Marks | AM8: Low SPEC | AN8: High SPEC | AO8: Within SPEC? | AP8: Mark | AQ8: Low SPEC | AR8: High SPEC | AS8: Within SPEC? | AT8: Mark | AU8: Low SPEC | AV8: High SPEC | AW8: Within SPEC? | AX8: Mark | AY8: Low SPEC | AZ8: High SPEC | BA8: Within SPEC? | BB8: Mark | BC8: Percent Diff | BD8: Not Conserved? | BE8: Conserved? | BF8: Gained? | BG8: Mark | BH8: Percent Diff | BI8: Not Conserved? | BJ8: Conserved? | BK8: Gained? | BL8: Mark
A9: ='Form Responses 1'!B2 -> mbayer@clearview.ab.ca | B9: =(F9+J9+N9)+(R9+V9+Z9)+(AD9+AH9+AL9)+(AP9+AT9+AX9+BB9)+(BG9+BL9) -> 15 | C9: ='Form Responses 1'!C2/'Form Responses 1'!D2*(1-$C$3) -> 0.75 | D9: ='Form Responses 1'!C2/'Form Responses 1'!D2*(1+$C$3) -> 1.25 | E9: =AND('Form Responses 1'!E2>C9,'Form Responses 1'!E2<D9) -> TRUE | F9: =IF(E9=TRUE,1,0) -> 1 | G9: ='Form Responses 1'!E2*$E$3*(1-$C$3) -> 0.1875 | H9: ='Form Responses 1'!E2*$E$3*(1+$C$3) -> 0.3125 | I9: =AND('Form Responses 1'!F2>G9,'Form Responses 1'!F2<H9) -> TRUE | J9: =IF(I9=TRUE,1,0) -> 1 | K9: =0.5*$E$3*'Form Responses 1'!E2*'Form Responses 1'!E2*(1-$C$3) -> 0.09375 | L9: =0.5*$E$3*'Form Responses 1'!E2*'Form Responses 1'!E2*(1+$C$3) -> 0.15625 | M9: =AND('Form Responses 1'!G2>K9,'Form Responses 1'!G2<L9) -> TRUE | N9: =IF(M9=TRUE,1,0) -> 1 | O9: ='Form Responses 1'!H2/'Form Responses 1'!I2*(1-$C$3) -> 0.0375 | P9: ='Form Responses 1'!H2/'Form Responses 1'!I2*(1+$C$3) -> 0.0625 | Q9: =AND('Form Responses 1'!J2>O9,'Form Responses 1'!J2<P9) -> TRUE | R9: =IF(Q9=TRUE,1,0) -> 1 | S9: ='Form Responses 1'!J2*$E$3*(1-$C$3) -> 0.009375 | T9: ='Form Responses 1'!J2*$E$3*(1+$C$3) -> 0.015625 | U9: =AND('Form Responses 1'!K2>S9,'Form Responses 1'!K2<T9) -> TRUE | V9: =IF(U9=TRUE,1,0) -> 1 | W9: =0.5*$E$3*'Form Responses 1'!J2*'Form Responses 1'!J2*(1-$C$3) -> 0.000234375 | X9: =0.5*$E$3*'Form Responses 1'!J2*'Form Responses 1'!J2*(1+$C$3) -> 0.000390625 | Y9: =AND('Form Responses 1'!L2>W9,'Form Responses 1'!L2<X9) -> TRUE | Z9: =IF(Y9=TRUE,1,0) -> 1 | AA9: ='Form Responses 1'!M2/'Form Responses 1'!N2*(1-$C$3) -> 0.7125 | AB9: ='Form Responses 1'!M2/'Form Responses 1'!N2*(1+$C$3) -> 1.1875 | AC9: =AND('Form Responses 1'!O2>AA9,'Form Responses 1'!O2<AB9) -> TRUE | AD9: =IF(AC9=TRUE,1,0) -> 1 | AE9: ='Form Responses 1'!O2*$E$4*(1-$C$3) -> 0.178125 | AF9: ='Form Responses 1'!O2*$E$4*(1+$C$3) -> 0.296875 | AG9: =AND('Form Responses 1'!P2>AE9,'Form Responses 1'!P2<AF9) -> TRUE | AH9: =IF(AG9=TRUE,1,0) -> 1 | AI9: =0.5*$E$4*'Form Responses 1'!O2*'Form Responses 1'!O2*(1-$C$3) -> 0.084609375 | AJ9: =0.5*$E$4*'Form Responses 1'!O2*'Form Responses 1'!O2*(1+$C$3) -> 0.14101563 | AK9: =AND('Form Responses 1'!Q2>AI9,'Form Responses 1'!Q2<AJ9) -> TRUE | AL9: =IF(AK9=TRUE,1,0) -> 1 | AM9: ='Form Responses 1'!F2*(1-$C$3) -> 0.1875 | AN9: ='Form Responses 1'!F2*(1+$C$3) -> 0.3125 | AO9: =AND('Form Responses 1'!R2>AM9,'Form Responses 1'!R2<AN9) -> TRUE | AP9: =IF(AO9=TRUE,1,0) -> 1 | AQ9: ='Form Responses 1'!G2*(1-$C$3) -> 0.0975 | AR9: ='Form Responses 1'!G2*(1+$C$3) -> 0.1625 | AS9: =AND('Form Responses 1'!S2>AQ9,'Form Responses 1'!S2<AR9) -> TRUE | AT9: =IF(AS9=TRUE,1,0) -> 1 | AU9: =('Form Responses 1'!K2+'Form Responses 1'!P2)*(1-$C$3) -> 0.1875 | AV9: =('Form Responses 1'!K2+'Form Responses 1'!P2)*(1+$C$3) -> 0.3125 | AW9: =AND('Form Responses 1'!T2>AU9,'Form Responses 1'!T2<AV9) -> TRUE | AX9: =IF(AW9=TRUE,1,0) -> 1 | AY9: =('Form Responses 1'!L2+'Form Responses 1'!Q2)*(1-$C$3) -> 0.084825 | AZ9: =('Form Responses 1'!L2+'Form Responses 1'!Q2)*(1+$C$3) -> 0.141375 | BA9: =AND('Form Responses 1'!U2>AY9,'Form Responses 1'!U2<AZ9) -> TRUE | BB9: =IF(BA9=TRUE,1,0) -> 1 | BC9: =('Form Responses 1'!R2-'Form Responses 1'!T2)/'Form Responses 1'!R2*100 -> 0 | BD9: =IF(AND(BC9>=20,'Form Responses 1'!V2=$BC$1)=TRUE,1,0) -> 0 | BE9: =IF(AND(BC9>=0,BC9<=20,'Form Responses 1'!V2=$BC$2)=TRUE,1,0) -> 1 | BF9: =IF(AND(BC9<0)=TRUE,-1,0) -> 0 | BG9: =SUM(BD9:BF9) -> 1 | BH9: =('Form Responses 1'!S2-'Form Responses 1'!U2)/'Form Responses 1'!S2*100 -> 15.384615 | BI9: =IF(AND(BH9>=20,'Form Responses 1'!W2=$BH$1)=TRUE,1,0) -> 0 | BJ9: =IF(AND(BH9>=0,BH9<=20,'Form Responses 1'!W2=$BH$2)=TRUE,1,0) -> 1 | BK9: =IF(AND(BH9<0)=TRUE,-1,0) -> 0 | BL9: =SUM(BI9:BK9) -> 1
A10: ='Form Responses 1'!B3 -> Student 1 | B10: =(F10+J10+N10)+(R10+V10+Z10)+(AD10+AH10+AL10)+(AP10+AT10+AX10+BB10)+(BG10+BL10) -> 12 | C10: ='Form Responses 1'!C3/'Form Responses 1'!D3*(1-$C$3) -> 0.56654676 | D10: ='Form Responses 1'!C3/'Form Responses 1'!D3*(1+$C$3) -> 0.9442446 | E10: =AND('Form Responses 1'!E3>C10,'Form Responses 1'!E3<D10) -> TRUE | F10: =IF(E10=TRUE,1,0) -> 1 | G10: ='Form Responses 1'!E3*$E$3*(1-$C$3) -> 0.1416375 | H10: ='Form Responses 1'!E3*$E$3*(1+$C$3) -> 0.2360625 | I10: =AND('Form Responses 1'!F3>G10,'Form Responses 1'!F3<H10) -> TRUE | J10: =IF(I10=TRUE,1,0) -> 1 | K10: =0.5*$E$3*'Form Responses 1'!E3*'Form Responses 1'!E3*(1-$C$3) -> 0.053496484 | L10: =0.5*$E$3*'Form Responses 1'!E3*'Form Responses 1'!E3*(1+$C$3) -> 0.089160806 | M10: =AND('Form Responses 1'!G3>K10,'Form Responses 1'!G3<L10) -> TRUE | N10: =IF(M10=TRUE,1,0) -> 1 | O10: ='Form Responses 1'!H3/'Form Responses 1'!I3*(1-$C$3) -> 0 | P10: ='Form Responses 1'!H3/'Form Responses 1'!I3*(1+$C$3) -> 0 | Q10: =AND('Form Responses 1'!J3>O10,'Form Responses 1'!J3<P10) -> FALSE | R10: =IF(Q10=TRUE,1,0) -> 0 | S10: ='Form Responses 1'!J3*$E$3*(1-$C$3) -> 0 | T10: ='Form Responses 1'!J3*$E$3*(1+$C$3) -> 0 | U10: =AND('Form Responses 1'!K3>S10,'Form Responses 1'!K3<T10) -> FALSE | V10: =IF(U10=TRUE,1,0) -> 0 | W10: =0.5*$E$3*'Form Responses 1'!J3*'Form Responses 1'!J3*(1-$C$3) -> 0 | X10: =0.5*$E$3*'Form Responses 1'!J3*'Form Responses 1'!J3*(1+$C$3) -> 0 | Y10: =AND('Form Responses 1'!L3>W10,'Form Responses 1'!L3<X10) -> FALSE | Z10: =IF(Y10=TRUE,1,0) -> 0 | AA10: ='Form Responses 1'!M3/'Form Responses 1'!N3*(1-$C$3) -> 0.46263587 | AB10: ='Form Responses 1'!M3/'Form Responses 1'!N3*(1+$C$3) -> 0.77105978 | AC10: =AND('Form Responses 1'!O3>AA10,'Form Responses 1'!O3<AB10) -> TRUE | AD10: =IF(AC10=TRUE,1,0) -> 1 | AE10: ='Form Responses 1'!O3*$E$4*(1-$C$3) -> 0.11565938 | AF10: ='Form Responses 1'!O3*$E$4*(1+$C$3) -> 0.19276562 | AG10: =AND('Form Responses 1'!P3>AE10,'Form Responses 1'!P3<AF10) -> TRUE | AH10: =IF(AG10=TRUE,1,0) -> 1 | AI10: =0.5*$E$4*'Form Responses 1'!O3*'Form Responses 1'!O3*(1-$C$3) -> 0.035672243 | AJ10: =0.5*$E$4*'Form Responses 1'!O3*'Form Responses 1'!O3*(1+$C$3) -> 0.059453738 | AK10: =AND('Form Responses 1'!Q3>AI10,'Form Responses 1'!Q3<AJ10) -> TRUE | AL10: =IF(AK10=TRUE,1,0) -> 1 | AM10: ='Form Responses 1'!F3*(1-$C$3) -> 0.1416375 | AN10: ='Form Responses 1'!F3*(1+$C$3) -> 0.2360625 | AO10: =AND('Form Responses 1'!R3>AM10,'Form Responses 1'!R3<AN10) -> TRUE | AP10: =IF(AO10=TRUE,1,0) -> 1 | AQ10: ='Form Responses 1'!G3*(1-$C$3) -> 0.0534975 | AR10: ='Form Responses 1'!G3*(1+$C$3) -> 0.0891625 | AS10: =AND('Form Responses 1'!S3>AQ10,'Form Responses 1'!S3<AR10) -> TRUE | AT10: =IF(AS10=TRUE,1,0) -> 1 | AU10: =('Form Responses 1'!K3+'Form Responses 1'!P3)*(1-$C$3) -> 0.11565 | AV10: =('Form Responses 1'!K3+'Form Responses 1'!P3)*(1+$C$3) -> 0.19275 | AW10: =AND('Form Responses 1'!T3>AU10,'Form Responses 1'!T3<AV10) -> TRUE | AX10: =IF(AW10=TRUE,1,0) -> 1 | AY10: =('Form Responses 1'!L3+'Form Responses 1'!Q3)*(1-$C$3) -> 0.03567225 | AZ10: =('Form Responses 1'!L3+'Form Responses 1'!Q3)*(1+$C$3) -> 0.05945375 | BA10: =AND('Form Responses 1'!U3>AY10,'Form Responses 1'!U3<AZ10) -> TRUE | BB10: =IF(BA10=TRUE,1,0) -> 1 | BC10: =('Form Responses 1'!R3-'Form Responses 1'!T3)/'Form Responses 1'!R3*100 -> 18.347895 | BD10: =IF(AND(BC10>=20,'Form Responses 1'!V3=$BC$1)=TRUE,1,0) -> 0 | BE10: =IF(AND(BC10>=0,BC10<=20,'Form Responses 1'!V3=$BC$2)=TRUE,1,0) -> 1 | BF10: =IF(AND(BC10<0)=TRUE,-1,0) -> 0 | BG10: =SUM(BD10:BF10) -> 1 | BH10: =('Form Responses 1'!S3-'Form Responses 1'!U3)/'Form Responses 1'!S3*100 -> 33.319781 | BI10: =IF(AND(BH10>=20,'Form Responses 1'!W3=$BH$1)=TRUE,1,0) -> 1 | BJ10: =IF(AND(BH10>=0,BH10<=20,'Form Responses 1'!W3=$BH$2)=TRUE,1,0) -> 0 | BK10: =IF(AND(BH10<0)=TRUE,-1,0) -> 0 | BL10: =SUM(BI10:BK10) -> 1
A11: ='Form Responses 1'!B4 -> Student 2 | B11: =(F11+J11+N11)+(R11+V11+Z11)+(AD11+AH11+AL11)+(AP11+AT11+AX11+BB11)+(BG11+BL11) -> 11 | C11: ='Form Responses 1'!C4/'Form Responses 1'!D4*(1-$C$3) -> 0.56654676 | D11: ='Form Responses 1'!C4/'Form Responses 1'!D4*(1+$C$3) -> 0.9442446 | E11: =AND('Form Responses 1'!E4>C11,'Form Responses 1'!E4<D11) -> TRUE | F11: =IF(E11=TRUE,1,0) -> 1 | G11: ='Form Responses 1'!E4*$E$3*(1-$C$3) -> 0.14163669 | H11: ='Form Responses 1'!E4*$E$3*(1+$C$3) -> 0.23606115 | I11: =AND('Form Responses 1'!F4>G11,'Form Responses 1'!F4<H11) -> TRUE | J11: =IF(I11=TRUE,1,0) -> 1 | K11: =0.5*$E$3*'Form Responses 1'!E4*'Form Responses 1'!E4*(1-$C$3) -> 0.053495872 | L11: =0.5*$E$3*'Form Responses 1'!E4*'Form Responses 1'!E4*(1+$C$3) -> 0.089159787 | M11: =AND('Form Responses 1'!G4>K11,'Form Responses 1'!G4<L11) -> TRUE | N11: =IF(M11=TRUE,1,0) -> 1 | O11: ='Form Responses 1'!H4/'Form Responses 1'!I4*(1-$C$3) -> 0 | P11: ='Form Responses 1'!H4/'Form Responses 1'!I4*(1+$C$3) -> 0 | Q11: =AND('Form Responses 1'!J4>O11,'Form Responses 1'!J4<P11) -> FALSE | R11: =IF(Q11=TRUE,1,0) -> 0 | S11: ='Form Responses 1'!J4*$E$3*(1-$C$3) -> 0 | T11: ='Form Responses 1'!J4*$E$3*(1+$C$3) -> 0 | U11: =AND('Form Responses 1'!K4>S11,'Form Responses 1'!K4<T11) -> FALSE | V11: =IF(U11=TRUE,1,0) -> 0 | W11: =0.5*$E$3*'Form Responses 1'!J4*'Form Responses 1'!J4*(1-$C$3) -> 0 | X11: =0.5*$E$3*'Form Responses 1'!J4*'Form Responses 1'!J4*(1+$C$3) -> 0 | Y11: =AND('Form Responses 1'!L4>W11,'Form Responses 1'!L4<X11) -> FALSE | Z11: =IF(Y11=TRUE,1,0) -> 0 | AA11: ='Form Responses 1'!M4/'Form Responses 1'!N4*(1-$C$3) -> 0.46263587 | AB11: ='Form Responses 1'!M4/'Form Responses 1'!N4*(1+$C$3) -> 0.77105978 | AC11: =AND('Form Responses 1'!O4>AA11,'Form Responses 1'!O4<AB11) -> TRUE | AD11: =IF(AC11=TRUE,1,0) -> 1 | AE11: ='Form Responses 1'!O4*$E$4*(1-$C$3) -> 0.11565897 | AF11: ='Form Responses 1'!O4*$E$4*(1+$C$3) -> 0.19276495 | AG11: =AND('Form Responses 1'!P4>AE11,'Form Responses 1'!P4<AF11) -> TRUE | AH11: =IF(AG11=TRUE,1,0) -> 1 | AI11: =0.5*$E$4*'Form Responses 1'!O4*'Form Responses 1'!O4*(1-$C$3) -> 0.035671991 | AJ11: =0.5*$E$4*'Form Responses 1'!O4*'Form Responses 1'!O4*(1+$C$3) -> 0.059453319 | AK11: =AND('Form Responses 1'!Q4>AI11,'Form Responses 1'!Q4<AJ11) -> TRUE | AL11: =IF(AK11=TRUE,1,0) -> 1 | AM11: ='Form Responses 1'!F4*(1-$C$3) -> 0.14163669 | AN11: ='Form Responses 1'!F4*(1+$C$3) -> 0.23606115 | AO11: =AND('Form Responses 1'!R4>AM11,'Form Responses 1'!R4<AN11) -> TRUE | AP11: =IF(AO11=TRUE,1,0) -> 1 | AQ11: ='Form Responses 1'!G4*(1-$C$3) -> 0.053495872 | AR11: ='Form Responses 1'!G4*(1+$C$3) -> 0.089159787 | AS11: =AND('Form Responses 1'!S4>AQ11,'Form Responses 1'!S4<AR11) -> TRUE | AT11: =IF(AS11=TRUE,1,0) -> 1 | AU11: =('Form Responses 1'!K4+'Form Responses 1'!P4)*(1-$C$3) -> 0.11565897 | AV11: =('Form Responses 1'!K4+'Form Responses 1'!P4)*(1+$C$3) -> 0.19276495 | AW11: =AND('Form Responses 1'!T4>AU11,'Form Responses 1'!T4<AV11) -> TRUE | AX11: =IF(AW11=TRUE,1,0) -> 1 | AY11: =('Form Responses 1'!L4+'Form Responses 1'!Q4)*(1-$C$3) -> 0.035671991 | AZ11: =('Form Responses 1'!L4+'Form Responses 1'!Q4)*(1+$C$3) -> 0.059453319 | BA11: =AND('Form Responses 1'!U4>AY11,'Form Responses 1'!U4<AZ11) -> TRUE | BB11: =IF(BA11=TRUE,1,0) -> 1 | BC11: =('Form Responses 1'!R4-'Form Responses 1'!T4)/'Form Responses 1'!R4*100 -> 18.3426 | BD11: =IF(AND(BC11>=20,'Form Responses 1'!V4=$BC$1)=TRUE,1,0) -> 0 | BE11: =IF(AND(BC11>=0,BC11<=20,'Form Responses 1'!V4=$BC$2)=TRUE,1,0) -> 0 | BF11: =IF(AND(BC11<0)=TRUE,-1,0) -> 0 | BG11: =SUM(BD11:BF11) -> 0 | BH11: =('Form Responses 1'!S4-'Form Responses 1'!U4)/'Form Responses 1'!S4*100 -> 33.319781 | BI11: =IF(AND(BH11>=20,'Form Responses 1'!W4=$BH$1)=TRUE,1,0) -> 1 | BJ11: =IF(AND(BH11>=0,BH11<=20,'Form Responses 1'!W4=$BH$2)=TRUE,1,0) -> 0 | BK11: =IF(AND(BH11<0)=TRUE,-1,0) -> 0 | BL11: =SUM(BI11:BK11) -> 1
A12: ='Form Responses 1'!B5 -> Student 3 | B12: =(F12+J12+N12)+(R12+V12+Z12)+(AD12+AH12+AL12)+(AP12+AT12+AX12+BB12)+(BG12+BL12) -> 12 | C12: ='Form Responses 1'!C5/'Form Responses 1'!D5*(1-$C$3) -> 0.56654676 | D12: ='Form Responses 1'!C5/'Form Responses 1'!D5*(1+$C$3) -> 0.9442446 | E12: =AND('Form Responses 1'!E5>C12,'Form Responses 1'!E5<D12) -> TRUE | F12: =IF(E12=TRUE,1,0) -> 1 | G12: ='Form Responses 1'!E5*$E$3*(1-$C$3) -> 0.14163669 | H12: ='Form Responses 1'!E5*$E$3*(1+$C$3) -> 0.23606115 | I12: =AND('Form Responses 1'!F5>G12,'Form Responses 1'!F5<H12) -> TRUE | J12: =IF(I12=TRUE,1,0) -> 1 | K12: =0.5*$E$3*'Form Responses 1'!E5*'Form Responses 1'!E5*(1-$C$3) -> 0.053495872 | L12: =0.5*$E$3*'Form Responses 1'!E5*'Form Responses 1'!E5*(1+$C$3) -> 0.089159787 | M12: =AND('Form Responses 1'!G5>K12,'Form Responses 1'!G5<L12) -> TRUE | N12: =IF(M12=TRUE,1,0) -> 1 | O12: ='Form Responses 1'!H5/'Form Responses 1'!I5*(1-$C$3) -> 0 | P12: ='Form Responses 1'!H5/'Form Responses 1'!I5*(1+$C$3) -> 0 | Q12: =AND('Form Responses 1'!J5>O12,'Form Responses 1'!J5<P12) -> FALSE | R12: =IF(Q12=TRUE,1,0) -> 0 | S12: ='Form Responses 1'!J5*$E$3*(1-$C$3) -> 0 | T12: ='Form Responses 1'!J5*$E$3*(1+$C$3) -> 0 | U12: =AND('Form Responses 1'!K5>S12,'Form Responses 1'!K5<T12) -> FALSE | V12: =IF(U12=TRUE,1,0) -> 0 | W12: =0.5*$E$3*'Form Responses 1'!J5*'Form Responses 1'!J5*(1-$C$3) -> 0 | X12: =0.5*$E$3*'Form Responses 1'!J5*'Form Responses 1'!J5*(1+$C$3) -> 0 | Y12: =AND('Form Responses 1'!L5>W12,'Form Responses 1'!L5<X12) -> FALSE | Z12: =IF(Y12=TRUE,1,0) -> 0 | AA12: ='Form Responses 1'!M5/'Form Responses 1'!N5*(1-$C$3) -> 0.46263587 | AB12: ='Form Responses 1'!M5/'Form Responses 1'!N5*(1+$C$3) -> 0.77105978 | AC12: =AND('Form Responses 1'!O5>AA12,'Form Responses 1'!O5<AB12) -> TRUE | AD12: =IF(AC12=TRUE,1,0) -> 1 | AE12: ='Form Responses 1'!O5*$E$4*(1-$C$3) -> 0.11565897 | AF12: ='Form Responses 1'!O5*$E$4*(1+$C$3) -> 0.19276495 | AG12: =AND('Form Responses 1'!P5>AE12,'Form Responses 1'!P5<AF12) -> TRUE | AH12: =IF(AG12=TRUE,1,0) -> 1 | AI12: =0.5*$E$4*'Form Responses 1'!O5*'Form Responses 1'!O5*(1-$C$3) -> 0.035671991 | AJ12: =0.5*$E$4*'Form Responses 1'!O5*'Form Responses 1'!O5*(1+$C$3) -> 0.059453319 | AK12: =AND('Form Responses 1'!Q5>AI12,'Form Responses 1'!Q5<AJ12) -> TRUE | AL12: =IF(AK12=TRUE,1,0) -> 1 | AM12: ='Form Responses 1'!F5*(1-$C$3) -> 0.14163669 | AN12: ='Form Responses 1'!F5*(1+$C$3) -> 0.23606115 | AO12: =AND('Form Responses 1'!R5>AM12,'Form Responses 1'!R5<AN12) -> TRUE | AP12: =IF(AO12=TRUE,1,0) -> 1 | AQ12: ='Form Responses 1'!G5*(1-$C$3) -> 0.053495872 | AR12: ='Form Responses 1'!G5*(1+$C$3) -> 0.089159787 | AS12: =AND('Form Responses 1'!S5>AQ12,'Form Responses 1'!S5<AR12) -> TRUE | AT12: =IF(AS12=TRUE,1,0) -> 1 | AU12: =('Form Responses 1'!K5+'Form Responses 1'!P5)*(1-$C$3) -> 0.11565897 | AV12: =('Form Responses 1'!K5+'Form Responses 1'!P5)*(1+$C$3) -> 0.19276495 | AW12: =AND('Form Responses 1'!T5>AU12,'Form Responses 1'!T5<AV12) -> TRUE | AX12: =IF(AW12=TRUE,1,0) -> 1 | AY12: =('Form Responses 1'!L5+'Form Responses 1'!Q5)*(1-$C$3) -> 0.03567225 | AZ12: =('Form Responses 1'!L5+'Form Responses 1'!Q5)*(1+$C$3) -> 0.05945375 | BA12: =AND('Form Responses 1'!U5>AY12,'Form Responses 1'!U5<AZ12) -> TRUE | BB12: =IF(BA12=TRUE,1,0) -> 1 | BC12: =('Form Responses 1'!R5-'Form Responses 1'!T5)/'Form Responses 1'!R5*100 -> 18.3426 | BD12: =IF(AND(BC12>=20,'Form Responses 1'!V5=$BC$1)=TRUE,1,0) -> 0 | BE12: =IF(AND(BC12>=0,BC12<=20,'Form Responses 1'!V5=$BC$2)=TRUE,1,0) -> 1 | BF12: =IF(AND(BC12<0)=TRUE,-1,0) -> 0 | BG12: =SUM(BD12:BF12) -> 1 | BH12: =('Form Responses 1'!S5-'Form Responses 1'!U5)/'Form Responses 1'!S5*100 -> 33.319781 | BI12: =IF(AND(BH12>=20,'Form Responses 1'!W5=$BH$1)=TRUE,1,0) -> 1 | BJ12: =IF(AND(BH12>=0,BH12<=20,'Form Responses 1'!W5=$BH$2)=TRUE,1,0) -> 0 | BK12: =IF(AND(BH12<0)=TRUE,-1,0) -> 0 | BL12: =SUM(BI12:BK12) -> 1
A13: ='Form Responses 1'!B6 -> Student 4 | B13: =(F13+J13+N13)+(R13+V13+Z13)+(AD13+AH13+AL13)+(AP13+AT13+AX13+BB13)+(BG13+BL13) -> 11 | C13: ='Form Responses 1'!C6/'Form Responses 1'!D6*(1-$C$3) -> 0.56654676 | D13: ='Form Responses 1'!C6/'Form Responses 1'!D6*(1+$C$3) -> 0.9442446 | E13: =AND('Form Responses 1'!E6>C13,'Form Responses 1'!E6<D13) -> TRUE | F13: =IF(E13=TRUE,1,0) -> 1 | G13: ='Form Responses 1'!E6*$E$3*(1-$C$3) -> 0.1416375 | H13: ='Form Responses 1'!E6*$E$3*(1+$C$3) -> 0.2360625 | I13: =AND('Form Responses 1'!F6>G13,'Form Responses 1'!F6<H13) -> TRUE | J13: =IF(I13=TRUE,1,0) -> 1 | K13: =0.5*$E$3*'Form Responses 1'!E6*'Form Responses 1'!E6*(1-$C$3) -> 0.053496484 | L13: =0.5*$E$3*'Form Responses 1'!E6*'Form Responses 1'!E6*(1+$C$3) -> 0.089160806 | M13: =AND('Form Responses 1'!G6>K13,'Form Responses 1'!G6<L13) -> TRUE | N13: =IF(M13=TRUE,1,0) -> 1 | O13: ='Form Responses 1'!H6/'Form Responses 1'!I6*(1-$C$3) -> 0 | P13: ='Form Responses 1'!H6/'Form Responses 1'!I6*(1+$C$3) -> 0 | Q13: =AND('Form Responses 1'!J6>O13,'Form Responses 1'!J6<P13) -> FALSE | R13: =IF(Q13=TRUE,1,0) -> 0 | S13: ='Form Responses 1'!J6*$E$3*(1-$C$3) -> 0 | T13: ='Form Responses 1'!J6*$E$3*(1+$C$3) -> 0 | U13: =AND('Form Responses 1'!K6>S13,'Form Responses 1'!K6<T13) -> FALSE | V13: =IF(U13=TRUE,1,0) -> 0 | W13: =0.5*$E$3*'Form Responses 1'!J6*'Form Responses 1'!J6*(1-$C$3) -> 0 | X13: =0.5*$E$3*'Form Responses 1'!J6*'Form Responses 1'!J6*(1+$C$3) -> 0 | Y13: =AND('Form Responses 1'!L6>W13,'Form Responses 1'!L6<X13) -> FALSE | Z13: =IF(Y13=TRUE,1,0) -> 0 | AA13: ='Form Responses 1'!M6/'Form Responses 1'!N6*(1-$C$3) -> 0.46263587 | AB13: ='Form Responses 1'!M6/'Form Responses 1'!N6*(1+$C$3) -> 0.77105978 | AC13: =AND('Form Responses 1'!O6>AA13,'Form Responses 1'!O6<AB13) -> TRUE | AD13: =IF(AC13=TRUE,1,0) -> 1 | AE13: ='Form Responses 1'!O6*$E$4*(1-$C$3) -> 0.11565938 | AF13: ='Form Responses 1'!O6*$E$4*(1+$C$3) -> 0.19276562 | AG13: =AND('Form Responses 1'!P6>AE13,'Form Responses 1'!P6<AF13) -> TRUE | AH13: =IF(AG13=TRUE,1,0) -> 1 | AI13: =0.5*$E$4*'Form Responses 1'!O6*'Form Responses 1'!O6*(1-$C$3) -> 0.035672243 | AJ13: =0.5*$E$4*'Form Responses 1'!O6*'Form Responses 1'!O6*(1+$C$3) -> 0.059453738 | AK13: =AND('Form Responses 1'!Q6>AI13,'Form Responses 1'!Q6<AJ13) -> TRUE | AL13: =IF(AK13=TRUE,1,0) -> 1 | AM13: ='Form Responses 1'!F6*(1-$C$3) -> 0.1416375 | AN13: ='Form Responses 1'!F6*(1+$C$3) -> 0.2360625 | AO13: =AND('Form Responses 1'!R6>AM13,'Form Responses 1'!R6<AN13) -> TRUE | AP13: =IF(AO13=TRUE,1,0) -> 1 | AQ13: ='Form Responses 1'!G6*(1-$C$3) -> 0.0534975 | AR13: ='Form Responses 1'!G6*(1+$C$3) -> 0.0891625 | AS13: =AND('Form Responses 1'!S6>AQ13,'Form Responses 1'!S6<AR13) -> TRUE | AT13: =IF(AS13=TRUE,1,0) -> 1 | AU13: =('Form Responses 1'!K6+'Form Responses 1'!P6)*(1-$C$3) -> 0.11565825 | AV13: =('Form Responses 1'!K6+'Form Responses 1'!P6)*(1+$C$3) -> 0.19276375 | AW13: =AND('Form Responses 1'!T6>AU13,'Form Responses 1'!T6<AV13) -> TRUE | AX13: =IF(AW13=TRUE,1,0) -> 1 | AY13: =('Form Responses 1'!L6+'Form Responses 1'!Q6)*(1-$C$3) -> 0.03567225 | AZ13: =('Form Responses 1'!L6+'Form Responses 1'!Q6)*(1+$C$3) -> 0.05945375 | BA13: =AND('Form Responses 1'!U6>AY13,'Form Responses 1'!U6<AZ13) -> TRUE | BB13: =IF(BA13=TRUE,1,0) -> 1 | BC13: =('Form Responses 1'!R6-'Form Responses 1'!T6)/'Form Responses 1'!R6*100 -> 18.34207 | BD13: =IF(AND(BC13>=20,'Form Responses 1'!V6=$BC$1)=TRUE,1,0) -> 0 | BE13: =IF(AND(BC13>=0,BC13<=20,'Form Responses 1'!V6=$BC$2)=TRUE,1,0) -> 1 | BF13: =IF(AND(BC13<0)=TRUE,-1,0) -> 0 | BG13: =SUM(BD13:BF13) -> 1 | BH13: =('Form Responses 1'!S6-'Form Responses 1'!U6)/'Form Responses 1'!S6*100 -> 33.319781 | BI13: =IF(AND(BH13>=20,'Form Responses 1'!W6=$BH$1)=TRUE,1,0) -> 0 | BJ13: =IF(AND(BH13>=0,BH13<=20,'Form Responses 1'!W6=$BH$2)=TRUE,1,0) -> 0 | BK13: =IF(AND(BH13<0)=TRUE,-1,0) -> 0 | BL13: =SUM(BI13:BK13) -> 0
A14: ='Form Responses 1'!B7 -> Student 5 | B14: =(F14+J14+N14)+(R14+V14+Z14)+(AD14+AH14+AL14)+(AP14+AT14+AX14+BB14)+(BG14+BL14) -> 9 | C14: ='Form Responses 1'!C7/'Form Responses 1'!D7*(1-$C$3) -> 0.56654676 | D14: ='Form Responses 1'!C7/'Form Responses 1'!D7*(1+$C$3) -> 0.9442446 | E14: =AND('Form Responses 1'!E7>C14,'Form Responses 1'!E7<D14) -> TRUE | F14: =IF(E14=TRUE,1,0) -> 1 | G14: ='Form Responses 1'!E7*$E$3*(1-$C$3) -> 0.1415625 | H14: ='Form Responses 1'!E7*$E$3*(1+$C$3) -> 0.2359375 | I14: =AND('Form Responses 1'!F7>G14,'Form Responses 1'!F7<H14) -> TRUE | J14: =IF(I14=TRUE,1,0) -> 1 | K14: =0.5*$E$3*'Form Responses 1'!E7*'Form Responses 1'!E7*(1-$C$3) -> 0.053439844 | L14: =0.5*$E$3*'Form Responses 1'!E7*'Form Responses 1'!E7*(1+$C$3) -> 0.089066406 | M14: =AND('Form Responses 1'!G7>K14,'Form Responses 1'!G7<L14) -> FALSE | N14: =IF(M14=TRUE,1,0) -> 0 | O14: ='Form Responses 1'!H7/'Form Responses 1'!I7*(1-$C$3) -> 0 | P14: ='Form Responses 1'!H7/'Form Responses 1'!I7*(1+$C$3) -> 0 | Q14: =AND('Form Responses 1'!J7>O14,'Form Responses 1'!J7<P14) -> FALSE | R14: =IF(Q14=TRUE,1,0) -> 0 | S14: ='Form Responses 1'!J7*$E$3*(1-$C$3) -> 0 | T14: ='Form Responses 1'!J7*$E$3*(1+$C$3) -> 0 | U14: =AND('Form Responses 1'!K7>S14,'Form Responses 1'!K7<T14) -> FALSE | V14: =IF(U14=TRUE,1,0) -> 0 | W14: =0.5*$E$3*'Form Responses 1'!J7*'Form Responses 1'!J7*(1-$C$3) -> 0 | X14: =0.5*$E$3*'Form Responses 1'!J7*'Form Responses 1'!J7*(1+$C$3) -> 0 | Y14: =AND('Form Responses 1'!L7>W14,'Form Responses 1'!L7<X14) -> FALSE | Z14: =IF(Y14=TRUE,1,0) -> 0 | AA14: ='Form Responses 1'!M7/'Form Responses 1'!N7*(1-$C$3) -> 0.46263587 | AB14: ='Form Responses 1'!M7/'Form Responses 1'!N7*(1+$C$3) -> 0.77105978 | AC14: =AND('Form Responses 1'!O7>AA14,'Form Responses 1'!O7<AB14) -> TRUE | AD14: =IF(AC14=TRUE,1,0) -> 1 | AE14: ='Form Responses 1'!O7*$E$4*(1-$C$3) -> 0.1156875 | AF14: ='Form Responses 1'!O7*$E$4*(1+$C$3) -> 0.1928125 | AG14: =AND('Form Responses 1'!P7>AE14,'Form Responses 1'!P7<AF14) -> TRUE | AH14: =IF(AG14=TRUE,1,0) -> 1 | AI14: =0.5*$E$4*'Form Responses 1'!O7*'Form Responses 1'!O7*(1-$C$3) -> 0.035689594 | AJ14: =0.5*$E$4*'Form Responses 1'!O7*'Form Responses 1'!O7*(1+$C$3) -> 0.059482656 | AK14: =AND('Form Responses 1'!Q7>AI14,'Form Responses 1'!Q7<AJ14) -> TRUE | AL14: =IF(AK14=TRUE,1,0) -> 1 | AM14: ='Form Responses 1'!F7*(1-$C$3) -> 0.1455 | AN14: ='Form Responses 1'!F7*(1+$C$3) -> 0.2425 | AO14: =AND('Form Responses 1'!R7>AM14,'Form Responses 1'!R7<AN14) -> TRUE | AP14: =IF(AO14=TRUE,1,0) -> 1 | AQ14: ='Form Responses 1'!G7*(1-$C$3) -> 0.53475 | AR14: ='Form Responses 1'!G7*(1+$C$3) -> 0.89125 | AS14: =AND('Form Responses 1'!S7>AQ14,'Form Responses 1'!S7<AR14) -> TRUE | AT14: =IF(AS14=TRUE,1,0) -> 1 | AU14: =('Form Responses 1'!K7+'Form Responses 1'!P7)*(1-$C$3) -> 0.1155 | AV14: =('Form Responses 1'!K7+'Form Responses 1'!P7)*(1+$C$3) -> 0.1925 | AW14: =AND('Form Responses 1'!T7>AU14,'Form Responses 1'!T7<AV14) -> TRUE | AX14: =IF(AW14=TRUE,1,0) -> 1 | AY14: =('Form Responses 1'!L7+'Form Responses 1'!Q7)*(1-$C$3) -> 0.036 | AZ14: =('Form Responses 1'!L7+'Form Responses 1'!Q7)*(1+$C$3) -> 0.06 | BA14: =AND('Form Responses 1'!U7>AY14,'Form Responses 1'!U7<AZ14) -> TRUE | BB14: =IF(BA14=TRUE,1,0) -> 1 | BC14: =('Form Responses 1'!R7-'Form Responses 1'!T7)/'Form Responses 1'!R7*100 -> 20.618557 | BD14: =IF(AND(BC14>=20,'Form Responses 1'!V7=$BC$1)=TRUE,1,0) -> 0 | BE14: =IF(AND(BC14>=0,BC14<=20,'Form Responses 1'!V7=$BC$2)=TRUE,1,0) -> 0 | BF14: =IF(AND(BC14<0)=TRUE,-1,0) -> 0 | BG14: =SUM(BD14:BF14) -> 0 | BH14: =('Form Responses 1'!S7-'Form Responses 1'!U7)/'Form Responses 1'!S7*100 -> 93.267882 | BI14: =IF(AND(BH14>=20,'Form Responses 1'!W7=$BH$1)=TRUE,1,0) -> 0 | BJ14: =IF(AND(BH14>=0,BH14<=20,'Form Responses 1'!W7=$BH$2)=TRUE,1,0) -> 0 | BK14: =IF(AND(BH14<0)=TRUE,-1,0) -> 0 | BL14: =SUM(BI14:BK14) -> 0
A15: ='Form Responses 1'!B8 -> Student 6 | B15: =(F15+J15+N15)+(R15+V15+Z15)+(AD15+AH15+AL15)+(AP15+AT15+AX15+BB15)+(BG15+BL15) -> 11 | C15: ='Form Responses 1'!C8/'Form Responses 1'!D8*(1-$C$3) -> 0.56654676 | D15: ='Form Responses 1'!C8/'Form Responses 1'!D8*(1+$C$3) -> 0.9442446 | E15: =AND('Form Responses 1'!E8>C15,'Form Responses 1'!E8<D15) -> TRUE | F15: =IF(E15=TRUE,1,0) -> 1 | G15: ='Form Responses 1'!E8*$E$3*(1-$C$3) -> 0.1416375 | H15: ='Form Responses 1'!E8*$E$3*(1+$C$3) -> 0.2360625 | I15: =AND('Form Responses 1'!F8>G15,'Form Responses 1'!F8<H15) -> TRUE | J15: =IF(I15=TRUE,1,0) -> 1 | K15: =0.5*$E$3*'Form Responses 1'!E8*'Form Responses 1'!E8*(1-$C$3) -> 0.053496484 | L15: =0.5*$E$3*'Form Responses 1'!E8*'Form Responses 1'!E8*(1+$C$3) -> 0.089160806 | M15: =AND('Form Responses 1'!G8>K15,'Form Responses 1'!G8<L15) -> TRUE | N15: =IF(M15=TRUE,1,0) -> 1 | O15: ='Form Responses 1'!H8/'Form Responses 1'!I8*(1-$C$3) -> 0 | P15: ='Form Responses 1'!H8/'Form Responses 1'!I8*(1+$C$3) -> 0 | Q15: =AND('Form Responses 1'!J8>O15,'Form Responses 1'!J8<P15) -> FALSE | R15: =IF(Q15=TRUE,1,0) -> 0 | S15: ='Form Responses 1'!J8*$E$3*(1-$C$3) -> 0 | T15: ='Form Responses 1'!J8*$E$3*(1+$C$3) -> 0 | U15: =AND('Form Responses 1'!K8>S15,'Form Responses 1'!K8<T15) -> FALSE | V15: =IF(U15=TRUE,1,0) -> 0 | W15: =0.5*$E$3*'Form Responses 1'!J8*'Form Responses 1'!J8*(1-$C$3) -> 0 | X15: =0.5*$E$3*'Form Responses 1'!J8*'Form Responses 1'!J8*(1+$C$3) -> 0 | Y15: =AND('Form Responses 1'!L8>W15,'Form Responses 1'!L8<X15) -> FALSE | Z15: =IF(Y15=TRUE,1,0) -> 0 | AA15: ='Form Responses 1'!M8/'Form Responses 1'!N8*(1-$C$3) -> 0.46263587 | AB15: ='Form Responses 1'!M8/'Form Responses 1'!N8*(1+$C$3) -> 0.77105978 | AC15: =AND('Form Responses 1'!O8>AA15,'Form Responses 1'!O8<AB15) -> TRUE | AD15: =IF(AC15=TRUE,1,0) -> 1 | AE15: ='Form Responses 1'!O8*$E$4*(1-$C$3) -> 0.11565938 | AF15: ='Form Responses 1'!O8*$E$4*(1+$C$3) -> 0.19276562 | AG15: =AND('Form Responses 1'!P8>AE15,'Form Responses 1'!P8<AF15) -> TRUE | AH15: =IF(AG15=TRUE,1,0) -> 1 | AI15: =0.5*$E$4*'Form Responses 1'!O8*'Form Responses 1'!O8*(1-$C$3) -> 0.035672243 | AJ15: =0.5*$E$4*'Form Responses 1'!O8*'Form Responses 1'!O8*(1+$C$3) -> 0.059453738 | AK15: =AND('Form Responses 1'!Q8>AI15,'Form Responses 1'!Q8<AJ15) -> TRUE | AL15: =IF(AK15=TRUE,1,0) -> 1 | AM15: ='Form Responses 1'!F8*(1-$C$3) -> 0.1416375 | AN15: ='Form Responses 1'!F8*(1+$C$3) -> 0.2360625 | AO15: =AND('Form Responses 1'!R8>AM15,'Form Responses 1'!R8<AN15) -> TRUE | AP15: =IF(AO15=TRUE,1,0) -> 1 | AQ15: ='Form Responses 1'!G8*(1-$C$3) -> 0.0534975 | AR15: ='Form Responses 1'!G8*(1+$C$3) -> 0.0891625 | AS15: =AND('Form Responses 1'!S8>AQ15,'Form Responses 1'!S8<AR15) -> TRUE | AT15: =IF(AS15=TRUE,1,0) -> 1 | AU15: =('Form Responses 1'!K8+'Form Responses 1'!P8)*(1-$C$3) -> 0.11565825 | AV15: =('Form Responses 1'!K8+'Form Responses 1'!P8)*(1+$C$3) -> 0.19276375 | AW15: =AND('Form Responses 1'!T8>AU15,'Form Responses 1'!T8<AV15) -> TRUE | AX15: =IF(AW15=TRUE,1,0) -> 1 | AY15: =('Form Responses 1'!L8+'Form Responses 1'!Q8)*(1-$C$3) -> 0.03567225 | AZ15: =('Form Responses 1'!L8+'Form Responses 1'!Q8)*(1+$C$3) -> 0.05945375 | BA15: =AND('Form Responses 1'!U8>AY15,'Form Responses 1'!U8<AZ15) -> TRUE | BB15: =IF(BA15=TRUE,1,0) -> 1 | BC15: =('Form Responses 1'!R8-'Form Responses 1'!T8)/'Form Responses 1'!R8*100 -> 18.190451 | BD15: =IF(AND(BC15>=20,'Form Responses 1'!V8=$BC$1)=TRUE,1,0) -> 0 | BE15: =IF(AND(BC15>=0,BC15<=20,'Form Responses 1'!V8=$BC$2)=TRUE,1,0) -> 1 | BF15: =IF(AND(BC15<0)=TRUE,-1,0) -> 0 | BG15: =SUM(BD15:BF15) -> 1 | BH15: =('Form Responses 1'!S8-'Form Responses 1'!U8)/'Form Responses 1'!S8*100 -> 33.319781 | BI15: =IF(AND(BH15>=20,'Form Responses 1'!W8=$BH$1)=TRUE,1,0) -> 0 | BJ15: =IF(AND(BH15>=0,BH15<=20,'Form Responses 1'!W8=$BH$2)=TRUE,1,0) -> 0 | BK15: =IF(AND(BH15<0)=TRUE,-1,0) -> 0 | BL15: =SUM(BI15:BK15) -> 0
A16: ='Form Responses 1'!B9 -> Student 7 | B16: =(F16+J16+N16)+(R16+V16+Z16)+(AD16+AH16+AL16)+(AP16+AT16+AX16+BB16)+(BG16+BL16) -> 12 | C16: ='Form Responses 1'!C9/'Form Responses 1'!D9*(1-$C$3) -> 1.1029412 | D16: ='Form Responses 1'!C9/'Form Responses 1'!D9*(1+$C$3) -> 1.8382353 | E16: =AND('Form Responses 1'!E9>C16,'Form Responses 1'!E9<D16) -> TRUE | F16: =IF(E16=TRUE,1,0) -> 1 | G16: ='Form Responses 1'!E9*$E$3*(1-$C$3) -> 0.275625 | H16: ='Form Responses 1'!E9*$E$3*(1+$C$3) -> 0.459375 | I16: =AND('Form Responses 1'!F9>G16,'Form Responses 1'!F9<H16) -> TRUE | J16: =IF(I16=TRUE,1,0) -> 1 | K16: =0.5*$E$3*'Form Responses 1'!E9*'Form Responses 1'!E9*(1-$C$3) -> 0.20258437 | L16: =0.5*$E$3*'Form Responses 1'!E9*'Form Responses 1'!E9*(1+$C$3) -> 0.33764062 | M16: =AND('Form Responses 1'!G9>K16,'Form Responses 1'!G9<L16) -> TRUE | N16: =IF(M16=TRUE,1,0) -> 1 | O16: ='Form Responses 1'!H9/'Form Responses 1'!I9*(1-$C$3) -> 0 | P16: ='Form Responses 1'!H9/'Form Responses 1'!I9*(1+$C$3) -> 0 | Q16: =AND('Form Responses 1'!J9>O16,'Form Responses 1'!J9<P16) -> FALSE | R16: =IF(Q16=TRUE,1,0) -> 0 | S16: ='Form Responses 1'!J9*$E$3*(1-$C$3) -> 0 | T16: ='Form Responses 1'!J9*$E$3*(1+$C$3) -> 0 | U16: =AND('Form Responses 1'!K9>S16,'Form Responses 1'!K9<T16) -> FALSE | V16: =IF(U16=TRUE,1,0) -> 0 | W16: =0.5*$E$3*'Form Responses 1'!J9*'Form Responses 1'!J9*(1-$C$3) -> 0 | X16: =0.5*$E$3*'Form Responses 1'!J9*'Form Responses 1'!J9*(1+$C$3) -> 0 | Y16: =AND('Form Responses 1'!L9>W16,'Form Responses 1'!L9<X16) -> FALSE | Z16: =IF(Y16=TRUE,1,0) -> 0 | AA16: ='Form Responses 1'!M9/'Form Responses 1'!N9*(1-$C$3) -> 0.68666667 | AB16: ='Form Responses 1'!M9/'Form Responses 1'!N9*(1+$C$3) -> 1.1444444 | AC16: =AND('Form Responses 1'!O9>AA16,'Form Responses 1'!O9<AB16) -> TRUE | AD16: =IF(AC16=TRUE,1,0) -> 1 | AE16: ='Form Responses 1'!O9*$E$4*(1-$C$3) -> 0.171675 | AF16: ='Form Responses 1'!O9*$E$4*(1+$C$3) -> 0.286125 | AG16: =AND('Form Responses 1'!P9>AE16,'Form Responses 1'!P9<AF16) -> TRUE | AH16: =IF(AG16=TRUE,1,0) -> 1 | AI16: =0.5*$E$4*'Form Responses 1'!O9*'Form Responses 1'!O9*(1-$C$3) -> 0.078592815 | AJ16: =0.5*$E$4*'Form Responses 1'!O9*'Form Responses 1'!O9*(1+$C$3) -> 0.13098803 | AK16: =AND('Form Responses 1'!Q9>AI16,'Form Responses 1'!Q9<AJ16) -> TRUE | AL16: =IF(AK16=TRUE,1,0) -> 1 | AM16: ='Form Responses 1'!F9*(1-$C$3) -> 0.2757 | AN16: ='Form Responses 1'!F9*(1+$C$3) -> 0.4595 | AO16: =AND('Form Responses 1'!R9>AM16,'Form Responses 1'!R9<AN16) -> TRUE | AP16: =IF(AO16=TRUE,1,0) -> 1 | AQ16: ='Form Responses 1'!G9*(1-$C$3) -> 0.2025 | AR16: ='Form Responses 1'!G9*(1+$C$3) -> 0.3375 | AS16: =AND('Form Responses 1'!S9>AQ16,'Form Responses 1'!S9<AR16) -> TRUE | AT16: =IF(AS16=TRUE,1,0) -> 1 | AU16: =('Form Responses 1'!K9+'Form Responses 1'!P9)*(1-$C$3) -> 0.171675 | AV16: =('Form Responses 1'!K9+'Form Responses 1'!P9)*(1+$C$3) -> 0.286125 | AW16: =AND('Form Responses 1'!T9>AU16,'Form Responses 1'!T9<AV16) -> TRUE | AX16: =IF(AW16=TRUE,1,0) -> 1 | AY16: =('Form Responses 1'!L9+'Form Responses 1'!Q9)*(1-$C$3) -> 0.0786 | AZ16: =('Form Responses 1'!L9+'Form Responses 1'!Q9)*(1+$C$3) -> 0.131 | BA16: =AND('Form Responses 1'!U9>AY16,'Form Responses 1'!U9<AZ16) -> TRUE | BB16: =IF(BA16=TRUE,1,0) -> 1 | BC16: =('Form Responses 1'!R9-'Form Responses 1'!T9)/'Form Responses 1'!R9*100 -> 37.73123 | BD16: =IF(AND(BC16>=20,'Form Responses 1'!V9=$BC$1)=TRUE,1,0) -> 1 | BE16: =IF(AND(BC16>=0,BC16<=20,'Form Responses 1'!V9=$BC$2)=TRUE,1,0) -> 0 | BF16: =IF(AND(BC16<0)=TRUE,-1,0) -> 0 | BG16: =SUM(BD16:BF16) -> 1 | BH16: =('Form Responses 1'!S9-'Form Responses 1'!U9)/'Form Responses 1'!S9*100 -> 61.185185 | BI16: =IF(AND(BH16>=20,'Form Responses 1'!W9=$BH$1)=TRUE,1,0) -> 1 | BJ16: =IF(AND(BH16>=0,BH16<=20,'Form Responses 1'!W9=$BH$2)=TRUE,1,0) -> 0 | BK16: =IF(AND(BH16<0)=TRUE,-1,0) -> 0 | BL16: =SUM(BI16:BK16) -> 1
A17: ='Form Responses 1'!B10 -> Student 8 | B17: =(F17+J17+N17)+(R17+V17+Z17)+(AD17+AH17+AL17)+(AP17+AT17+AX17+BB17)+(BG17+BL17) -> 12 | C17: ='Form Responses 1'!C10/'Form Responses 1'!D10*(1-$C$3) -> 1.1029412 | D17: ='Form Responses 1'!C10/'Form Responses 1'!D10*(1+$C$3) -> 1.8382353 | E17: =AND('Form Responses 1'!E10>C17,'Form Responses 1'!E10<D17) -> TRUE | F17: =IF(E17=TRUE,1,0) -> 1 | G17: ='Form Responses 1'!E10*$E$3*(1-$C$3) -> 0.275625 | H17: ='Form Responses 1'!E10*$E$3*(1+$C$3) -> 0.459375 | I17: =AND('Form Responses 1'!F10>G17,'Form Responses 1'!F10<H17) -> TRUE | J17: =IF(I17=TRUE,1,0) -> 1 | K17: =0.5*$E$3*'Form Responses 1'!E10*'Form Responses 1'!E10*(1-$C$3) -> 0.20258437 | L17: =0.5*$E$3*'Form Responses 1'!E10*'Form Responses 1'!E10*(1+$C$3) -> 0.33764062 | M17: =AND('Form Responses 1'!G10>K17,'Form Responses 1'!G10<L17) -> TRUE | N17: =IF(M17=TRUE,1,0) -> 1 | O17: ='Form Responses 1'!H10/'Form Responses 1'!I10*(1-$C$3) -> 0 | P17: ='Form Responses 1'!H10/'Form Responses 1'!I10*(1+$C$3) -> 0 | Q17: =AND('Form Responses 1'!J10>O17,'Form Responses 1'!J10<P17) -> FALSE | R17: =IF(Q17=TRUE,1,0) -> 0 | S17: ='Form Responses 1'!J10*$E$3*(1-$C$3) -> 0 | T17: ='Form Responses 1'!J10*$E$3*(1+$C$3) -> 0 | U17: =AND('Form Responses 1'!K10>S17,'Form Responses 1'!K10<T17) -> FALSE | V17: =IF(U17=TRUE,1,0) -> 0 | W17: =0.5*$E$3*'Form Responses 1'!J10*'Form Responses 1'!J10*(1-$C$3) -> 0 | X17: =0.5*$E$3*'Form Responses 1'!J10*'Form Responses 1'!J10*(1+$C$3) -> 0 | Y17: =AND('Form Responses 1'!L10>W17,'Form Responses 1'!L10<X17) -> FALSE | Z17: =IF(Y17=TRUE,1,0) -> 0 | AA17: ='Form Responses 1'!M10/'Form Responses 1'!N10*(1-$C$3) -> 0.68833333 | AB17: ='Form Responses 1'!M10/'Form Responses 1'!N10*(1+$C$3) -> 1.1472222 | AC17: =AND('Form Responses 1'!O10>AA17,'Form Responses 1'!O10<AB17) -> TRUE | AD17: =IF(AC17=TRUE,1,0) -> 1 | AE17: ='Form Responses 1'!O10*$E$4*(1-$C$3) -> 0.1719375 | AF17: ='Form Responses 1'!O10*$E$4*(1+$C$3) -> 0.2865625 | AG17: =AND('Form Responses 1'!P10>AE17,'Form Responses 1'!P10<AF17) -> TRUE | AH17: =IF(AG17=TRUE,1,0) -> 1 | AI17: =0.5*$E$4*'Form Responses 1'!O10*'Form Responses 1'!O10*(1-$C$3) -> 0.078833344 | AJ17: =0.5*$E$4*'Form Responses 1'!O10*'Form Responses 1'!O10*(1+$C$3) -> 0.13138891 | AK17: =AND('Form Responses 1'!Q10>AI17,'Form Responses 1'!Q10<AJ17) -> TRUE | AL17: =IF(AK17=TRUE,1,0) -> 1 | AM17: ='Form Responses 1'!F10*(1-$C$3) -> 0.2757 | AN17: ='Form Responses 1'!F10*(1+$C$3) -> 0.4595 | AO17: =AND('Form Responses 1'!R10>AM17,'Form Responses 1'!R10<AN17) -> TRUE | AP17: =IF(AO17=TRUE,1,0) -> 1 | AQ17: ='Form Responses 1'!G10*(1-$C$3) -> 0.202575 | AR17: ='Form Responses 1'!G10*(1+$C$3) -> 0.337625 | AS17: =AND('Form Responses 1'!S10>AQ17,'Form Responses 1'!S10<AR17) -> TRUE | AT17: =IF(AS17=TRUE,1,0) -> 1 | AU17: =('Form Responses 1'!K10+'Form Responses 1'!P10)*(1-$C$3) -> 0.1719375 | AV17: =('Form Responses 1'!K10+'Form Responses 1'!P10)*(1+$C$3) -> 0.2865625 | AW17: =AND('Form Responses 1'!T10>AU17,'Form Responses 1'!T10<AV17) -> TRUE | AX17: =IF(AW17=TRUE,1,0) -> 1 | AY17: =('Form Responses 1'!L10+'Form Responses 1'!Q10)*(1-$C$3) -> 0.07875 | AZ17: =('Form Responses 1'!L10+'Form Responses 1'!Q10)*(1+$C$3) -> 0.13125 | BA17: =AND('Form Responses 1'!U10>AY17,'Form Responses 1'!U10<AZ17) -> TRUE | BB17: =IF(BA17=TRUE,1,0) -> 1 | BC17: =('Form Responses 1'!R10-'Form Responses 1'!T10)/'Form Responses 1'!R10*100 -> 37.636017 | BD17: =IF(AND(BC17>=20,'Form Responses 1'!V10=$BC$1)=TRUE,1,0) -> 1 | BE17: =IF(AND(BC17>=0,BC17<=20,'Form Responses 1'!V10=$BC$2)=TRUE,1,0) -> 0 | BF17: =IF(AND(BC17<0)=TRUE,-1,0) -> 0 | BG17: =SUM(BD17:BF17) -> 1 | BH17: =('Form Responses 1'!S10-'Form Responses 1'!U10)/'Form Responses 1'!S10*100 -> 61.125509 | BI17: =IF(AND(BH17>=20,'Form Responses 1'!W10=$BH$1)=TRUE,1,0) -> 1 | BJ17: =IF(AND(BH17>=0,BH17<=20,'Form Responses 1'!W10=$BH$2)=TRUE,1,0) -> 0 | BK17: =IF(AND(BH17<0)=TRUE,-1,0) -> 0 | BL17: =SUM(BI17:BK17) -> 1
A18: ='Form Responses 1'!B11 -> Student 9 | B18: =(F18+J18+N18)+(R18+V18+Z18)+(AD18+AH18+AL18)+(AP18+AT18+AX18+BB18)+(BG18+BL18) -> 12 | C18: ='Form Responses 1'!C11/'Form Responses 1'!D11*(1-$C$3) -> 1.1029412 | D18: ='Form Responses 1'!C11/'Form Responses 1'!D11*(1+$C$3) -> 1.8382353 | E18: =AND('Form Responses 1'!E11>C18,'Form Responses 1'!E11<D18) -> TRUE | F18: =IF(E18=TRUE,1,0) -> 1 | G18: ='Form Responses 1'!E11*$E$3*(1-$C$3) -> 0.2758125 | H18: ='Form Responses 1'!E11*$E$3*(1+$C$3) -> 0.4596875 | I18: =AND('Form Responses 1'!F11>G18,'Form Responses 1'!F11<H18) -> TRUE | J18: =IF(I18=TRUE,1,0) -> 1 | K18: =0.5*$E$3*'Form Responses 1'!E11*'Form Responses 1'!E11*(1-$C$3) -> 0.20286009 | L18: =0.5*$E$3*'Form Responses 1'!E11*'Form Responses 1'!E11*(1+$C$3) -> 0.33810016 | M18: =AND('Form Responses 1'!G11>K18,'Form Responses 1'!G11<L18) -> TRUE | N18: =IF(M18=TRUE,1,0) -> 1 | O18: ='Form Responses 1'!H11/'Form Responses 1'!I11*(1-$C$3) -> 0 | P18: ='Form Responses 1'!H11/'Form Responses 1'!I11*(1+$C$3) -> 0 | Q18: =AND('Form Responses 1'!J11>O18,'Form Responses 1'!J11<P18) -> FALSE | R18: =IF(Q18=TRUE,1,0) -> 0 | S18: ='Form Responses 1'!J11*$E$3*(1-$C$3) -> 0 | T18: ='Form Responses 1'!J11*$E$3*(1+$C$3) -> 0 | U18: =AND('Form Responses 1'!K11>S18,'Form Responses 1'!K11<T18) -> FALSE | V18: =IF(U18=TRUE,1,0) -> 0 | W18: =0.5*$E$3*'Form Responses 1'!J11*'Form Responses 1'!J11*(1-$C$3) -> 0 | X18: =0.5*$E$3*'Form Responses 1'!J11*'Form Responses 1'!J11*(1+$C$3) -> 0 | Y18: =AND('Form Responses 1'!L11>W18,'Form Responses 1'!L11<X18) -> FALSE | Z18: =IF(Y18=TRUE,1,0) -> 0 | AA18: ='Form Responses 1'!M11/'Form Responses 1'!N11*(1-$C$3) -> 0.61309524 | AB18: ='Form Responses 1'!M11/'Form Responses 1'!N11*(1+$C$3) -> 1.0218254 | AC18: =AND('Form Responses 1'!O11>AA18,'Form Responses 1'!O11<AB18) -> TRUE | AD18: =IF(AC18=TRUE,1,0) -> 1 | AE18: ='Form Responses 1'!O11*$E$4*(1-$C$3) -> 0.17175 | AF18: ='Form Responses 1'!O11*$E$4*(1+$C$3) -> 0.28625 | AG18: =AND('Form Responses 1'!P11>AE18,'Form Responses 1'!P11<AF18) -> TRUE | AH18: =IF(AG18=TRUE,1,0) -> 1 | AI18: =0.5*$E$4*'Form Responses 1'!O11*'Form Responses 1'!O11*(1-$C$3) -> 0.0786615 | AJ18: =0.5*$E$4*'Form Responses 1'!O11*'Form Responses 1'!O11*(1+$C$3) -> 0.1311025 | AK18: =AND('Form Responses 1'!Q11>AI18,'Form Responses 1'!Q11<AJ18) -> TRUE | AL18: =IF(AK18=TRUE,1,0) -> 1 | AM18: ='Form Responses 1'!F11*(1-$C$3) -> 0.276 | AN18: ='Form Responses 1'!F11*(1+$C$3) -> 0.46 | AO18: =AND('Form Responses 1'!R11>AM18,'Form Responses 1'!R11<AN18) -> TRUE | AP18: =IF(AO18=TRUE,1,0) -> 1 | AQ18: ='Form Responses 1'!G11*(1-$C$3) -> 0.2025 | AR18: ='Form Responses 1'!G11*(1+$C$3) -> 0.3375 | AS18: =AND('Form Responses 1'!S11>AQ18,'Form Responses 1'!S11<AR18) -> TRUE | AT18: =IF(AS18=TRUE,1,0) -> 1 | AU18: =('Form Responses 1'!K11+'Form Responses 1'!P11)*(1-$C$3) -> 0.17175 | AV18: =('Form Responses 1'!K11+'Form Responses 1'!P11)*(1+$C$3) -> 0.28625 | AW18: =AND('Form Responses 1'!T11>AU18,'Form Responses 1'!T11<AV18) -> TRUE | AX18: =IF(AW18=TRUE,1,0) -> 1 | AY18: =('Form Responses 1'!L11+'Form Responses 1'!Q11)*(1-$C$3) -> 0.07875 | AZ18: =('Form Responses 1'!L11+'Form Responses 1'!Q11)*(1+$C$3) -> 0.13125 | BA18: =AND('Form Responses 1'!U11>AY18,'Form Responses 1'!U11<AZ18) -> TRUE | BB18: =IF(BA18=TRUE,1,0) -> 1 | BC18: =('Form Responses 1'!R11-'Form Responses 1'!T11)/'Form Responses 1'!R11*100 -> 37.771739 | BD18: =IF(AND(BC18>=20,'Form Responses 1'!V11=$BC$1)=TRUE,1,0) -> 1 | BE18: =IF(AND(BC18>=0,BC18<=20,'Form Responses 1'!V11=$BC$2)=TRUE,1,0) -> 0 | BF18: =IF(AND(BC18<0)=TRUE,-1,0) -> 0 | BG18: =SUM(BD18:BF18) -> 1 | BH18: =('Form Responses 1'!S11-'Form Responses 1'!U11)/'Form Responses 1'!S11*100 -> 61.111111 | BI18: =IF(AND(BH18>=20,'Form Responses 1'!W11=$BH$1)=TRUE,1,0) -> 1 | BJ18: =IF(AND(BH18>=0,BH18<=20,'Form Responses 1'!W11=$BH$2)=TRUE,1,0) -> 0 | BK18: =IF(AND(BH18<0)=TRUE,-1,0) -> 0 | BL18: =SUM(BI18:BK18) -> 1
A19: ='Form Responses 1'!B12 -> Student 10 | B19: =(F19+J19+N19)+(R19+V19+Z19)+(AD19+AH19+AL19)+(AP19+AT19+AX19+BB19)+(BG19+BL19) -> #DIV/0! | C19: ='Form Responses 1'!C12/'Form Responses 1'!D12*(1-$C$3) -> 1.1029412 | D19: ='Form Responses 1'!C12/'Form Responses 1'!D12*(1+$C$3) -> 1.8382353 | E19: =AND('Form Responses 1'!E12>C19,'Form Responses 1'!E12<D19) -> TRUE | F19: =IF(E19=TRUE,1,0) -> 1 | G19: ='Form Responses 1'!E12*$E$3*(1-$C$3) -> 0.2757375 | H19: ='Form Responses 1'!E12*$E$3*(1+$C$3) -> 0.4595625 | I19: =AND('Form Responses 1'!F12>G19,'Form Responses 1'!F12<H19) -> TRUE | J19: =IF(I19=TRUE,1,0) -> 1 | K19: =0.5*$E$3*'Form Responses 1'!E12*'Form Responses 1'!E12*(1-$C$3) -> 0.20274978 | L19: =0.5*$E$3*'Form Responses 1'!E12*'Form Responses 1'!E12*(1+$C$3) -> 0.33791631 | M19: =AND('Form Responses 1'!G12>K19,'Form Responses 1'!G12<L19) -> TRUE | N19: =IF(M19=TRUE,1,0) -> 1 | O19: ='Form Responses 1'!H12/'Form Responses 1'!I12*(1-$C$3) -> #DIV/0! | P19: ='Form Responses 1'!H12/'Form Responses 1'!I12*(1+$C$3) -> #DIV/0! | Q19: =AND('Form Responses 1'!J12>O19,'Form Responses 1'!J12<P19) -> #DIV/0! | R19: =IF(Q19=TRUE,1,0) -> #DIV/0! | S19: ='Form Responses 1'!J12*$E$3*(1-$C$3) -> 0 | T19: ='Form Responses 1'!J12*$E$3*(1+$C$3) -> 0 | U19: =AND('Form Responses 1'!K12>S19,'Form Responses 1'!K12<T19) -> FALSE | V19: =IF(U19=TRUE,1,0) -> 0 | W19: =0.5*$E$3*'Form Responses 1'!J12*'Form Responses 1'!J12*(1-$C$3) -> 0 | X19: =0.5*$E$3*'Form Responses 1'!J12*'Form Responses 1'!J12*(1+$C$3) -> 0 | Y19: =AND('Form Responses 1'!L12>W19,'Form Responses 1'!L12<X19) -> FALSE | Z19: =IF(Y19=TRUE,1,0) -> 0 | AA19: ='Form Responses 1'!M12/'Form Responses 1'!N12*(1-$C$3) -> 0.70333333 | AB19: ='Form Responses 1'!M12/'Form Responses 1'!N12*(1+$C$3) -> 1.1722222 | AC19: =AND('Form Responses 1'!O12>AA19,'Form Responses 1'!O12<AB19) -> TRUE | AD19: =IF(AC19=TRUE,1,0) -> 1 | AE19: ='Form Responses 1'!O12*$E$4*(1-$C$3) -> 0.1758375 | AF19: ='Form Responses 1'!O12*$E$4*(1+$C$3) -> 0.2930625 | AG19: =AND('Form Responses 1'!P12>AE19,'Form Responses 1'!P12<AF19) -> TRUE | AH19: =IF(AG19=TRUE,1,0) -> 1 | AI19: =0.5*$E$4*'Form Responses 1'!O12*'Form Responses 1'!O12*(1-$C$3) -> 0.082450204 | AJ19: =0.5*$E$4*'Form Responses 1'!O12*'Form Responses 1'!O12*(1+$C$3) -> 0.13741701 | AK19: =AND('Form Responses 1'!Q12>AI19,'Form Responses 1'!Q12<AJ19) -> TRUE | AL19: =IF(AK19=TRUE,1,0) -> 1 | AM19: ='Form Responses 1'!F12*(1-$C$3) -> 0.275775 | AN19: ='Form Responses 1'!F12*(1+$C$3) -> 0.459625 | AO19: =AND('Form Responses 1'!R12>AM19,'Form Responses 1'!R12<AN19) -> TRUE | AP19: =IF(AO19=TRUE,1,0) -> 1 | AQ19: ='Form Responses 1'!G12*(1-$C$3) -> 0.202725 | AR19: ='Form Responses 1'!G12*(1+$C$3) -> 0.337875 | AS19: =AND('Form Responses 1'!S12>AQ19,'Form Responses 1'!S12<AR19) -> TRUE | AT19: =IF(AS19=TRUE,1,0) -> 1 | AU19: =('Form Responses 1'!K12+'Form Responses 1'!P12)*(1-$C$3) -> 0.1758 | AV19: =('Form Responses 1'!K12+'Form Responses 1'!P12)*(1+$C$3) -> 0.293 | AW19: =AND('Form Responses 1'!T12>AU19,'Form Responses 1'!T12<AV19) -> TRUE | AX19: =IF(AW19=TRUE,1,0) -> 1 | AY19: =('Form Responses 1'!L12+'Form Responses 1'!Q12)*(1-$C$3) -> 0.078975 | AZ19: =('Form Responses 1'!L12+'Form Responses 1'!Q12)*(1+$C$3) -> 0.131625 | BA19: =AND('Form Responses 1'!U12>AY19,'Form Responses 1'!U12<AZ19) -> TRUE | BB19: =IF(BA19=TRUE,1,0) -> 1 | BC19: =('Form Responses 1'!R12-'Form Responses 1'!T12)/'Form Responses 1'!R12*100 -> 36.25238 | BD19: =IF(AND(BC19>=20,'Form Responses 1'!V12=$BC$1)=TRUE,1,0) -> 1 | BE19: =IF(AND(BC19>=0,BC19<=20,'Form Responses 1'!V12=$BC$2)=TRUE,1,0) -> 0 | BF19: =IF(AND(BC19<0)=TRUE,-1,0) -> 0 | BG19: =SUM(BD19:BF19) -> 1 | BH19: =('Form Responses 1'!S12-'Form Responses 1'!U12)/'Form Responses 1'!S12*100 -> 61.043285 | BI19: =IF(AND(BH19>=20,'Form Responses 1'!W12=$BH$1)=TRUE,1,0) -> 1 | BJ19: =IF(AND(BH19>=0,BH19<=20,'Form Responses 1'!W12=$BH$2)=TRUE,1,0) -> 0 | BK19: =IF(AND(BH19<0)=TRUE,-1,0) -> 0 | BL19: =SUM(BI19:BK19) -> 1
A20: ='Form Responses 1'!B13 -> Student 11 | B20: =(F20+J20+N20)+(R20+V20+Z20)+(AD20+AH20+AL20)+(AP20+AT20+AX20+BB20)+(BG20+BL20) -> 15 | C20: ='Form Responses 1'!C13/'Form Responses 1'!D13*(1-$C$3) -> 0.75 | D20: ='Form Responses 1'!C13/'Form Responses 1'!D13*(1+$C$3) -> 1.25 | E20: =AND('Form Responses 1'!E13>C20,'Form Responses 1'!E13<D20) -> TRUE | F20: =IF(E20=TRUE,1,0) -> 1 | G20: ='Form Responses 1'!E13*$E$3*(1-$C$3) -> 0.1875 | H20: ='Form Responses 1'!E13*$E$3*(1+$C$3) -> 0.3125 | I20: =AND('Form Responses 1'!F13>G20,'Form Responses 1'!F13<H20) -> TRUE | J20: =IF(I20=TRUE,1,0) -> 1 | K20: =0.5*$E$3*'Form Responses 1'!E13*'Form Responses 1'!E13*(1-$C$3) -> 0.09375 | L20: =0.5*$E$3*'Form Responses 1'!E13*'Form Responses 1'!E13*(1+$C$3) -> 0.15625 | M20: =AND('Form Responses 1'!G13>K20,'Form Responses 1'!G13<L20) -> TRUE | N20: =IF(M20=TRUE,1,0) -> 1 | O20: ='Form Responses 1'!H13/'Form Responses 1'!I13*(1-$C$3) -> 0.0375 | P20: ='Form Responses 1'!H13/'Form Responses 1'!I13*(1+$C$3) -> 0.0625 | Q20: =AND('Form Responses 1'!J13>O20,'Form Responses 1'!J13<P20) -> TRUE | R20: =IF(Q20=TRUE,1,0) -> 1 | S20: ='Form Responses 1'!J13*$E$3*(1-$C$3) -> 0.009375 | T20: ='Form Responses 1'!J13*$E$3*(1+$C$3) -> 0.015625 | U20: =AND('Form Responses 1'!K13>S20,'Form Responses 1'!K13<T20) -> TRUE | V20: =IF(U20=TRUE,1,0) -> 1 | W20: =0.5*$E$3*'Form Responses 1'!J13*'Form Responses 1'!J13*(1-$C$3) -> 0.000234375 | X20: =0.5*$E$3*'Form Responses 1'!J13*'Form Responses 1'!J13*(1+$C$3) -> 0.000390625 | Y20: =AND('Form Responses 1'!L13>W20,'Form Responses 1'!L13<X20) -> TRUE | Z20: =IF(Y20=TRUE,1,0) -> 1 | AA20: ='Form Responses 1'!M13/'Form Responses 1'!N13*(1-$C$3) -> 0.7125 | AB20: ='Form Responses 1'!M13/'Form Responses 1'!N13*(1+$C$3) -> 1.1875 | AC20: =AND('Form Responses 1'!O13>AA20,'Form Responses 1'!O13<AB20) -> TRUE | AD20: =IF(AC20=TRUE,1,0) -> 1 | AE20: ='Form Responses 1'!O13*$E$4*(1-$C$3) -> 0.178125 | AF20: ='Form Responses 1'!O13*$E$4*(1+$C$3) -> 0.296875 | AG20: =AND('Form Responses 1'!P13>AE20,'Form Responses 1'!P13<AF20) -> TRUE | AH20: =IF(AG20=TRUE,1,0) -> 1 | AI20: =0.5*$E$4*'Form Responses 1'!O13*'Form Responses 1'!O13*(1-$C$3) -> 0.084609375 | AJ20: =0.5*$E$4*'Form Responses 1'!O13*'Form Responses 1'!O13*(1+$C$3) -> 0.14101563 | AK20: =AND('Form Responses 1'!Q13>AI20,'Form Responses 1'!Q13<AJ20) -> TRUE | AL20: =IF(AK20=TRUE,1,0) -> 1 | AM20: ='Form Responses 1'!F13*(1-$C$3) -> 0.1875 | AN20: ='Form Responses 1'!F13*(1+$C$3) -> 0.3125 | AO20: =AND('Form Responses 1'!R13>AM20,'Form Responses 1'!R13<AN20) -> TRUE | AP20: =IF(AO20=TRUE,1,0) -> 1 | AQ20: ='Form Responses 1'!G13*(1-$C$3) -> 0.0975 | AR20: ='Form Responses 1'!G13*(1+$C$3) -> 0.1625 | AS20: =AND('Form Responses 1'!S13>AQ20,'Form Responses 1'!S13<AR20) -> TRUE | AT20: =IF(AS20=TRUE,1,0) -> 1 | AU20: =('Form Responses 1'!K13+'Form Responses 1'!P13)*(1-$C$3) -> 0.1875 | AV20: =('Form Responses 1'!K13+'Form Responses 1'!P13)*(1+$C$3) -> 0.3125 | AW20: =AND('Form Responses 1'!T13>AU20,'Form Responses 1'!T13<AV20) -> TRUE | AX20: =IF(AW20=TRUE,1,0) -> 1 | AY20: =('Form Responses 1'!L13+'Form Responses 1'!Q13)*(1-$C$3) -> 0.084825 | AZ20: =('Form Responses 1'!L13+'Form Responses 1'!Q13)*(1+$C$3) -> 0.141375 | BA20: =AND('Form Responses 1'!U13>AY20,'Form Responses 1'!U13<AZ20) -> TRUE | BB20: =IF(BA20=TRUE,1,0) -> 1 | BC20: =('Form Responses 1'!R13-'Form Responses 1'!T13)/'Form Responses 1'!R13*100 -> 0 | BD20: =IF(AND(BC20>=20,'Form Responses 1'!V13=$BC$1)=TRUE,1,0) -> 0 | BE20: =IF(AND(BC20>=0,BC20<=20,'Form Responses 1'!V13=$BC$2)=TRUE,1,0) -> 1 | BF20: =IF(AND(BC20<0)=TRUE,-1,0) -> 0 | BG20: =SUM(BD20:BF20) -> 1 | BH20: =('Form Responses 1'!S13-'Form Responses 1'!U13)/'Form Responses 1'!S13*100 -> 15.384615 | BI20: =IF(AND(BH20>=20,'Form Responses 1'!W13=$BH$1)=TRUE,1,0) -> 0 | BJ20: =IF(AND(BH20>=0,BH20<=20,'Form Responses 1'!W13=$BH$2)=TRUE,1,0) -> 1 | BK20: =IF(AND(BH20<0)=TRUE,-1,0) -> 0 | BL20: =SUM(BI20:BK20) -> 1
A21: ='Form Responses 1'!B14 -> Student 12 | B21: =(F21+J21+N21)+(R21+V21+Z21)+(AD21+AH21+AL21)+(AP21+AT21+AX21+BB21)+(BG21+BL21) -> 15 | C21: ='Form Responses 1'!C14/'Form Responses 1'!D14*(1-$C$3) -> 0.75 | D21: ='Form Responses 1'!C14/'Form Responses 1'!D14*(1+$C$3) -> 1.25 | E21: =AND('Form Responses 1'!E14>C21,'Form Responses 1'!E14<D21) -> TRUE | F21: =IF(E21=TRUE,1,0) -> 1 | G21: ='Form Responses 1'!E14*$E$3*(1-$C$3) -> 0.1875 | H21: ='Form Responses 1'!E14*$E$3*(1+$C$3) -> 0.3125 | I21: =AND('Form Responses 1'!F14>G21,'Form Responses 1'!F14<H21) -> TRUE | J21: =IF(I21=TRUE,1,0) -> 1 | K21: =0.5*$E$3*'Form Responses 1'!E14*'Form Responses 1'!E14*(1-$C$3) -> 0.09375 | L21: =0.5*$E$3*'Form Responses 1'!E14*'Form Responses 1'!E14*(1+$C$3) -> 0.15625 | M21: =AND('Form Responses 1'!G14>K21,'Form Responses 1'!G14<L21) -> TRUE | N21: =IF(M21=TRUE,1,0) -> 1 | O21: ='Form Responses 1'!H14/'Form Responses 1'!I14*(1-$C$3) -> 0.0375 | P21: ='Form Responses 1'!H14/'Form Responses 1'!I14*(1+$C$3) -> 0.0625 | Q21: =AND('Form Responses 1'!J14>O21,'Form Responses 1'!J14<P21) -> TRUE | R21: =IF(Q21=TRUE,1,0) -> 1 | S21: ='Form Responses 1'!J14*$E$3*(1-$C$3) -> 0.009375 | T21: ='Form Responses 1'!J14*$E$3*(1+$C$3) -> 0.015625 | U21: =AND('Form Responses 1'!K14>S21,'Form Responses 1'!K14<T21) -> TRUE | V21: =IF(U21=TRUE,1,0) -> 1 | W21: =0.5*$E$3*'Form Responses 1'!J14*'Form Responses 1'!J14*(1-$C$3) -> 0.000234375 | X21: =0.5*$E$3*'Form Responses 1'!J14*'Form Responses 1'!J14*(1+$C$3) -> 0.000390625 | Y21: =AND('Form Responses 1'!L14>W21,'Form Responses 1'!L14<X21) -> TRUE | Z21: =IF(Y21=TRUE,1,0) -> 1 | AA21: ='Form Responses 1'!M14/'Form Responses 1'!N14*(1-$C$3) -> 0.7125 | AB21: ='Form Responses 1'!M14/'Form Responses 1'!N14*(1+$C$3) -> 1.1875 | AC21: =AND('Form Responses 1'!O14>AA21,'Form Responses 1'!O14<AB21) -> TRUE | AD21: =IF(AC21=TRUE,1,0) -> 1 | AE21: ='Form Responses 1'!O14*$E$4*(1-$C$3) -> 0.178125 | AF21: ='Form Responses 1'!O14*$E$4*(1+$C$3) -> 0.296875 | AG21: =AND('Form Responses 1'!P14>AE21,'Form Responses 1'!P14<AF21) -> TRUE | AH21: =IF(AG21=TRUE,1,0) -> 1 | AI21: =0.5*$E$4*'Form Responses 1'!O14*'Form Responses 1'!O14*(1-$C$3) -> 0.084609375 | AJ21: =0.5*$E$4*'Form Responses 1'!O14*'Form Responses 1'!O14*(1+$C$3) -> 0.14101563 | AK21: =AND('Form Responses 1'!Q14>AI21,'Form Responses 1'!Q14<AJ21) -> TRUE | AL21: =IF(AK21=TRUE,1,0) -> 1 | AM21: ='Form Responses 1'!F14*(1-$C$3) -> 0.1875 | AN21: ='Form Responses 1'!F14*(1+$C$3) -> 0.3125 | AO21: =AND('Form Responses 1'!R14>AM21,'Form Responses 1'!R14<AN21) -> TRUE | AP21: =IF(AO21=TRUE,1,0) -> 1 | AQ21: ='Form Responses 1'!G14*(1-$C$3) -> 0.0975 | AR21: ='Form Responses 1'!G14*(1+$C$3) -> 0.1625 | AS21: =AND('Form Responses 1'!S14>AQ21,'Form Responses 1'!S14<AR21) -> TRUE | AT21: =IF(AS21=TRUE,1,0) -> 1 | AU21: =('Form Responses 1'!K14+'Form Responses 1'!P14)*(1-$C$3) -> 0.1875 | AV21: =('Form Responses 1'!K14+'Form Responses 1'!P14)*(1+$C$3) -> 0.3125 | AW21: =AND('Form Responses 1'!T14>AU21,'Form Responses 1'!T14<AV21) -> TRUE | AX21: =IF(AW21=TRUE,1,0) -> 1 | AY21: =('Form Responses 1'!L14+'Form Responses 1'!Q14)*(1-$C$3) -> 0.084825 | AZ21: =('Form Responses 1'!L14+'Form Responses 1'!Q14)*(1+$C$3) -> 0.141375 | BA21: =AND('Form Responses 1'!U14>AY21,'Form Responses 1'!U14<AZ21) -> TRUE | BB21: =IF(BA21=TRUE,1,0) -> 1 | BC21: =('Form Responses 1'!R14-'Form Responses 1'!T14)/'Form Responses 1'!R14*100 -> 0 | BD21: =IF(AND(BC21>=20,'Form Responses 1'!V14=$BC$1)=TRUE,1,0) -> 0 | BE21: =IF(AND(BC21>=0,BC21<=20,'Form Responses 1'!V14=$BC$2)=TRUE,1,0) -> 1 | BF21: =IF(AND(BC21<0)=TRUE,-1,0) -> 0 | BG21: =SUM(BD21:BF21) -> 1 | BH21: =('Form Responses 1'!S14-'Form Responses 1'!U14)/'Form Responses 1'!S14*100 -> 15.384615 | BI21: =IF(AND(BH21>=20,'Form Responses 1'!W14=$BH$1)=TRUE,1,0) -> 0 | BJ21: =IF(AND(BH21>=0,BH21<=20,'Form Responses 1'!W14=$BH$2)=TRUE,1,0) -> 1 | BK21: =IF(AND(BH21<0)=TRUE,-1,0) -> 0 | BL21: =SUM(BI21:BK21) -> 1
A22: ='Form Responses 1'!B15 -> Student 13 | B22: =(F22+J22+N22)+(R22+V22+Z22)+(AD22+AH22+AL22)+(AP22+AT22+AX22+BB22)+(BG22+BL22) -> 13 | C22: ='Form Responses 1'!C15/'Form Responses 1'!D15*(1-$C$3) -> 0.68807339 | D22: ='Form Responses 1'!C15/'Form Responses 1'!D15*(1+$C$3) -> 1.146789 | E22: =AND('Form Responses 1'!E15>C22,'Form Responses 1'!E15<D22) -> TRUE | F22: =IF(E22=TRUE,1,0) -> 1 | G22: ='Form Responses 1'!E15*$E$3*(1-$C$3) -> 0.1720125 | H22: ='Form Responses 1'!E15*$E$3*(1+$C$3) -> 0.2866875 | I22: =AND('Form Responses 1'!F15>G22,'Form Responses 1'!F15<H22) -> TRUE | J22: =IF(I22=TRUE,1,0) -> 1 | K22: =0.5*$E$3*'Form Responses 1'!E15*'Form Responses 1'!E15*(1-$C$3) -> 0.078902134 | L22: =0.5*$E$3*'Form Responses 1'!E15*'Form Responses 1'!E15*(1+$C$3) -> 0.13150356 | M22: =AND('Form Responses 1'!G15>K22,'Form Responses 1'!G15<L22) -> TRUE | N22: =IF(M22=TRUE,1,0) -> 1 | O22: ='Form Responses 1'!H15/'Form Responses 1'!I15*(1-$C$3) -> #DIV/0! | P22: ='Form Responses 1'!H15/'Form Responses 1'!I15*(1+$C$3) -> #DIV/0! | Q22: TRUE | R22: =IF(Q22=TRUE,1,0) -> 1 | S22: ='Form Responses 1'!J15*$E$3*(1-$C$3) -> 0 | T22: ='Form Responses 1'!J15*$E$3*(1+$C$3) -> 0 | U22: =AND('Form Responses 1'!K15>S22,'Form Responses 1'!K15<T22) -> FALSE | V22: =IF(U22=TRUE,1,0) -> 0 | W22: =0.5*$E$3*'Form Responses 1'!J15*'Form Responses 1'!J15*(1-$C$3) -> 0 | X22: =0.5*$E$3*'Form Responses 1'!J15*'Form Responses 1'!J15*(1+$C$3) -> 0 | Y22: =AND('Form Responses 1'!L15>W22,'Form Responses 1'!L15<X22) -> FALSE | Z22: =IF(Y22=TRUE,1,0) -> 0 | AA22: ='Form Responses 1'!M15/'Form Responses 1'!N15*(1-$C$3) -> 0.50167224 | AB22: ='Form Responses 1'!M15/'Form Responses 1'!N15*(1+$C$3) -> 0.8361204 | AC22: =AND('Form Responses 1'!O15>AA22,'Form Responses 1'!O15<AB22) -> TRUE | AD22: =IF(AC22=TRUE,1,0) -> 1 | AE22: ='Form Responses 1'!O15*$E$4*(1-$C$3) -> 0.12541875 | AF22: ='Form Responses 1'!O15*$E$4*(1+$C$3) -> 0.20903125 | AG22: =AND('Form Responses 1'!P15>AE22,'Form Responses 1'!P15<AF22) -> TRUE | AH22: =IF(AG22=TRUE,1,0) -> 1 | AI22: =0.5*$E$4*'Form Responses 1'!O15*'Form Responses 1'!O15*(1-$C$3) -> 0.041946301 | AJ22: =0.5*$E$4*'Form Responses 1'!O15*'Form Responses 1'!O15*(1+$C$3) -> 0.069910502 | AK22: =AND('Form Responses 1'!Q15>AI22,'Form Responses 1'!Q15<AJ22) -> TRUE | AL22: =IF(AK22=TRUE,1,0) -> 1 | AM22: ='Form Responses 1'!F15*(1-$C$3) -> 0.17205 | AN22: ='Form Responses 1'!F15*(1+$C$3) -> 0.28675 | AO22: =AND('Form Responses 1'!R15>AM22,'Form Responses 1'!R15<AN22) -> TRUE | AP22: =IF(AO22=TRUE,1,0) -> 1 | AQ22: ='Form Responses 1'!G15*(1-$C$3) -> 0.0789 | AR22: ='Form Responses 1'!G15*(1+$C$3) -> 0.1315 | AS22: =AND('Form Responses 1'!S15>AQ22,'Form Responses 1'!S15<AR22) -> TRUE | AT22: =IF(AS22=TRUE,1,0) -> 1 | AU22: =('Form Responses 1'!K15+'Form Responses 1'!P15)*(1-$C$3) -> 0.1254 | AV22: =('Form Responses 1'!K15+'Form Responses 1'!P15)*(1+$C$3) -> 0.209 | AW22: =AND('Form Responses 1'!T15>AU22,'Form Responses 1'!T15<AV22) -> TRUE | AX22: =IF(AW22=TRUE,1,0) -> 1 | AY22: =('Form Responses 1'!L15+'Form Responses 1'!Q15)*(1-$C$3) -> 0.041925 | AZ22: =('Form Responses 1'!L15+'Form Responses 1'!Q15)*(1+$C$3) -> 0.069875 | BA22: =AND('Form Responses 1'!U15>AY22,'Form Responses 1'!U15<AZ22) -> TRUE | BB22: =IF(BA22=TRUE,1,0) -> 1 | BC22: =('Form Responses 1'!R15-'Form Responses 1'!T15)/'Form Responses 1'!R15*100 -> 27.114211 | BD22: =IF(AND(BC22>=20,'Form Responses 1'!V15=$BC$1)=TRUE,1,0) -> 1 | BE22: =IF(AND(BC22>=0,BC22<=20,'Form Responses 1'!V15=$BC$2)=TRUE,1,0) -> 0 | BF22: =IF(AND(BC22<0)=TRUE,-1,0) -> 0 | BG22: =SUM(BD22:BF22) -> 1 | BH22: =('Form Responses 1'!S15-'Form Responses 1'!U15)/'Form Responses 1'!S15*100 -> 46.863118 | BI22: =IF(AND(BH22>=20,'Form Responses 1'!W15=$BH$1)=TRUE,1,0) -> 1 | BJ22: =IF(AND(BH22>=0,BH22<=20,'Form Responses 1'!W15=$BH$2)=TRUE,1,0) -> 0 | BK22: =IF(AND(BH22<0)=TRUE,-1,0) -> 0 | BL22: =SUM(BI22:BK22) -> 1
A23: ='Form Responses 1'!B16 -> Student 14 | B23: =(F23+J23+N23)+(R23+V23+Z23)+(AD23+AH23+AL23)+(AP23+AT23+AX23+BB23)+(BG23+BL23) -> 11 | C23: ='Form Responses 1'!C16/'Form Responses 1'!D16*(1-$C$3) -> 0.68807339 | D23: ='Form Responses 1'!C16/'Form Responses 1'!D16*(1+$C$3) -> 1.146789 | E23: =AND('Form Responses 1'!E16>C23,'Form Responses 1'!E16<D23) -> TRUE | F23: =IF(E23=TRUE,1,0) -> 1 | G23: ='Form Responses 1'!E16*$E$3*(1-$C$3) -> 0.17201812 | H23: ='Form Responses 1'!E16*$E$3*(1+$C$3) -> 0.28669687 | I23: =AND('Form Responses 1'!F16>G23,'Form Responses 1'!F16<H23) -> TRUE | J23: =IF(I23=TRUE,1,0) -> 1 | K23: =0.5*$E$3*'Form Responses 1'!E16*'Form Responses 1'!E16*(1-$C$3) -> 0.078907294 | L23: =0.5*$E$3*'Form Responses 1'!E16*'Form Responses 1'!E16*(1+$C$3) -> 0.13151216 | M23: =AND('Form Responses 1'!G16>K23,'Form Responses 1'!G16<L23) -> FALSE | N23: =IF(M23=TRUE,1,0) -> 0 | O23: ='Form Responses 1'!H16/'Form Responses 1'!I16*(1-$C$3) -> #DIV/0! | P23: ='Form Responses 1'!H16/'Form Responses 1'!I16*(1+$C$3) -> #DIV/0! | Q23: TRUE | R23: =IF(Q23=TRUE,1,0) -> 1 | S23: ='Form Responses 1'!J16*$E$3*(1-$C$3) -> 0 | T23: ='Form Responses 1'!J16*$E$3*(1+$C$3) -> 0 | U23: =AND('Form Responses 1'!K16>S23,'Form Responses 1'!K16<T23) -> FALSE | V23: =IF(U23=TRUE,1,0) -> 0 | W23: =0.5*$E$3*'Form Responses 1'!J16*'Form Responses 1'!J16*(1-$C$3) -> 0 | X23: =0.5*$E$3*'Form Responses 1'!J16*'Form Responses 1'!J16*(1+$C$3) -> 0 | Y23: =AND('Form Responses 1'!L16>W23,'Form Responses 1'!L16<X23) -> FALSE | Z23: =IF(Y23=TRUE,1,0) -> 0 | AA23: ='Form Responses 1'!M16/'Form Responses 1'!N16*(1-$C$3) -> 0.50167224 | AB23: ='Form Responses 1'!M16/'Form Responses 1'!N16*(1+$C$3) -> 0.8361204 | AC23: =AND('Form Responses 1'!O16>AA23,'Form Responses 1'!O16<AB23) -> TRUE | AD23: =IF(AC23=TRUE,1,0) -> 1 | AE23: ='Form Responses 1'!O16*$E$4*(1-$C$3) -> 0.12541875 | AF23: ='Form Responses 1'!O16*$E$4*(1+$C$3) -> 0.20903125 | AG23: =AND('Form Responses 1'!P16>AE23,'Form Responses 1'!P16<AF23) -> TRUE | AH23: =IF(AG23=TRUE,1,0) -> 1 | AI23: =0.5*$E$4*'Form Responses 1'!O16*'Form Responses 1'!O16*(1-$C$3) -> 0.041946301 | AJ23: =0.5*$E$4*'Form Responses 1'!O16*'Form Responses 1'!O16*(1+$C$3) -> 0.069910502 | AK23: =AND('Form Responses 1'!Q16>AI23,'Form Responses 1'!Q16<AJ23) -> FALSE | AL23: =IF(AK23=TRUE,1,0) -> 0 | AM23: ='Form Responses 1'!F16*(1-$C$3) -> 0.17202 | AN23: ='Form Responses 1'!F16*(1+$C$3) -> 0.2867 | AO23: =AND('Form Responses 1'!R16>AM23,'Form Responses 1'!R16<AN23) -> TRUE | AP23: =IF(AO23=TRUE,1,0) -> 1 | AQ23: ='Form Responses 1'!G16*(1-$C$3) -> 78.9075 | AR23: ='Form Responses 1'!G16*(1+$C$3) -> 131.5125 | AS23: =AND('Form Responses 1'!S16>AQ23,'Form Responses 1'!S16<AR23) -> TRUE | AT23: =IF(AS23=TRUE,1,0) -> 1 | AU23: =('Form Responses 1'!K16+'Form Responses 1'!P16)*(1-$C$3) -> 0.125418 | AV23: =('Form Responses 1'!K16+'Form Responses 1'!P16)*(1+$C$3) -> 0.20903 | AW23: =AND('Form Responses 1'!T16>AU23,'Form Responses 1'!T16<AV23) -> TRUE | AX23: =IF(AW23=TRUE,1,0) -> 1 | AY23: =('Form Responses 1'!L16+'Form Responses 1'!Q16)*(1-$C$3) -> 41.946 | AZ23: =('Form Responses 1'!L16+'Form Responses 1'!Q16)*(1+$C$3) -> 69.91 | BA23: =AND('Form Responses 1'!U16>AY23,'Form Responses 1'!U16<AZ23) -> TRUE | BB23: =IF(BA23=TRUE,1,0) -> 1 | BC23: =('Form Responses 1'!R16-'Form Responses 1'!T16)/'Form Responses 1'!R16*100 -> 27.091036 | BD23: =IF(AND(BC23>=20,'Form Responses 1'!V16=$BC$1)=TRUE,1,0) -> 1 | BE23: =IF(AND(BC23>=0,BC23<=20,'Form Responses 1'!V16=$BC$2)=TRUE,1,0) -> 0 | BF23: =IF(AND(BC23<0)=TRUE,-1,0) -> 0 | BG23: =SUM(BD23:BF23) -> 1 | BH23: =('Form Responses 1'!S16-'Form Responses 1'!U16)/'Form Responses 1'!S16*100 -> 46.841555 | BI23: =IF(AND(BH23>=20,'Form Responses 1'!W16=$BH$1)=TRUE,1,0) -> 1 | BJ23: =IF(AND(BH23>=0,BH23<=20,'Form Responses 1'!W16=$BH$2)=TRUE,1,0) -> 0 | BK23: =IF(AND(BH23<0)=TRUE,-1,0) -> 0 | BL23: =SUM(BI23:BK23) -> 1
A24: ='Form Responses 1'!B17 -> Student 15 | B24: =(F24+J24+N24)+(R24+V24+Z24)+(AD24+AH24+AL24)+(AP24+AT24+AX24+BB24)+(BG24+BL24) -> 13 | C24: ='Form Responses 1'!C17/'Form Responses 1'!D17*(1-$C$3) -> 0.68807339 | D24: ='Form Responses 1'!C17/'Form Responses 1'!D17*(1+$C$3) -> 1.146789 | E24: =AND('Form Responses 1'!E17>C24,'Form Responses 1'!E17<D24) -> TRUE | F24: =IF(E24=TRUE,1,0) -> 1 | G24: ='Form Responses 1'!E17*$E$3*(1-$C$3) -> 0.1719375 | H24: ='Form Responses 1'!E17*$E$3*(1+$C$3) -> 0.2865625 | I24: =AND('Form Responses 1'!F17>G24,'Form Responses 1'!F17<H24) -> TRUE | J24: =IF(I24=TRUE,1,0) -> 1 | K24: =0.5*$E$3*'Form Responses 1'!E17*'Form Responses 1'!E17*(1-$C$3) -> 0.078833344 | L24: =0.5*$E$3*'Form Responses 1'!E17*'Form Responses 1'!E17*(1+$C$3) -> 0.13138891 | M24: =AND('Form Responses 1'!G17>K24,'Form Responses 1'!G17<L24) -> TRUE | N24: =IF(M24=TRUE,1,0) -> 1 | O24: ='Form Responses 1'!H17/'Form Responses 1'!I17*(1-$C$3) -> #DIV/0! | P24: ='Form Responses 1'!H17/'Form Responses 1'!I17*(1+$C$3) -> #DIV/0! | Q24: TRUE | R24: =IF(Q24=TRUE,1,0) -> 1 | S24: ='Form Responses 1'!J17*$E$3*(1-$C$3) -> 0 | T24: ='Form Responses 1'!J17*$E$3*(1+$C$3) -> 0 | U24: =AND('Form Responses 1'!K17>S24,'Form Responses 1'!K17<T24) -> FALSE | V24: =IF(U24=TRUE,1,0) -> 0 | W24: =0.5*$E$3*'Form Responses 1'!J17*'Form Responses 1'!J17*(1-$C$3) -> 0 | X24: =0.5*$E$3*'Form Responses 1'!J17*'Form Responses 1'!J17*(1+$C$3) -> 0 | Y24: =AND('Form Responses 1'!L17>W24,'Form Responses 1'!L17<X24) -> FALSE | Z24: =IF(Y24=TRUE,1,0) -> 0 | AA24: ='Form Responses 1'!M17/'Form Responses 1'!N17*(1-$C$3) -> 0.50167224 | AB24: ='Form Responses 1'!M17/'Form Responses 1'!N17*(1+$C$3) -> 0.8361204 | AC24: =AND('Form Responses 1'!O17>AA24,'Form Responses 1'!O17<AB24) -> TRUE | AD24: =IF(AC24=TRUE,1,0) -> 1 | AE24: ='Form Responses 1'!O17*$E$4*(1-$C$3) -> 0.1254375 | AF24: ='Form Responses 1'!O17*$E$4*(1+$C$3) -> 0.2090625 | AG24: =AND('Form Responses 1'!P17>AE24,'Form Responses 1'!P17<AF24) -> TRUE | AH24: =IF(AG24=TRUE,1,0) -> 1 | AI24: =0.5*$E$4*'Form Responses 1'!O17*'Form Responses 1'!O17*(1-$C$3) -> 0.041958844 | AJ24: =0.5*$E$4*'Form Responses 1'!O17*'Form Responses 1'!O17*(1+$C$3) -> 0.069931406 | AK24: =AND('Form Responses 1'!Q17>AI24,'Form Responses 1'!Q17<AJ24) -> TRUE | AL24: =IF(AK24=TRUE,1,0) -> 1 | AM24: ='Form Responses 1'!F17*(1-$C$3) -> 0.17205 | AN24: ='Form Responses 1'!F17*(1+$C$3) -> 0.28675 | AO24: =AND('Form Responses 1'!R17>AM24,'Form Responses 1'!R17<AN24) -> TRUE | AP24: =IF(AO24=TRUE,1,0) -> 1 | AQ24: ='Form Responses 1'!G17*(1-$C$3) -> 0.0789 | AR24: ='Form Responses 1'!G17*(1+$C$3) -> 0.1315 | AS24: =AND('Form Responses 1'!S17>AQ24,'Form Responses 1'!S17<AR24) -> TRUE | AT24: =IF(AS24=TRUE,1,0) -> 1 | AU24: =('Form Responses 1'!K17+'Form Responses 1'!P17)*(1-$C$3) -> 0.1254 | AV24: =('Form Responses 1'!K17+'Form Responses 1'!P17)*(1+$C$3) -> 0.209 | AW24: =AND('Form Responses 1'!T17>AU24,'Form Responses 1'!T17<AV24) -> TRUE | AX24: =IF(AW24=TRUE,1,0) -> 1 | AY24: =('Form Responses 1'!L17+'Form Responses 1'!Q17)*(1-$C$3) -> 0.042 | AZ24: =('Form Responses 1'!L17+'Form Responses 1'!Q17)*(1+$C$3) -> 0.07 | BA24: =AND('Form Responses 1'!U17>AY24,'Form Responses 1'!U17<AZ24) -> TRUE | BB24: =IF(BA24=TRUE,1,0) -> 1 | BC24: =('Form Responses 1'!R17-'Form Responses 1'!T17)/'Form Responses 1'!R17*100 -> 27.114211 | BD24: =IF(AND(BC24>=20,'Form Responses 1'!V17=$BC$1)=TRUE,1,0) -> 1 | BE24: =IF(AND(BC24>=0,BC24<=20,'Form Responses 1'!V17=$BC$2)=TRUE,1,0) -> 0 | BF24: =IF(AND(BC24<0)=TRUE,-1,0) -> 0 | BG24: =SUM(BD24:BF24) -> 1 | BH24: =('Form Responses 1'!S17-'Form Responses 1'!U17)/'Form Responses 1'!S17*100 -> 46.768061 | BI24: =IF(AND(BH24>=20,'Form Responses 1'!W17=$BH$1)=TRUE,1,0) -> 1 | BJ24: =IF(AND(BH24>=0,BH24<=20,'Form Responses 1'!W17=$BH$2)=TRUE,1,0) -> 0 | BK24: =IF(AND(BH24<0)=TRUE,-1,0) -> 0 | BL24: =SUM(BI24:BK24) -> 1
A25: ='Form Responses 1'!B18 -> Student 16 | B25: =(F25+J25+N25)+(R25+V25+Z25)+(AD25+AH25+AL25)+(AP25+AT25+AX25+BB25)+(BG25+BL25) -> 15 | C25: ='Form Responses 1'!C18/'Form Responses 1'!D18*(1-$C$3) -> 0.54744526 | D25: ='Form Responses 1'!C18/'Form Responses 1'!D18*(1+$C$3) -> 0.91240876 | E25: =AND('Form Responses 1'!E18>C25,'Form Responses 1'!E18<D25) -> TRUE | F25: =IF(E25=TRUE,1,0) -> 1 | G25: ='Form Responses 1'!E18*$E$3*(1-$C$3) -> 0.13685625 | H25: ='Form Responses 1'!E18*$E$3*(1+$C$3) -> 0.22809375 | I25: =AND('Form Responses 1'!F18>G25,'Form Responses 1'!F18<H25) -> TRUE | J25: =IF(I25=TRUE,1,0) -> 1 | K25: =0.5*$E$3*'Form Responses 1'!E18*'Form Responses 1'!E18*(1-$C$3) -> 0.049945688 | L25: =0.5*$E$3*'Form Responses 1'!E18*'Form Responses 1'!E18*(1+$C$3) -> 0.083242814 | M25: =AND('Form Responses 1'!G18>K25,'Form Responses 1'!G18<L25) -> TRUE | N25: =IF(M25=TRUE,1,0) -> 1 | O25: ='Form Responses 1'!H18/'Form Responses 1'!I18*(1-$C$3) -> 0.076013514 | P25: ='Form Responses 1'!H18/'Form Responses 1'!I18*(1+$C$3) -> 0.12668919 | Q25: =AND('Form Responses 1'!J18>O25,'Form Responses 1'!J18<P25) -> TRUE | R25: =IF(Q25=TRUE,1,0) -> 1 | S25: ='Form Responses 1'!J18*$E$3*(1-$C$3) -> 0.019003125 | T25: ='Form Responses 1'!J18*$E$3*(1+$C$3) -> 0.031671875 | U25: =AND('Form Responses 1'!K18>S25,'Form Responses 1'!K18<T25) -> TRUE | V25: =IF(U25=TRUE,1,0) -> 1 | W25: =0.5*$E$3*'Form Responses 1'!J18*'Form Responses 1'!J18*(1-$C$3) -> 0.00096298336 | X25: =0.5*$E$3*'Form Responses 1'!J18*'Form Responses 1'!J18*(1+$C$3) -> 0.0016049723 | Y25: =AND('Form Responses 1'!L18>W25,'Form Responses 1'!L18<X25) -> TRUE | Z25: =IF(Y25=TRUE,1,0) -> 1 | AA25: ='Form Responses 1'!M18/'Form Responses 1'!N18*(1-$C$3) -> 0.45045045 | AB25: ='Form Responses 1'!M18/'Form Responses 1'!N18*(1+$C$3) -> 0.75075075 | AC25: =AND('Form Responses 1'!O18>AA25,'Form Responses 1'!O18<AB25) -> TRUE | AD25: =IF(AC25=TRUE,1,0) -> 1 | AE25: ='Form Responses 1'!O18*$E$4*(1-$C$3) -> 0.11261261 | AF25: ='Form Responses 1'!O18*$E$4*(1+$C$3) -> 0.18768769 | AG25: =AND('Form Responses 1'!P18>AE25,'Form Responses 1'!P18<AF25) -> TRUE | AH25: =IF(AG25=TRUE,1,0) -> 1 | AI25: =0.5*$E$4*'Form Responses 1'!O18*'Form Responses 1'!O18*(1-$C$3) -> 0.033817601 | AJ25: =0.5*$E$4*'Form Responses 1'!O18*'Form Responses 1'!O18*(1+$C$3) -> 0.056362669 | AK25: =AND('Form Responses 1'!Q18>AI25,'Form Responses 1'!Q18<AJ25) -> TRUE | AL25: =IF(AK25=TRUE,1,0) -> 1 | AM25: ='Form Responses 1'!F18*(1-$C$3) -> 0.136875 | AN25: ='Form Responses 1'!F18*(1+$C$3) -> 0.228125 | AO25: =AND('Form Responses 1'!R18>AM25,'Form Responses 1'!R18<AN25) -> TRUE | AP25: =IF(AO25=TRUE,1,0) -> 1 | AQ25: ='Form Responses 1'!G18*(1-$C$3) -> 0.0499425 | AR25: ='Form Responses 1'!G18*(1+$C$3) -> 0.0832375 | AS25: =AND('Form Responses 1'!S18>AQ25,'Form Responses 1'!S18<AR25) -> TRUE | AT25: =IF(AS25=TRUE,1,0) -> 1 | AU25: =('Form Responses 1'!K18+'Form Responses 1'!P18)*(1-$C$3) -> 0.131475 | AV25: =('Form Responses 1'!K18+'Form Responses 1'!P18)*(1+$C$3) -> 0.219125 | AW25: =AND('Form Responses 1'!T18>AU25,'Form Responses 1'!T18<AV25) -> TRUE | AX25: =IF(AW25=TRUE,1,0) -> 1 | AY25: =('Form Responses 1'!L18+'Form Responses 1'!Q18)*(1-$C$3) -> 0.034785 | AZ25: =('Form Responses 1'!L18+'Form Responses 1'!Q18)*(1+$C$3) -> 0.057975 | BA25: =AND('Form Responses 1'!U18>AY25,'Form Responses 1'!U18<AZ25) -> TRUE | BB25: =IF(BA25=TRUE,1,0) -> 1 | BC25: =('Form Responses 1'!R18-'Form Responses 1'!T18)/'Form Responses 1'!R18*100 -> 3.9452055 | BD25: =IF(AND(BC25>=20,'Form Responses 1'!V18=$BC$1)=TRUE,1,0) -> 0 | BE25: =IF(AND(BC25>=0,BC25<=20,'Form Responses 1'!V18=$BC$2)=TRUE,1,0) -> 1 | BF25: =IF(AND(BC25<0)=TRUE,-1,0) -> 0 | BG25: =SUM(BD25:BF25) -> 1 | BH25: =('Form Responses 1'!S18-'Form Responses 1'!U18)/'Form Responses 1'!S18*100 -> 30.349902 | BI25: =IF(AND(BH25>=20,'Form Responses 1'!W18=$BH$1)=TRUE,1,0) -> 1 | BJ25: =IF(AND(BH25>=0,BH25<=20,'Form Responses 1'!W18=$BH$2)=TRUE,1,0) -> 0 | BK25: =IF(AND(BH25<0)=TRUE,-1,0) -> 0 | BL25: =SUM(BI25:BK25) -> 1
A26: ='Form Responses 1'!B19 -> Student 17 | B26: =(F26+J26+N26)+(R26+V26+Z26)+(AD26+AH26+AL26)+(AP26+AT26+AX26+BB26)+(BG26+BL26) -> 15 | C26: ='Form Responses 1'!C19/'Form Responses 1'!D19*(1-$C$3) -> 0.54744526 | D26: ='Form Responses 1'!C19/'Form Responses 1'!D19*(1+$C$3) -> 0.91240876 | E26: =AND('Form Responses 1'!E19>C26,'Form Responses 1'!E19<D26) -> TRUE | F26: =IF(E26=TRUE,1,0) -> 1 | G26: ='Form Responses 1'!E19*$E$3*(1-$C$3) -> 0.13685625 | H26: ='Form Responses 1'!E19*$E$3*(1+$C$3) -> 0.22809375 | I26: =AND('Form Responses 1'!F19>G26,'Form Responses 1'!F19<H26) -> TRUE | J26: =IF(I26=TRUE,1,0) -> 1 | K26: =0.5*$E$3*'Form Responses 1'!E19*'Form Responses 1'!E19*(1-$C$3) -> 0.049945688 | L26: =0.5*$E$3*'Form Responses 1'!E19*'Form Responses 1'!E19*(1+$C$3) -> 0.083242814 | M26: =AND('Form Responses 1'!G19>K26,'Form Responses 1'!G19<L26) -> TRUE | N26: =IF(M26=TRUE,1,0) -> 1 | O26: ='Form Responses 1'!H19/'Form Responses 1'!I19*(1-$C$3) -> 0.076013514 | P26: ='Form Responses 1'!H19/'Form Responses 1'!I19*(1+$C$3) -> 0.12668919 | Q26: =AND('Form Responses 1'!J19>O26,'Form Responses 1'!J19<P26) -> TRUE | R26: =IF(Q26=TRUE,1,0) -> 1 | S26: ='Form Responses 1'!J19*$E$3*(1-$C$3) -> 0.019003125 | T26: ='Form Responses 1'!J19*$E$3*(1+$C$3) -> 0.031671875 | U26: =AND('Form Responses 1'!K19>S26,'Form Responses 1'!K19<T26) -> TRUE | V26: =IF(U26=TRUE,1,0) -> 1 | W26: =0.5*$E$3*'Form Responses 1'!J19*'Form Responses 1'!J19*(1-$C$3) -> 0.00096298336 | X26: =0.5*$E$3*'Form Responses 1'!J19*'Form Responses 1'!J19*(1+$C$3) -> 0.0016049723 | Y26: =AND('Form Responses 1'!L19>W26,'Form Responses 1'!L19<X26) -> TRUE | Z26: =IF(Y26=TRUE,1,0) -> 1 | AA26: ='Form Responses 1'!M19/'Form Responses 1'!N19*(1-$C$3) -> 0.45045045 | AB26: ='Form Responses 1'!M19/'Form Responses 1'!N19*(1+$C$3) -> 0.75075075 | AC26: =AND('Form Responses 1'!O19>AA26,'Form Responses 1'!O19<AB26) -> TRUE | AD26: =IF(AC26=TRUE,1,0) -> 1 | AE26: ='Form Responses 1'!O19*$E$4*(1-$C$3) -> 0.1126125 | AF26: ='Form Responses 1'!O19*$E$4*(1+$C$3) -> 0.1876875 | AG26: =AND('Form Responses 1'!P19>AE26,'Form Responses 1'!P19<AF26) -> TRUE | AH26: =IF(AG26=TRUE,1,0) -> 1 | AI26: =0.5*$E$4*'Form Responses 1'!O19*'Form Responses 1'!O19*(1-$C$3) -> 0.033817534 | AJ26: =0.5*$E$4*'Form Responses 1'!O19*'Form Responses 1'!O19*(1+$C$3) -> 0.056362556 | AK26: =AND('Form Responses 1'!Q19>AI26,'Form Responses 1'!Q19<AJ26) -> TRUE | AL26: =IF(AK26=TRUE,1,0) -> 1 | AM26: ='Form Responses 1'!F19*(1-$C$3) -> 0.13685625 | AN26: ='Form Responses 1'!F19*(1+$C$3) -> 0.22809375 | AO26: =AND('Form Responses 1'!R19>AM26,'Form Responses 1'!R19<AN26) -> TRUE | AP26: =IF(AO26=TRUE,1,0) -> 1 | AQ26: ='Form Responses 1'!G19*(1-$C$3) -> 0.0499425 | AR26: ='Form Responses 1'!G19*(1+$C$3) -> 0.0832375 | AS26: =AND('Form Responses 1'!S19>AQ26,'Form Responses 1'!S19<AR26) -> TRUE | AT26: =IF(AS26=TRUE,1,0) -> 1 | AU26: =('Form Responses 1'!K19+'Form Responses 1'!P19)*(1-$C$3) -> 0.13161525 | AV26: =('Form Responses 1'!K19+'Form Responses 1'!P19)*(1+$C$3) -> 0.21935875 | AW26: =AND('Form Responses 1'!T19>AU26,'Form Responses 1'!T19<AV26) -> TRUE | AX26: =IF(AW26=TRUE,1,0) -> 1 | AY26: =('Form Responses 1'!L19+'Form Responses 1'!Q19)*(1-$C$3) -> 0.034785 | AZ26: =('Form Responses 1'!L19+'Form Responses 1'!Q19)*(1+$C$3) -> 0.057975 | BA26: =AND('Form Responses 1'!U19>AY26,'Form Responses 1'!U19<AZ26) -> TRUE | BB26: =IF(BA26=TRUE,1,0) -> 1 | BC26: =('Form Responses 1'!R19-'Form Responses 1'!T19)/'Form Responses 1'!R19*100 -> 3.9117687 | BD26: =IF(AND(BC26>=20,'Form Responses 1'!V19=$BC$1)=TRUE,1,0) -> 0 | BE26: =IF(AND(BC26>=0,BC26<=20,'Form Responses 1'!V19=$BC$2)=TRUE,1,0) -> 1 | BF26: =IF(AND(BC26<0)=TRUE,-1,0) -> 0 | BG26: =SUM(BD26:BF26) -> 1 | BH26: =('Form Responses 1'!S19-'Form Responses 1'!U19)/'Form Responses 1'!S19*100 -> 30.349902 | BI26: =IF(AND(BH26>=20,'Form Responses 1'!W19=$BH$1)=TRUE,1,0) -> 1 | BJ26: =IF(AND(BH26>=0,BH26<=20,'Form Responses 1'!W19=$BH$2)=TRUE,1,0) -> 0 | BK26: =IF(AND(BH26<0)=TRUE,-1,0) -> 0 | BL26: =SUM(BI26:BK26) -> 1
A27: ='Form Responses 1'!B20 -> Student 18 | B27: =(F27+J27+N27)+(R27+V27+Z27)+(AD27+AH27+AL27)+(AP27+AT27+AX27+BB27)+(BG27+BL27) -> 15 | C27: ='Form Responses 1'!C20/'Form Responses 1'!D20*(1-$C$3) -> 0.54744526 | D27: ='Form Responses 1'!C20/'Form Responses 1'!D20*(1+$C$3) -> 0.91240876 | E27: =AND('Form Responses 1'!E20>C27,'Form Responses 1'!E20<D27) -> TRUE | F27: =IF(E27=TRUE,1,0) -> 1 | G27: ='Form Responses 1'!E20*$E$3*(1-$C$3) -> 0.13685625 | H27: ='Form Responses 1'!E20*$E$3*(1+$C$3) -> 0.22809375 | I27: =AND('Form Responses 1'!F20>G27,'Form Responses 1'!F20<H27) -> TRUE | J27: =IF(I27=TRUE,1,0) -> 1 | K27: =0.5*$E$3*'Form Responses 1'!E20*'Form Responses 1'!E20*(1-$C$3) -> 0.049945688 | L27: =0.5*$E$3*'Form Responses 1'!E20*'Form Responses 1'!E20*(1+$C$3) -> 0.083242814 | M27: =AND('Form Responses 1'!G20>K27,'Form Responses 1'!G20<L27) -> TRUE | N27: =IF(M27=TRUE,1,0) -> 1 | O27: ='Form Responses 1'!H20/'Form Responses 1'!I20*(1-$C$3) -> 0.076013514 | P27: ='Form Responses 1'!H20/'Form Responses 1'!I20*(1+$C$3) -> 0.12668919 | Q27: =AND('Form Responses 1'!J20>O27,'Form Responses 1'!J20<P27) -> TRUE | R27: =IF(Q27=TRUE,1,0) -> 1 | S27: ='Form Responses 1'!J20*$E$3*(1-$C$3) -> 0.019003125 | T27: ='Form Responses 1'!J20*$E$3*(1+$C$3) -> 0.031671875 | U27: =AND('Form Responses 1'!K20>S27,'Form Responses 1'!K20<T27) -> TRUE | V27: =IF(U27=TRUE,1,0) -> 1 | W27: =0.5*$E$3*'Form Responses 1'!J20*'Form Responses 1'!J20*(1-$C$3) -> 0.00096298336 | X27: =0.5*$E$3*'Form Responses 1'!J20*'Form Responses 1'!J20*(1+$C$3) -> 0.0016049723 | Y27: =AND('Form Responses 1'!L20>W27,'Form Responses 1'!L20<X27) -> TRUE | Z27: =IF(Y27=TRUE,1,0) -> 1 | AA27: ='Form Responses 1'!M20/'Form Responses 1'!N20*(1-$C$3) -> 0.45045045 | AB27: ='Form Responses 1'!M20/'Form Responses 1'!N20*(1+$C$3) -> 0.75075075 | AC27: =AND('Form Responses 1'!O20>AA27,'Form Responses 1'!O20<AB27) -> TRUE | AD27: =IF(AC27=TRUE,1,0) -> 1 | AE27: ='Form Responses 1'!O20*$E$4*(1-$C$3) -> 0.11261261 | AF27: ='Form Responses 1'!O20*$E$4*(1+$C$3) -> 0.18768769 | AG27: =AND('Form Responses 1'!P20>AE27,'Form Responses 1'!P20<AF27) -> TRUE | AH27: =IF(AG27=TRUE,1,0) -> 1 | AI27: =0.5*$E$4*'Form Responses 1'!O20*'Form Responses 1'!O20*(1-$C$3) -> 0.033817601 | AJ27: =0.5*$E$4*'Form Responses 1'!O20*'Form Responses 1'!O20*(1+$C$3) -> 0.056362669 | AK27: =AND('Form Responses 1'!Q20>AI27,'Form Responses 1'!Q20<AJ27) -> TRUE | AL27: =IF(AK27=TRUE,1,0) -> 1 | AM27: ='Form Responses 1'!F20*(1-$C$3) -> 0.136875 | AN27: ='Form Responses 1'!F20*(1+$C$3) -> 0.228125 | AO27: =AND('Form Responses 1'!R20>AM27,'Form Responses 1'!R20<AN27) -> TRUE | AP27: =IF(AO27=TRUE,1,0) -> 1 | AQ27: ='Form Responses 1'!G20*(1-$C$3) -> 0.0499425 | AR27: ='Form Responses 1'!G20*(1+$C$3) -> 0.0832375 | AS27: =AND('Form Responses 1'!S20>AQ27,'Form Responses 1'!S20<AR27) -> TRUE | AT27: =IF(AS27=TRUE,1,0) -> 1 | AU27: =('Form Responses 1'!K20+'Form Responses 1'!P20)*(1-$C$3) -> 0.131475 | AV27: =('Form Responses 1'!K20+'Form Responses 1'!P20)*(1+$C$3) -> 0.219125 | AW27: =AND('Form Responses 1'!T20>AU27,'Form Responses 1'!T20<AV27) -> TRUE | AX27: =IF(AW27=TRUE,1,0) -> 1 | AY27: =('Form Responses 1'!L20+'Form Responses 1'!Q20)*(1-$C$3) -> 0.034785 | AZ27: =('Form Responses 1'!L20+'Form Responses 1'!Q20)*(1+$C$3) -> 0.057975 | BA27: =AND('Form Responses 1'!U20>AY27,'Form Responses 1'!U20<AZ27) -> TRUE | BB27: =IF(BA27=TRUE,1,0) -> 1 | BC27: =('Form Responses 1'!R20-'Form Responses 1'!T20)/'Form Responses 1'!R20*100 -> 3.9452055 | BD27: =IF(AND(BC27>=20,'Form Responses 1'!V20=$BC$1)=TRUE,1,0) -> 0 | BE27: =IF(AND(BC27>=0,BC27<=20,'Form Responses 1'!V20=$BC$2)=TRUE,1,0) -> 1 | BF27: =IF(AND(BC27<0)=TRUE,-1,0) -> 0 | BG27: =SUM(BD27:BF27) -> 1 | BH27: =('Form Responses 1'!S20-'Form Responses 1'!U20)/'Form Responses 1'!S20*100 -> 30.349902 | BI27: =IF(AND(BH27>=20,'Form Responses 1'!W20=$BH$1)=TRUE,1,0) -> 1 | BJ27: =IF(AND(BH27>=0,BH27<=20,'Form Responses 1'!W20=$BH$2)=TRUE,1,0) -> 0 | BK27: =IF(AND(BH27<0)=TRUE,-1,0) -> 0 | BL27: =SUM(BI27:BK27) -> 1
A28: ='Form Responses 1'!B21 -> Student 19 | B28: =(F28+J28+N28)+(R28+V28+Z28)+(AD28+AH28+AL28)+(AP28+AT28+AX28+BB28)+(BG28+BL28) -> 13 | C28: ='Form Responses 1'!C21/'Form Responses 1'!D21*(1-$C$3) -> 0.54744526 | D28: ='Form Responses 1'!C21/'Form Responses 1'!D21*(1+$C$3) -> 0.91240876 | E28: =AND('Form Responses 1'!E21>C28,'Form Responses 1'!E21<D28) -> TRUE | F28: =IF(E28=TRUE,1,0) -> 1 | G28: ='Form Responses 1'!E21*$E$3*(1-$C$3) -> 0.13685625 | H28: ='Form Responses 1'!E21*$E$3*(1+$C$3) -> 0.22809375 | I28: =AND('Form Responses 1'!F21>G28,'Form Responses 1'!F21<H28) -> TRUE | J28: =IF(I28=TRUE,1,0) -> 1 | K28: =0.5*$E$3*'Form Responses 1'!E21*'Form Responses 1'!E21*(1-$C$3) -> 0.049945688 | L28: =0.5*$E$3*'Form Responses 1'!E21*'Form Responses 1'!E21*(1+$C$3) -> 0.083242814 | M28: =AND('Form Responses 1'!G21>K28,'Form Responses 1'!G21<L28) -> FALSE | N28: =IF(M28=TRUE,1,0) -> 0 | O28: ='Form Responses 1'!H21/'Form Responses 1'!I21*(1-$C$3) -> 0.076013514 | P28: ='Form Responses 1'!H21/'Form Responses 1'!I21*(1+$C$3) -> 0.12668919 | Q28: =AND('Form Responses 1'!J21>O28,'Form Responses 1'!J21<P28) -> TRUE | R28: =IF(Q28=TRUE,1,0) -> 1 | S28: ='Form Responses 1'!J21*$E$3*(1-$C$3) -> 0.019003125 | T28: ='Form Responses 1'!J21*$E$3*(1+$C$3) -> 0.031671875 | U28: =AND('Form Responses 1'!K21>S28,'Form Responses 1'!K21<T28) -> TRUE | V28: =IF(U28=TRUE,1,0) -> 1 | W28: =0.5*$E$3*'Form Responses 1'!J21*'Form Responses 1'!J21*(1-$C$3) -> 0.00096298336 | X28: =0.5*$E$3*'Form Responses 1'!J21*'Form Responses 1'!J21*(1+$C$3) -> 0.0016049723 | Y28: =AND('Form Responses 1'!L21>W28,'Form Responses 1'!L21<X28) -> FALSE | Z28: =IF(Y28=TRUE,1,0) -> 0 | AA28: ='Form Responses 1'!M21/'Form Responses 1'!N21*(1-$C$3) -> 0.45045045 | AB28: ='Form Responses 1'!M21/'Form Responses 1'!N21*(1+$C$3) -> 0.75075075 | AC28: =AND('Form Responses 1'!O21>AA28,'Form Responses 1'!O21<AB28) -> TRUE | AD28: =IF(AC28=TRUE,1,0) -> 1 | AE28: ='Form Responses 1'!O21*$E$4*(1-$C$3) -> 0.1125 | AF28: ='Form Responses 1'!O21*$E$4*(1+$C$3) -> 0.1875 | AG28: =AND('Form Responses 1'!P21>AE28,'Form Responses 1'!P21<AF28) -> TRUE | AH28: =IF(AG28=TRUE,1,0) -> 1 | AI28: =0.5*$E$4*'Form Responses 1'!O21*'Form Responses 1'!O21*(1-$C$3) -> 0.03375 | AJ28: =0.5*$E$4*'Form Responses 1'!O21*'Form Responses 1'!O21*(1+$C$3) -> 0.05625 | AK28: =AND('Form Responses 1'!Q21>AI28,'Form Responses 1'!Q21<AJ28) -> TRUE | AL28: =IF(AK28=TRUE,1,0) -> 1 | AM28: ='Form Responses 1'!F21*(1-$C$3) -> 0.136875 | AN28: ='Form Responses 1'!F21*(1+$C$3) -> 0.228125 | AO28: =AND('Form Responses 1'!R21>AM28,'Form Responses 1'!R21<AN28) -> TRUE | AP28: =IF(AO28=TRUE,1,0) -> 1 | AQ28: ='Form Responses 1'!G21*(1-$C$3) -> 0.49945725 | AR28: ='Form Responses 1'!G21*(1+$C$3) -> 0.83242875 | AS28: =AND('Form Responses 1'!S21>AQ28,'Form Responses 1'!S21<AR28) -> TRUE | AT28: =IF(AS28=TRUE,1,0) -> 1 | AU28: =('Form Responses 1'!K21+'Form Responses 1'!P21)*(1-$C$3) -> 0.131505 | AV28: =('Form Responses 1'!K21+'Form Responses 1'!P21)*(1+$C$3) -> 0.219175 | AW28: =AND('Form Responses 1'!T21>AU28,'Form Responses 1'!T21<AV28) -> TRUE | AX28: =IF(AW28=TRUE,1,0) -> 1 | AY28: =('Form Responses 1'!L21+'Form Responses 1'!Q21)*(1-$C$3) -> 0.043251563 | AZ28: =('Form Responses 1'!L21+'Form Responses 1'!Q21)*(1+$C$3) -> 0.072085938 | BA28: =AND('Form Responses 1'!U21>AY28,'Form Responses 1'!U21<AZ28) -> TRUE | BB28: =IF(BA28=TRUE,1,0) -> 1 | BC28: =('Form Responses 1'!R21-'Form Responses 1'!T21)/'Form Responses 1'!R21*100 -> 3.9232877 | BD28: =IF(AND(BC28>=20,'Form Responses 1'!V21=$BC$1)=TRUE,1,0) -> 0 | BE28: =IF(AND(BC28>=0,BC28<=20,'Form Responses 1'!V21=$BC$2)=TRUE,1,0) -> 1 | BF28: =IF(AND(BC28<0)=TRUE,-1,0) -> 0 | BG28: =SUM(BD28:BF28) -> 1 | BH28: =('Form Responses 1'!S21-'Form Responses 1'!U21)/'Form Responses 1'!S21*100 -> 91.340287 | BI28: =IF(AND(BH28>=20,'Form Responses 1'!W21=$BH$1)=TRUE,1,0) -> 1 | BJ28: =IF(AND(BH28>=0,BH28<=20,'Form Responses 1'!W21=$BH$2)=TRUE,1,0) -> 0 | BK28: =IF(AND(BH28<0)=TRUE,-1,0) -> 0 | BL28: =SUM(BI28:BK28) -> 1
A29: ='Form Responses 1'!B22 -> Student 20 | B29: =(F29+J29+N29)+(R29+V29+Z29)+(AD29+AH29+AL29)+(AP29+AT29+AX29+BB29)+(BG29+BL29) -> 13 | C29: ='Form Responses 1'!C22/'Form Responses 1'!D22*(1-$C$3) -> 0.68807339 | D29: ='Form Responses 1'!C22/'Form Responses 1'!D22*(1+$C$3) -> 1.146789 | E29: =AND('Form Responses 1'!E22>C29,'Form Responses 1'!E22<D29) -> TRUE | F29: =IF(E29=TRUE,1,0) -> 1 | G29: ='Form Responses 1'!E22*$E$3*(1-$C$3) -> 0.1720125 | H29: ='Form Responses 1'!E22*$E$3*(1+$C$3) -> 0.2866875 | I29: =AND('Form Responses 1'!F22>G29,'Form Responses 1'!F22<H29) -> TRUE | J29: =IF(I29=TRUE,1,0) -> 1 | K29: =0.5*$E$3*'Form Responses 1'!E22*'Form Responses 1'!E22*(1-$C$3) -> 0.078902134 | L29: =0.5*$E$3*'Form Responses 1'!E22*'Form Responses 1'!E22*(1+$C$3) -> 0.13150356 | M29: =AND('Form Responses 1'!G22>K29,'Form Responses 1'!G22<L29) -> TRUE | N29: =IF(M29=TRUE,1,0) -> 1 | O29: ='Form Responses 1'!H22/'Form Responses 1'!I22*(1-$C$3) -> #DIV/0! | P29: ='Form Responses 1'!H22/'Form Responses 1'!I22*(1+$C$3) -> #DIV/0! | Q29: TRUE | R29: =IF(Q29=TRUE,1,0) -> 1 | S29: ='Form Responses 1'!J22*$E$3*(1-$C$3) -> 0 | T29: ='Form Responses 1'!J22*$E$3*(1+$C$3) -> 0 | U29: =AND('Form Responses 1'!K22>S29,'Form Responses 1'!K22<T29) -> FALSE | V29: =IF(U29=TRUE,1,0) -> 0 | W29: =0.5*$E$3*'Form Responses 1'!J22*'Form Responses 1'!J22*(1-$C$3) -> 0 | X29: =0.5*$E$3*'Form Responses 1'!J22*'Form Responses 1'!J22*(1+$C$3) -> 0 | Y29: =AND('Form Responses 1'!L22>W29,'Form Responses 1'!L22<X29) -> FALSE | Z29: =IF(Y29=TRUE,1,0) -> 0 | AA29: ='Form Responses 1'!M22/'Form Responses 1'!N22*(1-$C$3) -> 0.50167224 | AB29: ='Form Responses 1'!M22/'Form Responses 1'!N22*(1+$C$3) -> 0.8361204 | AC29: =AND('Form Responses 1'!O22>AA29,'Form Responses 1'!O22<AB29) -> TRUE | AD29: =IF(AC29=TRUE,1,0) -> 1 | AE29: ='Form Responses 1'!O22*$E$4*(1-$C$3) -> 0.12541875 | AF29: ='Form Responses 1'!O22*$E$4*(1+$C$3) -> 0.20903125 | AG29: =AND('Form Responses 1'!P22>AE29,'Form Responses 1'!P22<AF29) -> TRUE | AH29: =IF(AG29=TRUE,1,0) -> 1 | AI29: =0.5*$E$4*'Form Responses 1'!O22*'Form Responses 1'!O22*(1-$C$3) -> 0.041946301 | AJ29: =0.5*$E$4*'Form Responses 1'!O22*'Form Responses 1'!O22*(1+$C$3) -> 0.069910502 | AK29: =AND('Form Responses 1'!Q22>AI29,'Form Responses 1'!Q22<AJ29) -> TRUE | AL29: =IF(AK29=TRUE,1,0) -> 1 | AM29: ='Form Responses 1'!F22*(1-$C$3) -> 0.17205 | AN29: ='Form Responses 1'!F22*(1+$C$3) -> 0.28675 | AO29: =AND('Form Responses 1'!R22>AM29,'Form Responses 1'!R22<AN29) -> TRUE | AP29: =IF(AO29=TRUE,1,0) -> 1 | AQ29: ='Form Responses 1'!G22*(1-$C$3) -> 0.0789 | AR29: ='Form Responses 1'!G22*(1+$C$3) -> 0.1315 | AS29: =AND('Form Responses 1'!S22>AQ29,'Form Responses 1'!S22<AR29) -> TRUE | AT29: =IF(AS29=TRUE,1,0) -> 1 | AU29: =('Form Responses 1'!K22+'Form Responses 1'!P22)*(1-$C$3) -> 0.1254 | AV29: =('Form Responses 1'!K22+'Form Responses 1'!P22)*(1+$C$3) -> 0.209 | AW29: =AND('Form Responses 1'!T22>AU29,'Form Responses 1'!T22<AV29) -> TRUE | AX29: =IF(AW29=TRUE,1,0) -> 1 | AY29: =('Form Responses 1'!L22+'Form Responses 1'!Q22)*(1-$C$3) -> 0.0419475 | AZ29: =('Form Responses 1'!L22+'Form Responses 1'!Q22)*(1+$C$3) -> 0.0699125 | BA29: =AND('Form Responses 1'!U22>AY29,'Form Responses 1'!U22<AZ29) -> TRUE | BB29: =IF(BA29=TRUE,1,0) -> 1 | BC29: =('Form Responses 1'!R22-'Form Responses 1'!T22)/'Form Responses 1'!R22*100 -> 27.114211 | BD29: =IF(AND(BC29>=20,'Form Responses 1'!V22=$BC$1)=TRUE,1,0) -> 1 | BE29: =IF(AND(BC29>=0,BC29<=20,'Form Responses 1'!V22=$BC$2)=TRUE,1,0) -> 0 | BF29: =IF(AND(BC29<0)=TRUE,-1,0) -> 0 | BG29: =SUM(BD29:BF29) -> 1 | BH29: =('Form Responses 1'!S22-'Form Responses 1'!U22)/'Form Responses 1'!S22*100 -> 46.834601 | BI29: =IF(AND(BH29>=20,'Form Responses 1'!W22=$BH$1)=TRUE,1,0) -> 1 | BJ29: =IF(AND(BH29>=0,BH29<=20,'Form Responses 1'!W22=$BH$2)=TRUE,1,0) -> 0 | BK29: =IF(AND(BH29<0)=TRUE,-1,0) -> 0 | BL29: =SUM(BI29:BK29) -> 1
A30: ='Form Responses 1'!B23 -> Student 21 | B30: =(F30+J30+N30)+(R30+V30+Z30)+(AD30+AH30+AL30)+(AP30+AT30+AX30+BB30)+(BG30+BL30) -> 12 | C30: ='Form Responses 1'!C23/'Form Responses 1'!D23*(1-$C$3) -> 0.54744526 | D30: ='Form Responses 1'!C23/'Form Responses 1'!D23*(1+$C$3) -> 0.91240876 | E30: =AND('Form Responses 1'!E23>C30,'Form Responses 1'!E23<D30) -> TRUE | F30: =IF(E30=TRUE,1,0) -> 1 | G30: ='Form Responses 1'!E23*$E$3*(1-$C$3) -> 0.13685625 | H30: ='Form Responses 1'!E23*$E$3*(1+$C$3) -> 0.22809375 | I30: =AND('Form Responses 1'!F23>G30,'Form Responses 1'!F23<H30) -> TRUE | J30: =IF(I30=TRUE,1,0) -> 1 | K30: =0.5*$E$3*'Form Responses 1'!E23*'Form Responses 1'!E23*(1-$C$3) -> 0.049945688 | L30: =0.5*$E$3*'Form Responses 1'!E23*'Form Responses 1'!E23*(1+$C$3) -> 0.083242814 | M30: =AND('Form Responses 1'!G23>K30,'Form Responses 1'!G23<L30) -> TRUE | N30: =IF(M30=TRUE,1,0) -> 1 | O30: ='Form Responses 1'!H23/'Form Responses 1'!I23*(1-$C$3) -> 0.076013514 | P30: ='Form Responses 1'!H23/'Form Responses 1'!I23*(1+$C$3) -> 0.12668919 | Q30: =AND('Form Responses 1'!J23>O30,'Form Responses 1'!J23<P30) -> TRUE | R30: =IF(Q30=TRUE,1,0) -> 1 | S30: ='Form Responses 1'!J23*$E$3*(1-$C$3) -> 0.0190125 | T30: ='Form Responses 1'!J23*$E$3*(1+$C$3) -> 0.0316875 | U30: =AND('Form Responses 1'!K23>S30,'Form Responses 1'!K23<T30) -> TRUE | V30: =IF(U30=TRUE,1,0) -> 1 | W30: =0.5*$E$3*'Form Responses 1'!J23*'Form Responses 1'!J23*(1-$C$3) -> 0.00096393375 | X30: =0.5*$E$3*'Form Responses 1'!J23*'Form Responses 1'!J23*(1+$C$3) -> 0.0016065563 | Y30: =AND('Form Responses 1'!L23>W30,'Form Responses 1'!L23<X30) -> TRUE | Z30: =IF(Y30=TRUE,1,0) -> 1 | AA30: ='Form Responses 1'!M23/'Form Responses 1'!N23*(1-$C$3) -> 0.45045045 | AB30: ='Form Responses 1'!M23/'Form Responses 1'!N23*(1+$C$3) -> 0.75075075 | AC30: =AND('Form Responses 1'!O23>AA30,'Form Responses 1'!O23<AB30) -> TRUE | AD30: =IF(AC30=TRUE,1,0) -> 1 | AE30: ='Form Responses 1'!O23*$E$4*(1-$C$3) -> 0.1126125 | AF30: ='Form Responses 1'!O23*$E$4*(1+$C$3) -> 0.1876875 | AG30: =AND('Form Responses 1'!P23>AE30,'Form Responses 1'!P23<AF30) -> TRUE | AH30: =IF(AG30=TRUE,1,0) -> 1 | AI30: =0.5*$E$4*'Form Responses 1'!O23*'Form Responses 1'!O23*(1-$C$3) -> 0.033817534 | AJ30: =0.5*$E$4*'Form Responses 1'!O23*'Form Responses 1'!O23*(1+$C$3) -> 0.056362556 | AK30: =AND('Form Responses 1'!Q23>AI30,'Form Responses 1'!Q23<AJ30) -> TRUE | AL30: =IF(AK30=TRUE,1,0) -> 1 | AM30: ='Form Responses 1'!F23*(1-$C$3) -> 0.136875 | AN30: ='Form Responses 1'!F23*(1+$C$3) -> 0.228125 | AO30: =AND('Form Responses 1'!R23>AM30,'Form Responses 1'!R23<AN30) -> TRUE | AP30: =IF(AO30=TRUE,1,0) -> 1 | AQ30: ='Form Responses 1'!G23*(1-$C$3) -> 0.04995 | AR30: ='Form Responses 1'!G23*(1+$C$3) -> 0.08325 | AS30: =AND('Form Responses 1'!S23>AQ30,'Form Responses 1'!S23<AR30) -> TRUE | AT30: =IF(AS30=TRUE,1,0) -> 1 | AU30: =('Form Responses 1'!K23+'Form Responses 1'!P23)*(1-$C$3) -> 0.131625 | AV30: =('Form Responses 1'!K23+'Form Responses 1'!P23)*(1+$C$3) -> 0.219375 | AW30: =AND('Form Responses 1'!T23>AU30,'Form Responses 1'!T23<AV30) -> TRUE | AX30: =IF(AW30=TRUE,1,0) -> 1 | AY30: =('Form Responses 1'!L23+'Form Responses 1'!Q23)*(1-$C$3) -> 0.0348 | AZ30: =('Form Responses 1'!L23+'Form Responses 1'!Q23)*(1+$C$3) -> 0.058 | BA30: =AND('Form Responses 1'!U23>AY30,'Form Responses 1'!U23<AZ30) -> FALSE | BB30: =IF(BA30=TRUE,1,0) -> 0 | BC30: =('Form Responses 1'!R23-'Form Responses 1'!T23)/'Form Responses 1'!R23*100 -> 3.8356164 | BD30: =IF(AND(BC30>=20,'Form Responses 1'!V23=$BC$1)=TRUE,1,0) -> 0 | BE30: =IF(AND(BC30>=0,BC30<=20,'Form Responses 1'!V23=$BC$2)=TRUE,1,0) -> 1 | BF30: =IF(AND(BC30<0)=TRUE,-1,0) -> 0 | BG30: =SUM(BD30:BF30) -> 1 | BH30: =('Form Responses 1'!S23-'Form Responses 1'!U23)/'Form Responses 1'!S23*100 -> -596.6967 | BI30: =IF(AND(BH30>=20,'Form Responses 1'!W23=$BH$1)=TRUE,1,0) -> 0 | BJ30: =IF(AND(BH30>=0,BH30<=20,'Form Responses 1'!W23=$BH$2)=TRUE,1,0) -> 0 | BK30: =IF(AND(BH30<0)=TRUE,-1,0) -> -1 | BL30: =SUM(BI30:BK30) -> -1
A31: ='Form Responses 1'!B24 -> Student 22 | B31: =(F31+J31+N31)+(R31+V31+Z31)+(AD31+AH31+AL31)+(AP31+AT31+AX31+BB31)+(BG31+BL31) -> 12 | C31: ='Form Responses 1'!C24/'Form Responses 1'!D24*(1-$C$3) -> 0.54744526 | D31: ='Form Responses 1'!C24/'Form Responses 1'!D24*(1+$C$3) -> 0.91240876 | E31: =AND('Form Responses 1'!E24>C31,'Form Responses 1'!E24<D31) -> TRUE | F31: =IF(E31=TRUE,1,0) -> 1 | G31: ='Form Responses 1'!E24*$E$3*(1-$C$3) -> 0.13685625 | H31: ='Form Responses 1'!E24*$E$3*(1+$C$3) -> 0.22809375 | I31: =AND('Form Responses 1'!F24>G31,'Form Responses 1'!F24<H31) -> TRUE | J31: =IF(I31=TRUE,1,0) -> 1 | K31: =0.5*$E$3*'Form Responses 1'!E24*'Form Responses 1'!E24*(1-$C$3) -> 0.049945688 | L31: =0.5*$E$3*'Form Responses 1'!E24*'Form Responses 1'!E24*(1+$C$3) -> 0.083242814 | M31: =AND('Form Responses 1'!G24>K31,'Form Responses 1'!G24<L31) -> TRUE | N31: =IF(M31=TRUE,1,0) -> 1 | O31: ='Form Responses 1'!H24/'Form Responses 1'!I24*(1-$C$3) -> 0.076013514 | P31: ='Form Responses 1'!H24/'Form Responses 1'!I24*(1+$C$3) -> 0.12668919 | Q31: =AND('Form Responses 1'!J24>O31,'Form Responses 1'!J24<P31) -> TRUE | R31: =IF(Q31=TRUE,1,0) -> 1 | S31: ='Form Responses 1'!J24*$E$3*(1-$C$3) -> 0.0190125 | T31: ='Form Responses 1'!J24*$E$3*(1+$C$3) -> 0.0316875 | U31: =AND('Form Responses 1'!K24>S31,'Form Responses 1'!K24<T31) -> TRUE | V31: =IF(U31=TRUE,1,0) -> 1 | W31: =0.5*$E$3*'Form Responses 1'!J24*'Form Responses 1'!J24*(1-$C$3) -> 0.00096393375 | X31: =0.5*$E$3*'Form Responses 1'!J24*'Form Responses 1'!J24*(1+$C$3) -> 0.0016065563 | Y31: =AND('Form Responses 1'!L24>W31,'Form Responses 1'!L24<X31) -> TRUE | Z31: =IF(Y31=TRUE,1,0) -> 1 | AA31: ='Form Responses 1'!M24/'Form Responses 1'!N24*(1-$C$3) -> 0.45045045 | AB31: ='Form Responses 1'!M24/'Form Responses 1'!N24*(1+$C$3) -> 0.75075075 | AC31: =AND('Form Responses 1'!O24>AA31,'Form Responses 1'!O24<AB31) -> TRUE | AD31: =IF(AC31=TRUE,1,0) -> 1 | AE31: ='Form Responses 1'!O24*$E$4*(1-$C$3) -> 0.1126125 | AF31: ='Form Responses 1'!O24*$E$4*(1+$C$3) -> 0.1876875 | AG31: =AND('Form Responses 1'!P24>AE31,'Form Responses 1'!P24<AF31) -> TRUE | AH31: =IF(AG31=TRUE,1,0) -> 1 | AI31: =0.5*$E$4*'Form Responses 1'!O24*'Form Responses 1'!O24*(1-$C$3) -> 0.033817534 | AJ31: =0.5*$E$4*'Form Responses 1'!O24*'Form Responses 1'!O24*(1+$C$3) -> 0.056362556 | AK31: =AND('Form Responses 1'!Q24>AI31,'Form Responses 1'!Q24<AJ31) -> TRUE | AL31: =IF(AK31=TRUE,1,0) -> 1 | AM31: ='Form Responses 1'!F24*(1-$C$3) -> 0.136875 | AN31: ='Form Responses 1'!F24*(1+$C$3) -> 0.228125 | AO31: =AND('Form Responses 1'!R24>AM31,'Form Responses 1'!R24<AN31) -> TRUE | AP31: =IF(AO31=TRUE,1,0) -> 1 | AQ31: ='Form Responses 1'!G24*(1-$C$3) -> 0.04995 | AR31: ='Form Responses 1'!G24*(1+$C$3) -> 0.08325 | AS31: =AND('Form Responses 1'!S24>AQ31,'Form Responses 1'!S24<AR31) -> TRUE | AT31: =IF(AS31=TRUE,1,0) -> 1 | AU31: =('Form Responses 1'!K24+'Form Responses 1'!P24)*(1-$C$3) -> 0.131625 | AV31: =('Form Responses 1'!K24+'Form Responses 1'!P24)*(1+$C$3) -> 0.219375 | AW31: =AND('Form Responses 1'!T24>AU31,'Form Responses 1'!T24<AV31) -> TRUE | AX31: =IF(AW31=TRUE,1,0) -> 1 | AY31: =('Form Responses 1'!L24+'Form Responses 1'!Q24)*(1-$C$3) -> 0.0348 | AZ31: =('Form Responses 1'!L24+'Form Responses 1'!Q24)*(1+$C$3) -> 0.058 | BA31: =AND('Form Responses 1'!U24>AY31,'Form Responses 1'!U24<AZ31) -> FALSE | BB31: =IF(BA31=TRUE,1,0) -> 0 | BC31: =('Form Responses 1'!R24-'Form Responses 1'!T24)/'Form Responses 1'!R24*100 -> 3.8356164 | BD31: =IF(AND(BC31>=20,'Form Responses 1'!V24=$BC$1)=TRUE,1,0) -> 0 | BE31: =IF(AND(BC31>=0,BC31<=20,'Form Responses 1'!V24=$BC$2)=TRUE,1,0) -> 1 | BF31: =IF(AND(BC31<0)=TRUE,-1,0) -> 0 | BG31: =SUM(BD31:BF31) -> 1 | BH31: =('Form Responses 1'!S24-'Form Responses 1'!U24)/'Form Responses 1'!S24*100 -> -596.6967 | BI31: =IF(AND(BH31>=20,'Form Responses 1'!W24=$BH$1)=TRUE,1,0) -> 0 | BJ31: =IF(AND(BH31>=0,BH31<=20,'Form Responses 1'!W24=$BH$2)=TRUE,1,0) -> 0 | BK31: =IF(AND(BH31<0)=TRUE,-1,0) -> -1 | BL31: =SUM(BI31:BK31) -> -1
A32: ='Form Responses 1'!B25 -> Student 23 | B32: =(F32+J32+N32)+(R32+V32+Z32)+(AD32+AH32+AL32)+(AP32+AT32+AX32+BB32)+(BG32+BL32) -> 14 | C32: ='Form Responses 1'!C25/'Form Responses 1'!D25*(1-$C$3) -> 0.54744526 | D32: ='Form Responses 1'!C25/'Form Responses 1'!D25*(1+$C$3) -> 0.91240876 | E32: =AND('Form Responses 1'!E25>C32,'Form Responses 1'!E25<D32) -> TRUE | F32: =IF(E32=TRUE,1,0) -> 1 | G32: ='Form Responses 1'!E25*$E$3*(1-$C$3) -> 0.1355625 | H32: ='Form Responses 1'!E25*$E$3*(1+$C$3) -> 0.2259375 | I32: =AND('Form Responses 1'!F25>G32,'Form Responses 1'!F25<H32) -> TRUE | J32: =IF(I32=TRUE,1,0) -> 1 | K32: =0.5*$E$3*'Form Responses 1'!E25*'Form Responses 1'!E25*(1-$C$3) -> 0.049005844 | L32: =0.5*$E$3*'Form Responses 1'!E25*'Form Responses 1'!E25*(1+$C$3) -> 0.081676406 | M32: =AND('Form Responses 1'!G25>K32,'Form Responses 1'!G25<L32) -> TRUE | N32: =IF(M32=TRUE,1,0) -> 1 | O32: ='Form Responses 1'!H25/'Form Responses 1'!I25*(1-$C$3) -> 0.076013514 | P32: ='Form Responses 1'!H25/'Form Responses 1'!I25*(1+$C$3) -> 0.12668919 | Q32: =AND('Form Responses 1'!J25>O32,'Form Responses 1'!J25<P32) -> TRUE | R32: =IF(Q32=TRUE,1,0) -> 1 | S32: ='Form Responses 1'!J25*$E$3*(1-$C$3) -> 0.019003125 | T32: ='Form Responses 1'!J25*$E$3*(1+$C$3) -> 0.031671875 | U32: =AND('Form Responses 1'!K25>S32,'Form Responses 1'!K25<T32) -> TRUE | V32: =IF(U32=TRUE,1,0) -> 1 | W32: =0.5*$E$3*'Form Responses 1'!J25*'Form Responses 1'!J25*(1-$C$3) -> 0.00096298336 | X32: =0.5*$E$3*'Form Responses 1'!J25*'Form Responses 1'!J25*(1+$C$3) -> 0.0016049723 | Y32: =AND('Form Responses 1'!L25>W32,'Form Responses 1'!L25<X32) -> TRUE | Z32: =IF(Y32=TRUE,1,0) -> 1 | AA32: ='Form Responses 1'!M25/'Form Responses 1'!N25*(1-$C$3) -> 0.45045045 | AB32: ='Form Responses 1'!M25/'Form Responses 1'!N25*(1+$C$3) -> 0.75075075 | AC32: =AND('Form Responses 1'!O25>AA32,'Form Responses 1'!O25<AB32) -> TRUE | AD32: =IF(AC32=TRUE,1,0) -> 1 | AE32: ='Form Responses 1'!O25*$E$4*(1-$C$3) -> 0.1126125 | AF32: ='Form Responses 1'!O25*$E$4*(1+$C$3) -> 0.1876875 | AG32: =AND('Form Responses 1'!P25>AE32,'Form Responses 1'!P25<AF32) -> TRUE | AH32: =IF(AG32=TRUE,1,0) -> 1 | AI32: =0.5*$E$4*'Form Responses 1'!O25*'Form Responses 1'!O25*(1-$C$3) -> 0.033817534 | AJ32: =0.5*$E$4*'Form Responses 1'!O25*'Form Responses 1'!O25*(1+$C$3) -> 0.056362556 | AK32: =AND('Form Responses 1'!Q25>AI32,'Form Responses 1'!Q25<AJ32) -> TRUE | AL32: =IF(AK32=TRUE,1,0) -> 1 | AM32: ='Form Responses 1'!F25*(1-$C$3) -> 0.1355625 | AN32: ='Form Responses 1'!F25*(1+$C$3) -> 0.2259375 | AO32: =AND('Form Responses 1'!R25>AM32,'Form Responses 1'!R25<AN32) -> TRUE | AP32: =IF(AO32=TRUE,1,0) -> 1 | AQ32: ='Form Responses 1'!G25*(1-$C$3) -> 0.04875 | AR32: ='Form Responses 1'!G25*(1+$C$3) -> 0.08125 | AS32: =AND('Form Responses 1'!S25>AQ32,'Form Responses 1'!S25<AR32) -> TRUE | AT32: =IF(AS32=TRUE,1,0) -> 1 | AU32: =('Form Responses 1'!K25+'Form Responses 1'!P25)*(1-$C$3) -> 0.1315875 | AV32: =('Form Responses 1'!K25+'Form Responses 1'!P25)*(1+$C$3) -> 0.2193125 | AW32: =AND('Form Responses 1'!T25>AU32,'Form Responses 1'!T25<AV32) -> TRUE | AX32: =IF(AW32=TRUE,1,0) -> 1 | AY32: =('Form Responses 1'!L25+'Form Responses 1'!Q25)*(1-$C$3) -> 0.0347775 | AZ32: =('Form Responses 1'!L25+'Form Responses 1'!Q25)*(1+$C$3) -> 0.0579625 | BA32: =AND('Form Responses 1'!U25>AY32,'Form Responses 1'!U25<AZ32) -> TRUE | BB32: =IF(BA32=TRUE,1,0) -> 1 | BC32: =('Form Responses 1'!R25-'Form Responses 1'!T25)/'Form Responses 1'!R25*100 -> 3.1811895 | BD32: =IF(AND(BC32>=20,'Form Responses 1'!V25=$BC$1)=TRUE,1,0) -> 0 | BE32: =IF(AND(BC32>=0,BC32<=20,'Form Responses 1'!V25=$BC$2)=TRUE,1,0) -> 0 | BF32: =IF(AND(BC32<0)=TRUE,-1,0) -> 0 | BG32: =SUM(BD32:BF32) -> 0 | BH32: =('Form Responses 1'!S25-'Form Responses 1'!U25)/'Form Responses 1'!S25*100 -> 28.661538 | BI32: =IF(AND(BH32>=20,'Form Responses 1'!W25=$BH$1)=TRUE,1,0) -> 1 | BJ32: =IF(AND(BH32>=0,BH32<=20,'Form Responses 1'!W25=$BH$2)=TRUE,1,0) -> 0 | BK32: =IF(AND(BH32<0)=TRUE,-1,0) -> 0 | BL32: =SUM(BI32:BK32) -> 1
A33: ='Form Responses 1'!B26 -> Student 24 | B33: =(F33+J33+N33)+(R33+V33+Z33)+(AD33+AH33+AL33)+(AP33+AT33+AX33+BB33)+(BG33+BL33) -> 15 | C33: ='Form Responses 1'!C26/'Form Responses 1'!D26*(1-$C$3) -> 0.54744526 | D33: ='Form Responses 1'!C26/'Form Responses 1'!D26*(1+$C$3) -> 0.91240876 | E33: =AND('Form Responses 1'!E26>C33,'Form Responses 1'!E26<D33) -> TRUE | F33: =IF(E33=TRUE,1,0) -> 1 | G33: ='Form Responses 1'!E26*$E$3*(1-$C$3) -> 0.136875 | H33: ='Form Responses 1'!E26*$E$3*(1+$C$3) -> 0.228125 | I33: =AND('Form Responses 1'!F26>G33,'Form Responses 1'!F26<H33) -> TRUE | J33: =IF(I33=TRUE,1,0) -> 1 | K33: =0.5*$E$3*'Form Responses 1'!E26*'Form Responses 1'!E26*(1-$C$3) -> 0.049959375 | L33: =0.5*$E$3*'Form Responses 1'!E26*'Form Responses 1'!E26*(1+$C$3) -> 0.083265625 | M33: =AND('Form Responses 1'!G26>K33,'Form Responses 1'!G26<L33) -> TRUE | N33: =IF(M33=TRUE,1,0) -> 1 | O33: ='Form Responses 1'!H26/'Form Responses 1'!I26*(1-$C$3) -> 0.076013514 | P33: ='Form Responses 1'!H26/'Form Responses 1'!I26*(1+$C$3) -> 0.12668919 | Q33: =AND('Form Responses 1'!J26>O33,'Form Responses 1'!J26<P33) -> TRUE | R33: =IF(Q33=TRUE,1,0) -> 1 | S33: ='Form Responses 1'!J26*$E$3*(1-$C$3) -> 0.0189375 | T33: ='Form Responses 1'!J26*$E$3*(1+$C$3) -> 0.0315625 | U33: =AND('Form Responses 1'!K26>S33,'Form Responses 1'!K26<T33) -> TRUE | V33: =IF(U33=TRUE,1,0) -> 1 | W33: =0.5*$E$3*'Form Responses 1'!J26*'Form Responses 1'!J26*(1-$C$3) -> 0.00095634375 | X33: =0.5*$E$3*'Form Responses 1'!J26*'Form Responses 1'!J26*(1+$C$3) -> 0.0015939063 | Y33: =AND('Form Responses 1'!L26>W33,'Form Responses 1'!L26<X33) -> TRUE | Z33: =IF(Y33=TRUE,1,0) -> 1 | AA33: ='Form Responses 1'!M26/'Form Responses 1'!N26*(1-$C$3) -> 0.45045045 | AB33: ='Form Responses 1'!M26/'Form Responses 1'!N26*(1+$C$3) -> 0.75075075 | AC33: =AND('Form Responses 1'!O26>AA33,'Form Responses 1'!O26<AB33) -> TRUE | AD33: =IF(AC33=TRUE,1,0) -> 1 | AE33: ='Form Responses 1'!O26*$E$4*(1-$C$3) -> 0.1126875 | AF33: ='Form Responses 1'!O26*$E$4*(1+$C$3) -> 0.1878125 | AG33: =AND('Form Responses 1'!P26>AE33,'Form Responses 1'!P26<AF33) -> TRUE | AH33: =IF(AG33=TRUE,1,0) -> 1 | AI33: =0.5*$E$4*'Form Responses 1'!O26*'Form Responses 1'!O26*(1-$C$3) -> 0.033862594 | AJ33: =0.5*$E$4*'Form Responses 1'!O26*'Form Responses 1'!O26*(1+$C$3) -> 0.056437656 | AK33: =AND('Form Responses 1'!Q26>AI33,'Form Responses 1'!Q26<AJ33) -> TRUE | AL33: =IF(AK33=TRUE,1,0) -> 1 | AM33: ='Form Responses 1'!F26*(1-$C$3) -> 0.135 | AN33: ='Form Responses 1'!F26*(1+$C$3) -> 0.225 | AO33: =AND('Form Responses 1'!R26>AM33,'Form Responses 1'!R26<AN33) -> TRUE | AP33: =IF(AO33=TRUE,1,0) -> 1 | AQ33: ='Form Responses 1'!G26*(1-$C$3) -> 0.04995 | AR33: ='Form Responses 1'!G26*(1+$C$3) -> 0.08325 | AS33: =AND('Form Responses 1'!S26>AQ33,'Form Responses 1'!S26<AR33) -> TRUE | AT33: =IF(AS33=TRUE,1,0) -> 1 | AU33: =('Form Responses 1'!K26+'Form Responses 1'!P26)*(1-$C$3) -> 0.13125 | AV33: =('Form Responses 1'!K26+'Form Responses 1'!P26)*(1+$C$3) -> 0.21875 | AW33: =AND('Form Responses 1'!T26>AU33,'Form Responses 1'!T26<AV33) -> TRUE | AX33: =IF(AW33=TRUE,1,0) -> 1 | AY33: =('Form Responses 1'!L26+'Form Responses 1'!Q26)*(1-$C$3) -> 0.03471 | AZ33: =('Form Responses 1'!L26+'Form Responses 1'!Q26)*(1+$C$3) -> 0.05785 | BA33: =AND('Form Responses 1'!U26>AY33,'Form Responses 1'!U26<AZ33) -> TRUE | BB33: =IF(BA33=TRUE,1,0) -> 1 | BC33: =('Form Responses 1'!R26-'Form Responses 1'!T26)/'Form Responses 1'!R26*100 -> 2.7777778 | BD33: =IF(AND(BC33>=20,'Form Responses 1'!V26=$BC$1)=TRUE,1,0) -> 0 | BE33: =IF(AND(BC33>=0,BC33<=20,'Form Responses 1'!V26=$BC$2)=TRUE,1,0) -> 1 | BF33: =IF(AND(BC33<0)=TRUE,-1,0) -> 0 | BG33: =SUM(BD33:BF33) -> 1 | BH33: =('Form Responses 1'!S26-'Form Responses 1'!U26)/'Form Responses 1'!S26*100 -> 30.510511 | BI33: =IF(AND(BH33>=20,'Form Responses 1'!W26=$BH$1)=TRUE,1,0) -> 1 | BJ33: =IF(AND(BH33>=0,BH33<=20,'Form Responses 1'!W26=$BH$2)=TRUE,1,0) -> 0 | BK33: =IF(AND(BH33<0)=TRUE,-1,0) -> 0 | BL33: =SUM(BI33:BK33) -> 1
A34: ='Form Responses 1'!B27 -> Student 25 | B34: =(F34+J34+N34)+(R34+V34+Z34)+(AD34+AH34+AL34)+(AP34+AT34+AX34+BB34)+(BG34+BL34) -> 15 | C34: ='Form Responses 1'!C27/'Form Responses 1'!D27*(1-$C$3) -> 0.54744526 | D34: ='Form Responses 1'!C27/'Form Responses 1'!D27*(1+$C$3) -> 0.91240876 | E34: =AND('Form Responses 1'!E27>C34,'Form Responses 1'!E27<D34) -> TRUE | F34: =IF(E34=TRUE,1,0) -> 1 | G34: ='Form Responses 1'!E27*$E$3*(1-$C$3) -> 0.13685625 | H34: ='Form Responses 1'!E27*$E$3*(1+$C$3) -> 0.22809375 | I34: =AND('Form Responses 1'!F27>G34,'Form Responses 1'!F27<H34) -> TRUE | J34: =IF(I34=TRUE,1,0) -> 1 | K34: =0.5*$E$3*'Form Responses 1'!E27*'Form Responses 1'!E27*(1-$C$3) -> 0.049945688 | L34: =0.5*$E$3*'Form Responses 1'!E27*'Form Responses 1'!E27*(1+$C$3) -> 0.083242814 | M34: =AND('Form Responses 1'!G27>K34,'Form Responses 1'!G27<L34) -> TRUE | N34: =IF(M34=TRUE,1,0) -> 1 | O34: ='Form Responses 1'!H27/'Form Responses 1'!I27*(1-$C$3) -> 0.076013514 | P34: ='Form Responses 1'!H27/'Form Responses 1'!I27*(1+$C$3) -> 0.12668919 | Q34: =AND('Form Responses 1'!J27>O34,'Form Responses 1'!J27<P34) -> TRUE | R34: =IF(Q34=TRUE,1,0) -> 1 | S34: ='Form Responses 1'!J27*$E$3*(1-$C$3) -> 0.019003125 | T34: ='Form Responses 1'!J27*$E$3*(1+$C$3) -> 0.031671875 | U34: =AND('Form Responses 1'!K27>S34,'Form Responses 1'!K27<T34) -> TRUE | V34: =IF(U34=TRUE,1,0) -> 1 | W34: =0.5*$E$3*'Form Responses 1'!J27*'Form Responses 1'!J27*(1-$C$3) -> 0.00096298336 | X34: =0.5*$E$3*'Form Responses 1'!J27*'Form Responses 1'!J27*(1+$C$3) -> 0.0016049723 | Y34: =AND('Form Responses 1'!L27>W34,'Form Responses 1'!L27<X34) -> TRUE | Z34: =IF(Y34=TRUE,1,0) -> 1 | AA34: ='Form Responses 1'!M27/'Form Responses 1'!N27*(1-$C$3) -> 0.45045045 | AB34: ='Form Responses 1'!M27/'Form Responses 1'!N27*(1+$C$3) -> 0.75075075 | AC34: =AND('Form Responses 1'!O27>AA34,'Form Responses 1'!O27<AB34) -> TRUE | AD34: =IF(AC34=TRUE,1,0) -> 1 | AE34: ='Form Responses 1'!O27*$E$4*(1-$C$3) -> 0.11261261 | AF34: ='Form Responses 1'!O27*$E$4*(1+$C$3) -> 0.18768769 | AG34: =AND('Form Responses 1'!P27>AE34,'Form Responses 1'!P27<AF34) -> TRUE | AH34: =IF(AG34=TRUE,1,0) -> 1 | AI34: =0.5*$E$4*'Form Responses 1'!O27*'Form Responses 1'!O27*(1-$C$3) -> 0.033817601 | AJ34: =0.5*$E$4*'Form Responses 1'!O27*'Form Responses 1'!O27*(1+$C$3) -> 0.056362669 | AK34: =AND('Form Responses 1'!Q27>AI34,'Form Responses 1'!Q27<AJ34) -> TRUE | AL34: =IF(AK34=TRUE,1,0) -> 1 | AM34: ='Form Responses 1'!F27*(1-$C$3) -> 0.13591875 | AN34: ='Form Responses 1'!F27*(1+$C$3) -> 0.22653125 | AO34: =AND('Form Responses 1'!R27>AM34,'Form Responses 1'!R27<AN34) -> TRUE | AP34: =IF(AO34=TRUE,1,0) -> 1 | AQ34: ='Form Responses 1'!G27*(1-$C$3) -> 0.04926375 | AR34: ='Form Responses 1'!G27*(1+$C$3) -> 0.08210625 | AS34: =AND('Form Responses 1'!S27>AQ34,'Form Responses 1'!S27<AR34) -> TRUE | AT34: =IF(AS34=TRUE,1,0) -> 1 | AU34: =('Form Responses 1'!K27+'Form Responses 1'!P27)*(1-$C$3) -> 0.13161563 | AV34: =('Form Responses 1'!K27+'Form Responses 1'!P27)*(1+$C$3) -> 0.21935938 | AW34: =AND('Form Responses 1'!T27>AU34,'Form Responses 1'!T27<AV34) -> TRUE | AX34: =IF(AW34=TRUE,1,0) -> 1 | AY34: =('Form Responses 1'!L27+'Form Responses 1'!Q27)*(1-$C$3) -> 0.034780534 | AZ34: =('Form Responses 1'!L27+'Form Responses 1'!Q27)*(1+$C$3) -> 0.057967556 | BA34: =AND('Form Responses 1'!U27>AY34,'Form Responses 1'!U27<AZ34) -> TRUE | BB34: =IF(BA34=TRUE,1,0) -> 1 | BC34: =('Form Responses 1'!R27-'Form Responses 1'!T27)/'Form Responses 1'!R27*100 -> 3.1659539 | BD34: =IF(AND(BC34>=20,'Form Responses 1'!V27=$BC$1)=TRUE,1,0) -> 0 | BE34: =IF(AND(BC34>=0,BC34<=20,'Form Responses 1'!V27=$BC$2)=TRUE,1,0) -> 1 | BF34: =IF(AND(BC34<0)=TRUE,-1,0) -> 0 | BG34: =SUM(BD34:BF34) -> 1 | BH34: =('Form Responses 1'!S27-'Form Responses 1'!U27)/'Form Responses 1'!S27*100 -> 30.358913 | BI34: =IF(AND(BH34>=20,'Form Responses 1'!W27=$BH$1)=TRUE,1,0) -> 1 | BJ34: =IF(AND(BH34>=0,BH34<=20,'Form Responses 1'!W27=$BH$2)=TRUE,1,0) -> 0 | BK34: =IF(AND(BH34<0)=TRUE,-1,0) -> 0 | BL34: =SUM(BI34:BK34) -> 1
A35: ='Form Responses 1'!B28 -> Student 26 | B35: =(F35+J35+N35)+(R35+V35+Z35)+(AD35+AH35+AL35)+(AP35+AT35+AX35+BB35)+(BG35+BL35) -> 15 | C35: ='Form Responses 1'!C28/'Form Responses 1'!D28*(1-$C$3) -> 0.54744526 | D35: ='Form Responses 1'!C28/'Form Responses 1'!D28*(1+$C$3) -> 0.91240876 | E35: =AND('Form Responses 1'!E28>C35,'Form Responses 1'!E28<D35) -> TRUE | F35: =IF(E35=TRUE,1,0) -> 1 | G35: ='Form Responses 1'!E28*$E$3*(1-$C$3) -> 0.13686131 | H35: ='Form Responses 1'!E28*$E$3*(1+$C$3) -> 0.22810219 | I35: =AND('Form Responses 1'!F28>G35,'Form Responses 1'!F28<H35) -> TRUE | J35: =IF(I35=TRUE,1,0) -> 1 | K35: =0.5*$E$3*'Form Responses 1'!E28*'Form Responses 1'!E28*(1-$C$3) -> 0.049949384 | L35: =0.5*$E$3*'Form Responses 1'!E28*'Form Responses 1'!E28*(1+$C$3) -> 0.083248973 | M35: =AND('Form Responses 1'!G28>K35,'Form Responses 1'!G28<L35) -> TRUE | N35: =IF(M35=TRUE,1,0) -> 1 | O35: ='Form Responses 1'!H28/'Form Responses 1'!I28*(1-$C$3) -> 0.076013514 | P35: ='Form Responses 1'!H28/'Form Responses 1'!I28*(1+$C$3) -> 0.12668919 | Q35: =AND('Form Responses 1'!J28>O35,'Form Responses 1'!J28<P35) -> TRUE | R35: =IF(Q35=TRUE,1,0) -> 1 | S35: ='Form Responses 1'!J28*$E$3*(1-$C$3) -> 0.019003378 | T35: ='Form Responses 1'!J28*$E$3*(1+$C$3) -> 0.031672297 | U35: =AND('Form Responses 1'!K28>S35,'Form Responses 1'!K28<T35) -> TRUE | V35: =IF(U35=TRUE,1,0) -> 1 | W35: =0.5*$E$3*'Form Responses 1'!J28*'Form Responses 1'!J28*(1-$C$3) -> 0.00096300903 | X35: =0.5*$E$3*'Form Responses 1'!J28*'Form Responses 1'!J28*(1+$C$3) -> 0.0016050151 | Y35: =AND('Form Responses 1'!L28>W35,'Form Responses 1'!L28<X35) -> TRUE | Z35: =IF(Y35=TRUE,1,0) -> 1 | AA35: ='Form Responses 1'!M28/'Form Responses 1'!N28*(1-$C$3) -> 0.45045045 | AB35: ='Form Responses 1'!M28/'Form Responses 1'!N28*(1+$C$3) -> 0.75075075 | AC35: =AND('Form Responses 1'!O28>AA35,'Form Responses 1'!O28<AB35) -> TRUE | AD35: =IF(AC35=TRUE,1,0) -> 1 | AE35: ='Form Responses 1'!O28*$E$4*(1-$C$3) -> 0.11261261 | AF35: ='Form Responses 1'!O28*$E$4*(1+$C$3) -> 0.18768769 | AG35: =AND('Form Responses 1'!P28>AE35,'Form Responses 1'!P28<AF35) -> TRUE | AH35: =IF(AG35=TRUE,1,0) -> 1 | AI35: =0.5*$E$4*'Form Responses 1'!O28*'Form Responses 1'!O28*(1-$C$3) -> 0.033817601 | AJ35: =0.5*$E$4*'Form Responses 1'!O28*'Form Responses 1'!O28*(1+$C$3) -> 0.056362669 | AK35: =AND('Form Responses 1'!Q28>AI35,'Form Responses 1'!Q28<AJ35) -> TRUE | AL35: =IF(AK35=TRUE,1,0) -> 1 | AM35: ='Form Responses 1'!F28*(1-$C$3) -> 0.13686131 | AN35: ='Form Responses 1'!F28*(1+$C$3) -> 0.22810219 | AO35: =AND('Form Responses 1'!R28>AM35,'Form Responses 1'!R28<AN35) -> TRUE | AP35: =IF(AO35=TRUE,1,0) -> 1 | AQ35: ='Form Responses 1'!G28*(1-$C$3) -> 0.049949383 | AR35: ='Form Responses 1'!G28*(1+$C$3) -> 0.083248972 | AS35: =AND('Form Responses 1'!S28>AQ35,'Form Responses 1'!S28<AR35) -> TRUE | AT35: =IF(AS35=TRUE,1,0) -> 1 | AU35: =('Form Responses 1'!K28+'Form Responses 1'!P28)*(1-$C$3) -> 0.13161596 | AV35: =('Form Responses 1'!K28+'Form Responses 1'!P28)*(1+$C$3) -> 0.21935994 | AW35: =AND('Form Responses 1'!T28>AU35,'Form Responses 1'!T28<AV35) -> TRUE | AX35: =IF(AW35=TRUE,1,0) -> 1 | AY35: =('Form Responses 1'!L28+'Form Responses 1'!Q28)*(1-$C$3) -> 0.03478061 | AZ35: =('Form Responses 1'!L28+'Form Responses 1'!Q28)*(1+$C$3) -> 0.057967684 | BA35: =AND('Form Responses 1'!U28>AY35,'Form Responses 1'!U28<AZ35) -> TRUE | BB35: =IF(BA35=TRUE,1,0) -> 1 | BC35: =('Form Responses 1'!R28-'Form Responses 1'!T28)/'Form Responses 1'!R28*100 -> 3.8325822 | BD35: =IF(AND(BC35>=20,'Form Responses 1'!V28=$BC$1)=TRUE,1,0) -> 0 | BE35: =IF(AND(BC35>=0,BC35<=20,'Form Responses 1'!V28=$BC$2)=TRUE,1,0) -> 1 | BF35: =IF(AND(BC35<0)=TRUE,-1,0) -> 0 | BG35: =SUM(BD35:BF35) -> 1 | BH35: =('Form Responses 1'!S28-'Form Responses 1'!U28)/'Form Responses 1'!S28*100 -> 30.368289 | BI35: =IF(AND(BH35>=20,'Form Responses 1'!W28=$BH$1)=TRUE,1,0) -> 1 | BJ35: =IF(AND(BH35>=0,BH35<=20,'Form Responses 1'!W28=$BH$2)=TRUE,1,0) -> 0 | BK35: =IF(AND(BH35<0)=TRUE,-1,0) -> 0 | BL35: =SUM(BI35:BK35) -> 1
A36: ='Form Responses 1'!B29 -> Student 27 | B36: =(F36+J36+N36)+(R36+V36+Z36)+(AD36+AH36+AL36)+(AP36+AT36+AX36+BB36)+(BG36+BL36) -> 15 | C36: ='Form Responses 1'!C29/'Form Responses 1'!D29*(1-$C$3) -> 0.54744526 | D36: ='Form Responses 1'!C29/'Form Responses 1'!D29*(1+$C$3) -> 0.91240876 | E36: =AND('Form Responses 1'!E29>C36,'Form Responses 1'!E29<D36) -> TRUE | F36: =IF(E36=TRUE,1,0) -> 1 | G36: ='Form Responses 1'!E29*$E$3*(1-$C$3) -> 0.13686131 | H36: ='Form Responses 1'!E29*$E$3*(1+$C$3) -> 0.22810219 | I36: =AND('Form Responses 1'!F29>G36,'Form Responses 1'!F29<H36) -> TRUE | J36: =IF(I36=TRUE,1,0) -> 1 | K36: =0.5*$E$3*'Form Responses 1'!E29*'Form Responses 1'!E29*(1-$C$3) -> 0.049949384 | L36: =0.5*$E$3*'Form Responses 1'!E29*'Form Responses 1'!E29*(1+$C$3) -> 0.083248973 | M36: =AND('Form Responses 1'!G29>K36,'Form Responses 1'!G29<L36) -> TRUE | N36: =IF(M36=TRUE,1,0) -> 1 | O36: ='Form Responses 1'!H29/'Form Responses 1'!I29*(1-$C$3) -> 0.076013514 | P36: ='Form Responses 1'!H29/'Form Responses 1'!I29*(1+$C$3) -> 0.12668919 | Q36: =AND('Form Responses 1'!J29>O36,'Form Responses 1'!J29<P36) -> TRUE | R36: =IF(Q36=TRUE,1,0) -> 1 | S36: ='Form Responses 1'!J29*$E$3*(1-$C$3) -> 0.019003378 | T36: ='Form Responses 1'!J29*$E$3*(1+$C$3) -> 0.031672297 | U36: =AND('Form Responses 1'!K29>S36,'Form Responses 1'!K29<T36) -> TRUE | V36: =IF(U36=TRUE,1,0) -> 1 | W36: =0.5*$E$3*'Form Responses 1'!J29*'Form Responses 1'!J29*(1-$C$3) -> 0.00096300903 | X36: =0.5*$E$3*'Form Responses 1'!J29*'Form Responses 1'!J29*(1+$C$3) -> 0.0016050151 | Y36: =AND('Form Responses 1'!L29>W36,'Form Responses 1'!L29<X36) -> TRUE | Z36: =IF(Y36=TRUE,1,0) -> 1 | AA36: ='Form Responses 1'!M29/'Form Responses 1'!N29*(1-$C$3) -> 0.45045045 | AB36: ='Form Responses 1'!M29/'Form Responses 1'!N29*(1+$C$3) -> 0.75075075 | AC36: =AND('Form Responses 1'!O29>AA36,'Form Responses 1'!O29<AB36) -> TRUE | AD36: =IF(AC36=TRUE,1,0) -> 1 | AE36: ='Form Responses 1'!O29*$E$4*(1-$C$3) -> 0.11261261 | AF36: ='Form Responses 1'!O29*$E$4*(1+$C$3) -> 0.18768769 | AG36: =AND('Form Responses 1'!P29>AE36,'Form Responses 1'!P29<AF36) -> TRUE | AH36: =IF(AG36=TRUE,1,0) -> 1 | AI36: =0.5*$E$4*'Form Responses 1'!O29*'Form Responses 1'!O29*(1-$C$3) -> 0.033817601 | AJ36: =0.5*$E$4*'Form Responses 1'!O29*'Form Responses 1'!O29*(1+$C$3) -> 0.056362669 | AK36: =AND('Form Responses 1'!Q29>AI36,'Form Responses 1'!Q29<AJ36) -> TRUE | AL36: =IF(AK36=TRUE,1,0) -> 1 | AM36: ='Form Responses 1'!F29*(1-$C$3) -> 0.13686131 | AN36: ='Form Responses 1'!F29*(1+$C$3) -> 0.22810219 | AO36: =AND('Form Responses 1'!R29>AM36,'Form Responses 1'!R29<AN36) -> TRUE | AP36: =IF(AO36=TRUE,1,0) -> 1 | AQ36: ='Form Responses 1'!G29*(1-$C$3) -> 0.049949383 | AR36: ='Form Responses 1'!G29*(1+$C$3) -> 0.083248972 | AS36: =AND('Form Responses 1'!S29>AQ36,'Form Responses 1'!S29<AR36) -> TRUE | AT36: =IF(AS36=TRUE,1,0) -> 1 | AU36: =('Form Responses 1'!K29+'Form Responses 1'!P29)*(1-$C$3) -> 0.13161599 | AV36: =('Form Responses 1'!K29+'Form Responses 1'!P29)*(1+$C$3) -> 0.21935998 | AW36: =AND('Form Responses 1'!T29>AU36,'Form Responses 1'!T29<AV36) -> TRUE | AX36: =IF(AW36=TRUE,1,0) -> 1 | AY36: =('Form Responses 1'!L29+'Form Responses 1'!Q29)*(1-$C$3) -> 0.03478061 | AZ36: =('Form Responses 1'!L29+'Form Responses 1'!Q29)*(1+$C$3) -> 0.057967684 | BA36: =AND('Form Responses 1'!U29>AY36,'Form Responses 1'!U29<AZ36) -> TRUE | BB36: =IF(BA36=TRUE,1,0) -> 1 | BC36: =('Form Responses 1'!R29-'Form Responses 1'!T29)/'Form Responses 1'!R29*100 -> 3.8325822 | BD36: =IF(AND(BC36>=20,'Form Responses 1'!V29=$BC$1)=TRUE,1,0) -> 0 | BE36: =IF(AND(BC36>=0,BC36<=20,'Form Responses 1'!V29=$BC$2)=TRUE,1,0) -> 1 | BF36: =IF(AND(BC36<0)=TRUE,-1,0) -> 0 | BG36: =SUM(BD36:BF36) -> 1 | BH36: =('Form Responses 1'!S29-'Form Responses 1'!U29)/'Form Responses 1'!S29*100 -> 30.368289 | BI36: =IF(AND(BH36>=20,'Form Responses 1'!W29=$BH$1)=TRUE,1,0) -> 1 | BJ36: =IF(AND(BH36>=0,BH36<=20,'Form Responses 1'!W29=$BH$2)=TRUE,1,0) -> 0 | BK36: =IF(AND(BH36<0)=TRUE,-1,0) -> 0 | BL36: =SUM(BI36:BK36) -> 1
A37: ='Form Responses 1'!B30 -> Student 28 | B37: =(F37+J37+N37)+(R37+V37+Z37)+(AD37+AH37+AL37)+(AP37+AT37+AX37+BB37)+(BG37+BL37) -> 13 | C37: ='Form Responses 1'!C30/'Form Responses 1'!D30*(1-$C$3) -> 0.68807339 | D37: ='Form Responses 1'!C30/'Form Responses 1'!D30*(1+$C$3) -> 1.146789 | E37: =AND('Form Responses 1'!E30>C37,'Form Responses 1'!E30<D37) -> TRUE | F37: =IF(E37=TRUE,1,0) -> 1 | G37: ='Form Responses 1'!E30*$E$3*(1-$C$3) -> 0.1720185 | H37: ='Form Responses 1'!E30*$E$3*(1+$C$3) -> 0.2866975 | I37: =AND('Form Responses 1'!F30>G37,'Form Responses 1'!F30<H37) -> TRUE | J37: =IF(I37=TRUE,1,0) -> 1 | K37: =0.5*$E$3*'Form Responses 1'!E30*'Form Responses 1'!E30*(1-$C$3) -> 0.078907638 | L37: =0.5*$E$3*'Form Responses 1'!E30*'Form Responses 1'!E30*(1+$C$3) -> 0.13151273 | M37: =AND('Form Responses 1'!G30>K37,'Form Responses 1'!G30<L37) -> TRUE | N37: =IF(M37=TRUE,1,0) -> 1 | O37: ='Form Responses 1'!H30/'Form Responses 1'!I30*(1-$C$3) -> #DIV/0! | P37: ='Form Responses 1'!H30/'Form Responses 1'!I30*(1+$C$3) -> #DIV/0! | Q37: TRUE | R37: =IF(Q37=TRUE,1,0) -> 1 | S37: ='Form Responses 1'!J30*$E$3*(1-$C$3) -> 0 | T37: ='Form Responses 1'!J30*$E$3*(1+$C$3) -> 0 | U37: =AND('Form Responses 1'!K30>S37,'Form Responses 1'!K30<T37) -> FALSE | V37: =IF(U37=TRUE,1,0) -> 0 | W37: =0.5*$E$3*'Form Responses 1'!J30*'Form Responses 1'!J30*(1-$C$3) -> 0 | X37: =0.5*$E$3*'Form Responses 1'!J30*'Form Responses 1'!J30*(1+$C$3) -> 0 | Y37: =AND('Form Responses 1'!L30>W37,'Form Responses 1'!L30<X37) -> FALSE | Z37: =IF(Y37=TRUE,1,0) -> 0 | AA37: ='Form Responses 1'!M30/'Form Responses 1'!N30*(1-$C$3) -> 0.50167224 | AB37: ='Form Responses 1'!M30/'Form Responses 1'!N30*(1+$C$3) -> 0.8361204 | AC37: =AND('Form Responses 1'!O30>AA37,'Form Responses 1'!O30<AB37) -> TRUE | AD37: =IF(AC37=TRUE,1,0) -> 1 | AE37: ='Form Responses 1'!O30*$E$4*(1-$C$3) -> 0.12541819 | AF37: ='Form Responses 1'!O30*$E$4*(1+$C$3) -> 0.20903031 | AG37: =AND('Form Responses 1'!P30>AE37,'Form Responses 1'!P30<AF37) -> TRUE | AH37: =IF(AG37=TRUE,1,0) -> 1 | AI37: =0.5*$E$4*'Form Responses 1'!O30*'Form Responses 1'!O30*(1-$C$3) -> 0.041945925 | AJ37: =0.5*$E$4*'Form Responses 1'!O30*'Form Responses 1'!O30*(1+$C$3) -> 0.069909874 | AK37: =AND('Form Responses 1'!Q30>AI37,'Form Responses 1'!Q30<AJ37) -> TRUE | AL37: =IF(AK37=TRUE,1,0) -> 1 | AM37: ='Form Responses 1'!F30*(1-$C$3) -> 0.17201835 | AN37: ='Form Responses 1'!F30*(1+$C$3) -> 0.28669725 | AO37: =AND('Form Responses 1'!R30>AM37,'Form Responses 1'!R30<AN37) -> TRUE | AP37: =IF(AO37=TRUE,1,0) -> 1 | AQ37: ='Form Responses 1'!G30*(1-$C$3) -> 0.078907499 | AR37: ='Form Responses 1'!G30*(1+$C$3) -> 0.1315125 | AS37: =AND('Form Responses 1'!S30>AQ37,'Form Responses 1'!S30<AR37) -> TRUE | AT37: =IF(AS37=TRUE,1,0) -> 1 | AU37: =('Form Responses 1'!K30+'Form Responses 1'!P30)*(1-$C$3) -> 0.12541807 | AV37: =('Form Responses 1'!K30+'Form Responses 1'!P30)*(1+$C$3) -> 0.20903012 | AW37: =AND('Form Responses 1'!T30>AU37,'Form Responses 1'!T30<AV37) -> TRUE | AX37: =IF(AW37=TRUE,1,0) -> 1 | AY37: =('Form Responses 1'!L30+'Form Responses 1'!Q30)*(1-$C$3) -> 0.041945839 | AZ37: =('Form Responses 1'!L30+'Form Responses 1'!Q30)*(1+$C$3) -> 0.069909733 | BA37: =AND('Form Responses 1'!U30>AY37,'Form Responses 1'!U30<AZ37) -> TRUE | BB37: =IF(BA37=TRUE,1,0) -> 1 | BC37: =('Form Responses 1'!R30-'Form Responses 1'!T30)/'Form Responses 1'!R30*100 -> 27.090301 | BD37: =IF(AND(BC37>=20,'Form Responses 1'!V30=$BC$1)=TRUE,1,0) -> 1 | BE37: =IF(AND(BC37>=0,BC37<=20,'Form Responses 1'!V30=$BC$2)=TRUE,1,0) -> 0 | BF37: =IF(AND(BC37<0)=TRUE,-1,0) -> 0 | BG37: =SUM(BD37:BF37) -> 1 | BH37: =('Form Responses 1'!S30-'Form Responses 1'!U30)/'Form Responses 1'!S30*100 -> 46.841758 | BI37: =IF(AND(BH37>=20,'Form Responses 1'!W30=$BH$1)=TRUE,1,0) -> 1 | BJ37: =IF(AND(BH37>=0,BH37<=20,'Form Responses 1'!W30=$BH$2)=TRUE,1,0) -> 0 | BK37: =IF(AND(BH37<0)=TRUE,-1,0) -> 0 | BL37: =SUM(BI37:BK37) -> 1
A38: ='Form Responses 1'!B31 -> Student 29 | B38: =(F38+J38+N38)+(R38+V38+Z38)+(AD38+AH38+AL38)+(AP38+AT38+AX38+BB38)+(BG38+BL38) -> 12 | C38: ='Form Responses 1'!C31/'Form Responses 1'!D31*(1-$C$3) -> 0.68807339 | D38: ='Form Responses 1'!C31/'Form Responses 1'!D31*(1+$C$3) -> 1.146789 | E38: =AND('Form Responses 1'!E31>C38,'Form Responses 1'!E31<D38) -> TRUE | F38: =IF(E38=TRUE,1,0) -> 1 | G38: ='Form Responses 1'!E31*$E$3*(1-$C$3) -> 0.1720125 | H38: ='Form Responses 1'!E31*$E$3*(1+$C$3) -> 0.2866875 | I38: =AND('Form Responses 1'!F31>G38,'Form Responses 1'!F31<H38) -> TRUE | J38: =IF(I38=TRUE,1,0) -> 1 | K38: =0.5*$E$3*'Form Responses 1'!E31*'Form Responses 1'!E31*(1-$C$3) -> 0.078902134 | L38: =0.5*$E$3*'Form Responses 1'!E31*'Form Responses 1'!E31*(1+$C$3) -> 0.13150356 | M38: =AND('Form Responses 1'!G31>K38,'Form Responses 1'!G31<L38) -> TRUE | N38: =IF(M38=TRUE,1,0) -> 1 | O38: ='Form Responses 1'!H31/'Form Responses 1'!I31*(1-$C$3) -> #DIV/0! | P38: ='Form Responses 1'!H31/'Form Responses 1'!I31*(1+$C$3) -> #DIV/0! | Q38: T | R38: =IF(Q38=TRUE,1,0) -> 0 | S38: ='Form Responses 1'!J31*$E$3*(1-$C$3) -> 0 | T38: ='Form Responses 1'!J31*$E$3*(1+$C$3) -> 0 | U38: =AND('Form Responses 1'!K31>S38,'Form Responses 1'!K31<T38) -> FALSE | V38: =IF(U38=TRUE,1,0) -> 0 | W38: =0.5*$E$3*'Form Responses 1'!J31*'Form Responses 1'!J31*(1-$C$3) -> 0 | X38: =0.5*$E$3*'Form Responses 1'!J31*'Form Responses 1'!J31*(1+$C$3) -> 0 | Y38: =AND('Form Responses 1'!L31>W38,'Form Responses 1'!L31<X38) -> FALSE | Z38: =IF(Y38=TRUE,1,0) -> 0 | AA38: ='Form Responses 1'!M31/'Form Responses 1'!N31*(1-$C$3) -> 0.50167224 | AB38: ='Form Responses 1'!M31/'Form Responses 1'!N31*(1+$C$3) -> 0.8361204 | AC38: =AND('Form Responses 1'!O31>AA38,'Form Responses 1'!O31<AB38) -> TRUE | AD38: =IF(AC38=TRUE,1,0) -> 1 | AE38: ='Form Responses 1'!O31*$E$4*(1-$C$3) -> 0.12541875 | AF38: ='Form Responses 1'!O31*$E$4*(1+$C$3) -> 0.20903125 | AG38: =AND('Form Responses 1'!P31>AE38,'Form Responses 1'!P31<AF38) -> TRUE | AH38: =IF(AG38=TRUE,1,0) -> 1 | AI38: =0.5*$E$4*'Form Responses 1'!O31*'Form Responses 1'!O31*(1-$C$3) -> 0.041946301 | AJ38: =0.5*$E$4*'Form Responses 1'!O31*'Form Responses 1'!O31*(1+$C$3) -> 0.069910502 | AK38: =AND('Form Responses 1'!Q31>AI38,'Form Responses 1'!Q31<AJ38) -> TRUE | AL38: =IF(AK38=TRUE,1,0) -> 1 | AM38: ='Form Responses 1'!F31*(1-$C$3) -> 0.17205 | AN38: ='Form Responses 1'!F31*(1+$C$3) -> 0.28675 | AO38: =AND('Form Responses 1'!R31>AM38,'Form Responses 1'!R31<AN38) -> TRUE | AP38: =IF(AO38=TRUE,1,0) -> 1 | AQ38: ='Form Responses 1'!G31*(1-$C$3) -> 0.0789 | AR38: ='Form Responses 1'!G31*(1+$C$3) -> 0.1315 | AS38: =AND('Form Responses 1'!S31>AQ38,'Form Responses 1'!S31<AR38) -> TRUE | AT38: =IF(AS38=TRUE,1,0) -> 1 | AU38: =('Form Responses 1'!K31+'Form Responses 1'!P31)*(1-$C$3) -> 0.1254 | AV38: =('Form Responses 1'!K31+'Form Responses 1'!P31)*(1+$C$3) -> 0.209 | AW38: =AND('Form Responses 1'!T31>AU38,'Form Responses 1'!T31<AV38) -> TRUE | AX38: =IF(AW38=TRUE,1,0) -> 1 | AY38: =('Form Responses 1'!L31+'Form Responses 1'!Q31)*(1-$C$3) -> 0.041925 | AZ38: =('Form Responses 1'!L31+'Form Responses 1'!Q31)*(1+$C$3) -> 0.069875 | BA38: =AND('Form Responses 1'!U31>AY38,'Form Responses 1'!U31<AZ38) -> TRUE | BB38: =IF(BA38=TRUE,1,0) -> 1 | BC38: =('Form Responses 1'!R31-'Form Responses 1'!T31)/'Form Responses 1'!R31*100 -> 27.114211 | BD38: =IF(AND(BC38>=20,'Form Responses 1'!V31=$BC$1)=TRUE,1,0) -> 1 | BE38: =IF(AND(BC38>=0,BC38<=20,'Form Responses 1'!V31=$BC$2)=TRUE,1,0) -> 0 | BF38: =IF(AND(BC38<0)=TRUE,-1,0) -> 0 | BG38: =SUM(BD38:BF38) -> 1 | BH38: =('Form Responses 1'!S31-'Form Responses 1'!U31)/'Form Responses 1'!S31*100 -> 46.863118 | BI38: =IF(AND(BH38>=20,'Form Responses 1'!W31=$BH$1)=TRUE,1,0) -> 1 | BJ38: =IF(AND(BH38>=0,BH38<=20,'Form Responses 1'!W31=$BH$2)=TRUE,1,0) -> 0 | BK38: =IF(AND(BH38<0)=TRUE,-1,0) -> 0 | BL38: =SUM(BI38:BK38) -> 1
A39: ='Form Responses 1'!B32 -> Student 30 | B39: =(F39+J39+N39)+(R39+V39+Z39)+(AD39+AH39+AL39)+(AP39+AT39+AX39+BB39)+(BG39+BL39) -> 12 | C39: ='Form Responses 1'!C32/'Form Responses 1'!D32*(1-$C$3) -> 0.68807339 | D39: ='Form Responses 1'!C32/'Form Responses 1'!D32*(1+$C$3) -> 1.146789 | E39: =AND('Form Responses 1'!E32>C39,'Form Responses 1'!E32<D39) -> TRUE | F39: =IF(E39=TRUE,1,0) -> 1 | G39: ='Form Responses 1'!E32*$E$3*(1-$C$3) -> 0.17201812 | H39: ='Form Responses 1'!E32*$E$3*(1+$C$3) -> 0.28669687 | I39: =AND('Form Responses 1'!F32>G39,'Form Responses 1'!F32<H39) -> TRUE | J39: =IF(I39=TRUE,1,0) -> 1 | K39: =0.5*$E$3*'Form Responses 1'!E32*'Form Responses 1'!E32*(1-$C$3) -> 0.078907294 | L39: =0.5*$E$3*'Form Responses 1'!E32*'Form Responses 1'!E32*(1+$C$3) -> 0.13151216 | M39: =AND('Form Responses 1'!G32>K39,'Form Responses 1'!G32<L39) -> TRUE | N39: =IF(M39=TRUE,1,0) -> 1 | O39: ='Form Responses 1'!H32/'Form Responses 1'!I32*(1-$C$3) -> #DIV/0! | P39: ='Form Responses 1'!H32/'Form Responses 1'!I32*(1+$C$3) -> #DIV/0! | Q39: T | R39: =IF(Q39=TRUE,1,0) -> 0 | S39: ='Form Responses 1'!J32*$E$3*(1-$C$3) -> 0 | T39: ='Form Responses 1'!J32*$E$3*(1+$C$3) -> 0 | U39: =AND('Form Responses 1'!K32>S39,'Form Responses 1'!K32<T39) -> FALSE | V39: =IF(U39=TRUE,1,0) -> 0 | W39: =0.5*$E$3*'Form Responses 1'!J32*'Form Responses 1'!J32*(1-$C$3) -> 0 | X39: =0.5*$E$3*'Form Responses 1'!J32*'Form Responses 1'!J32*(1+$C$3) -> 0 | Y39: =AND('Form Responses 1'!L32>W39,'Form Responses 1'!L32<X39) -> FALSE | Z39: =IF(Y39=TRUE,1,0) -> 0 | AA39: ='Form Responses 1'!M32/'Form Responses 1'!N32*(1-$C$3) -> 0.50167224 | AB39: ='Form Responses 1'!M32/'Form Responses 1'!N32*(1+$C$3) -> 0.8361204 | AC39: =AND('Form Responses 1'!O32>AA39,'Form Responses 1'!O32<AB39) -> TRUE | AD39: =IF(AC39=TRUE,1,0) -> 1 | AE39: ='Form Responses 1'!O32*$E$4*(1-$C$3) -> 0.12541806 | AF39: ='Form Responses 1'!O32*$E$4*(1+$C$3) -> 0.2090301 | AG39: =AND('Form Responses 1'!P32>AE39,'Form Responses 1'!P32<AF39) -> TRUE | AH39: =IF(AG39=TRUE,1,0) -> 1 | AI39: =0.5*$E$4*'Form Responses 1'!O32*'Form Responses 1'!O32*(1-$C$3) -> 0.04194584 | AJ39: =0.5*$E$4*'Form Responses 1'!O32*'Form Responses 1'!O32*(1+$C$3) -> 0.069909733 | AK39: =AND('Form Responses 1'!Q32>AI39,'Form Responses 1'!Q32<AJ39) -> TRUE | AL39: =IF(AK39=TRUE,1,0) -> 1 | AM39: ='Form Responses 1'!F32*(1-$C$3) -> 0.1720125 | AN39: ='Form Responses 1'!F32*(1+$C$3) -> 0.2866875 | AO39: =AND('Form Responses 1'!R32>AM39,'Form Responses 1'!R32<AN39) -> TRUE | AP39: =IF(AO39=TRUE,1,0) -> 1 | AQ39: ='Form Responses 1'!G32*(1-$C$3) -> 0.078907294 | AR39: ='Form Responses 1'!G32*(1+$C$3) -> 0.13151216 | AS39: =AND('Form Responses 1'!S32>AQ39,'Form Responses 1'!S32<AR39) -> TRUE | AT39: =IF(AS39=TRUE,1,0) -> 1 | AU39: =('Form Responses 1'!K32+'Form Responses 1'!P32)*(1-$C$3) -> 0.12541806 | AV39: =('Form Responses 1'!K32+'Form Responses 1'!P32)*(1+$C$3) -> 0.2090301 | AW39: =AND('Form Responses 1'!T32>AU39,'Form Responses 1'!T32<AV39) -> TRUE | AX39: =IF(AW39=TRUE,1,0) -> 1 | AY39: =('Form Responses 1'!L32+'Form Responses 1'!Q32)*(1-$C$3) -> 0.041945839 | AZ39: =('Form Responses 1'!L32+'Form Responses 1'!Q32)*(1+$C$3) -> 0.069909733 | BA39: =AND('Form Responses 1'!U32>AY39,'Form Responses 1'!U32<AZ39) -> TRUE | BB39: =IF(BA39=TRUE,1,0) -> 1 | BC39: =('Form Responses 1'!R32-'Form Responses 1'!T32)/'Form Responses 1'!R32*100 -> 27.087822 | BD39: =IF(AND(BC39>=20,'Form Responses 1'!V32=$BC$1)=TRUE,1,0) -> 1 | BE39: =IF(AND(BC39>=0,BC39<=20,'Form Responses 1'!V32=$BC$2)=TRUE,1,0) -> 0 | BF39: =IF(AND(BC39<0)=TRUE,-1,0) -> 0 | BG39: =SUM(BD39:BF39) -> 1 | BH39: =('Form Responses 1'!S32-'Form Responses 1'!U32)/'Form Responses 1'!S32*100 -> 46.84162 | BI39: =IF(AND(BH39>=20,'Form Responses 1'!W32=$BH$1)=TRUE,1,0) -> 1 | BJ39: =IF(AND(BH39>=0,BH39<=20,'Form Responses 1'!W32=$BH$2)=TRUE,1,0) -> 0 | BK39: =IF(AND(BH39<0)=TRUE,-1,0) -> 0 | BL39: =SUM(BI39:BK39) -> 1
A40: ='Form Responses 1'!B33 -> Student 31 | B40: =(F40+J40+N40)+(R40+V40+Z40)+(AD40+AH40+AL40)+(AP40+AT40+AX40+BB40)+(BG40+BL40) -> 12 | C40: ='Form Responses 1'!C33/'Form Responses 1'!D33*(1-$C$3) -> 0.68807339 | D40: ='Form Responses 1'!C33/'Form Responses 1'!D33*(1+$C$3) -> 1.146789 | E40: =AND('Form Responses 1'!E33>C40,'Form Responses 1'!E33<D40) -> TRUE | F40: =IF(E40=TRUE,1,0) -> 1 | G40: ='Form Responses 1'!E33*$E$3*(1-$C$3) -> 0.1719375 | H40: ='Form Responses 1'!E33*$E$3*(1+$C$3) -> 0.2865625 | I40: =AND('Form Responses 1'!F33>G40,'Form Responses 1'!F33<H40) -> TRUE | J40: =IF(I40=TRUE,1,0) -> 1 | K40: =0.5*$E$3*'Form Responses 1'!E33*'Form Responses 1'!E33*(1-$C$3) -> 0.078833344 | L40: =0.5*$E$3*'Form Responses 1'!E33*'Form Responses 1'!E33*(1+$C$3) -> 0.13138891 | M40: =AND('Form Responses 1'!G33>K40,'Form Responses 1'!G33<L40) -> TRUE | N40: =IF(M40=TRUE,1,0) -> 1 | O40: ='Form Responses 1'!H33/'Form Responses 1'!I33*(1-$C$3) -> #DIV/0! | P40: ='Form Responses 1'!H33/'Form Responses 1'!I33*(1+$C$3) -> #DIV/0! | Q40: T | R40: =IF(Q40=TRUE,1,0) -> 0 | S40: ='Form Responses 1'!J33*$E$3*(1-$C$3) -> 0 | T40: ='Form Responses 1'!J33*$E$3*(1+$C$3) -> 0 | U40: =AND('Form Responses 1'!K33>S40,'Form Responses 1'!K33<T40) -> FALSE | V40: =IF(U40=TRUE,1,0) -> 0 | W40: =0.5*$E$3*'Form Responses 1'!J33*'Form Responses 1'!J33*(1-$C$3) -> 0 | X40: =0.5*$E$3*'Form Responses 1'!J33*'Form Responses 1'!J33*(1+$C$3) -> 0 | Y40: =AND('Form Responses 1'!L33>W40,'Form Responses 1'!L33<X40) -> FALSE | Z40: =IF(Y40=TRUE,1,0) -> 0 | AA40: ='Form Responses 1'!M33/'Form Responses 1'!N33*(1-$C$3) -> 0.50167224 | AB40: ='Form Responses 1'!M33/'Form Responses 1'!N33*(1+$C$3) -> 0.8361204 | AC40: =AND('Form Responses 1'!O33>AA40,'Form Responses 1'!O33<AB40) -> TRUE | AD40: =IF(AC40=TRUE,1,0) -> 1 | AE40: ='Form Responses 1'!O33*$E$4*(1-$C$3) -> 0.12541875 | AF40: ='Form Responses 1'!O33*$E$4*(1+$C$3) -> 0.20903125 | AG40: =AND('Form Responses 1'!P33>AE40,'Form Responses 1'!P33<AF40) -> TRUE | AH40: =IF(AG40=TRUE,1,0) -> 1 | AI40: =0.5*$E$4*'Form Responses 1'!O33*'Form Responses 1'!O33*(1-$C$3) -> 0.041946301 | AJ40: =0.5*$E$4*'Form Responses 1'!O33*'Form Responses 1'!O33*(1+$C$3) -> 0.069910502 | AK40: =AND('Form Responses 1'!Q33>AI40,'Form Responses 1'!Q33<AJ40) -> TRUE | AL40: =IF(AK40=TRUE,1,0) -> 1 | AM40: ='Form Responses 1'!F33*(1-$C$3) -> 0.17202 | AN40: ='Form Responses 1'!F33*(1+$C$3) -> 0.2867 | AO40: =AND('Form Responses 1'!R33>AM40,'Form Responses 1'!R33<AN40) -> TRUE | AP40: =IF(AO40=TRUE,1,0) -> 1 | AQ40: ='Form Responses 1'!G33*(1-$C$3) -> 0.0789 | AR40: ='Form Responses 1'!G33*(1+$C$3) -> 0.1315 | AS40: =AND('Form Responses 1'!S33>AQ40,'Form Responses 1'!S33<AR40) -> TRUE | AT40: =IF(AS40=TRUE,1,0) -> 1 | AU40: =('Form Responses 1'!K33+'Form Responses 1'!P33)*(1-$C$3) -> 0.1254 | AV40: =('Form Responses 1'!K33+'Form Responses 1'!P33)*(1+$C$3) -> 0.209 | AW40: =AND('Form Responses 1'!T33>AU40,'Form Responses 1'!T33<AV40) -> TRUE | AX40: =IF(AW40=TRUE,1,0) -> 1 | AY40: =('Form Responses 1'!L33+'Form Responses 1'!Q33)*(1-$C$3) -> 0.041925 | AZ40: =('Form Responses 1'!L33+'Form Responses 1'!Q33)*(1+$C$3) -> 0.069875 | BA40: =AND('Form Responses 1'!U33>AY40,'Form Responses 1'!U33<AZ40) -> TRUE | BB40: =IF(BA40=TRUE,1,0) -> 1 | BC40: =('Form Responses 1'!R33-'Form Responses 1'!T33)/'Form Responses 1'!R33*100 -> 27.1015 | BD40: =IF(AND(BC40>=20,'Form Responses 1'!V33=$BC$1)=TRUE,1,0) -> 1 | BE40: =IF(AND(BC40>=0,BC40<=20,'Form Responses 1'!V33=$BC$2)=TRUE,1,0) -> 0 | BF40: =IF(AND(BC40<0)=TRUE,-1,0) -> 0 | BG40: =SUM(BD40:BF40) -> 1 | BH40: =('Form Responses 1'!S33-'Form Responses 1'!U33)/'Form Responses 1'!S33*100 -> 46.863118 | BI40: =IF(AND(BH40>=20,'Form Responses 1'!W33=$BH$1)=TRUE,1,0) -> 1 | BJ40: =IF(AND(BH40>=0,BH40<=20,'Form Responses 1'!W33=$BH$2)=TRUE,1,0) -> 0 | BK40: =IF(AND(BH40<0)=TRUE,-1,0) -> 0 | BL40: =SUM(BI40:BK40) -> 1
A41: ='Form Responses 1'!B34 -> Student 32 | B41: =(F41+J41+N41)+(R41+V41+Z41)+(AD41+AH41+AL41)+(AP41+AT41+AX41+BB41)+(BG41+BL41) -> 13 | C41: ='Form Responses 1'!C34/'Form Responses 1'!D34*(1-$C$3) -> 0.54744526 | D41: ='Form Responses 1'!C34/'Form Responses 1'!D34*(1+$C$3) -> 0.91240876 | E41: =AND('Form Responses 1'!E34>C41,'Form Responses 1'!E34<D41) -> TRUE | F41: =IF(E41=TRUE,1,0) -> 1 | G41: ='Form Responses 1'!E34*$E$3*(1-$C$3) -> 0.1355625 | H41: ='Form Responses 1'!E34*$E$3*(1+$C$3) -> 0.2259375 | I41: =AND('Form Responses 1'!F34>G41,'Form Responses 1'!F34<H41) -> TRUE | J41: =IF(I41=TRUE,1,0) -> 1 | K41: =0.5*$E$3*'Form Responses 1'!E34*'Form Responses 1'!E34*(1-$C$3) -> 0.049005844 | L41: =0.5*$E$3*'Form Responses 1'!E34*'Form Responses 1'!E34*(1+$C$3) -> 0.081676406 | M41: =AND('Form Responses 1'!G34>K41,'Form Responses 1'!G34<L41) -> TRUE | N41: =IF(M41=TRUE,1,0) -> 1 | O41: ='Form Responses 1'!H34/'Form Responses 1'!I34*(1-$C$3) -> 0.076013514 | P41: ='Form Responses 1'!H34/'Form Responses 1'!I34*(1+$C$3) -> 0.12668919 | Q41: T | R41: =IF(Q41=TRUE,1,0) -> 0 | S41: ='Form Responses 1'!J34*$E$3*(1-$C$3) -> 0.019003125 | T41: ='Form Responses 1'!J34*$E$3*(1+$C$3) -> 0.031671875 | U41: =AND('Form Responses 1'!K34>S41,'Form Responses 1'!K34<T41) -> TRUE | V41: =IF(U41=TRUE,1,0) -> 1 | W41: =0.5*$E$3*'Form Responses 1'!J34*'Form Responses 1'!J34*(1-$C$3) -> 0.00096298336 | X41: =0.5*$E$3*'Form Responses 1'!J34*'Form Responses 1'!J34*(1+$C$3) -> 0.0016049723 | Y41: =AND('Form Responses 1'!L34>W41,'Form Responses 1'!L34<X41) -> TRUE | Z41: =IF(Y41=TRUE,1,0) -> 1 | AA41: ='Form Responses 1'!M34/'Form Responses 1'!N34*(1-$C$3) -> 0.45045045 | AB41: ='Form Responses 1'!M34/'Form Responses 1'!N34*(1+$C$3) -> 0.75075075 | AC41: =AND('Form Responses 1'!O34>AA41,'Form Responses 1'!O34<AB41) -> TRUE | AD41: =IF(AC41=TRUE,1,0) -> 1 | AE41: ='Form Responses 1'!O34*$E$4*(1-$C$3) -> 0.1126125 | AF41: ='Form Responses 1'!O34*$E$4*(1+$C$3) -> 0.1876875 | AG41: =AND('Form Responses 1'!P34>AE41,'Form Responses 1'!P34<AF41) -> TRUE | AH41: =IF(AG41=TRUE,1,0) -> 1 | AI41: =0.5*$E$4*'Form Responses 1'!O34*'Form Responses 1'!O34*(1-$C$3) -> 0.033817534 | AJ41: =0.5*$E$4*'Form Responses 1'!O34*'Form Responses 1'!O34*(1+$C$3) -> 0.056362556 | AK41: =AND('Form Responses 1'!Q34>AI41,'Form Responses 1'!Q34<AJ41) -> TRUE | AL41: =IF(AK41=TRUE,1,0) -> 1 | AM41: ='Form Responses 1'!F34*(1-$C$3) -> 0.1355625 | AN41: ='Form Responses 1'!F34*(1+$C$3) -> 0.2259375 | AO41: =AND('Form Responses 1'!R34>AM41,'Form Responses 1'!R34<AN41) -> TRUE | AP41: =IF(AO41=TRUE,1,0) -> 1 | AQ41: ='Form Responses 1'!G34*(1-$C$3) -> 0.04875 | AR41: ='Form Responses 1'!G34*(1+$C$3) -> 0.08125 | AS41: =AND('Form Responses 1'!S34>AQ41,'Form Responses 1'!S34<AR41) -> TRUE | AT41: =IF(AS41=TRUE,1,0) -> 1 | AU41: =('Form Responses 1'!K34+'Form Responses 1'!P34)*(1-$C$3) -> 0.1315875 | AV41: =('Form Responses 1'!K34+'Form Responses 1'!P34)*(1+$C$3) -> 0.2193125 | AW41: =AND('Form Responses 1'!T34>AU41,'Form Responses 1'!T34<AV41) -> TRUE | AX41: =IF(AW41=TRUE,1,0) -> 1 | AY41: =('Form Responses 1'!L34+'Form Responses 1'!Q34)*(1-$C$3) -> 0.03477 | AZ41: =('Form Responses 1'!L34+'Form Responses 1'!Q34)*(1+$C$3) -> 0.05795 | BA41: =AND('Form Responses 1'!U34>AY41,'Form Responses 1'!U34<AZ41) -> TRUE | BB41: =IF(BA41=TRUE,1,0) -> 1 | BC41: =('Form Responses 1'!R34-'Form Responses 1'!T34)/'Form Responses 1'!R34*100 -> 3.1811895 | BD41: =IF(AND(BC41>=20,'Form Responses 1'!V34=$BC$1)=TRUE,1,0) -> 0 | BE41: =IF(AND(BC41>=0,BC41<=20,'Form Responses 1'!V34=$BC$2)=TRUE,1,0) -> 0 | BF41: =IF(AND(BC41<0)=TRUE,-1,0) -> 0 | BG41: =SUM(BD41:BF41) -> 0 | BH41: =('Form Responses 1'!S34-'Form Responses 1'!U34)/'Form Responses 1'!S34*100 -> 28.661538 | BI41: =IF(AND(BH41>=20,'Form Responses 1'!W34=$BH$1)=TRUE,1,0) -> 1 | BJ41: =IF(AND(BH41>=0,BH41<=20,'Form Responses 1'!W34=$BH$2)=TRUE,1,0) -> 0 | BK41: =IF(AND(BH41<0)=TRUE,-1,0) -> 0 | BL41: =SUM(BI41:BK41) -> 1
A42: ='Form Responses 1'!B35 -> Student 33 | B42: =(F42+J42+N42)+(R42+V42+Z42)+(AD42+AH42+AL42)+(AP42+AT42+AX42+BB42)+(BG42+BL42) -> 14 | C42: ='Form Responses 1'!C35/'Form Responses 1'!D35*(1-$C$3) -> 0.54744526 | D42: ='Form Responses 1'!C35/'Form Responses 1'!D35*(1+$C$3) -> 0.91240876 | E42: =AND('Form Responses 1'!E35>C42,'Form Responses 1'!E35<D42) -> TRUE | F42: =IF(E42=TRUE,1,0) -> 1 | G42: ='Form Responses 1'!E35*$E$3*(1-$C$3) -> 0.13685625 | H42: ='Form Responses 1'!E35*$E$3*(1+$C$3) -> 0.22809375 | I42: =AND('Form Responses 1'!F35>G42,'Form Responses 1'!F35<H42) -> TRUE | J42: =IF(I42=TRUE,1,0) -> 1 | K42: =0.5*$E$3*'Form Responses 1'!E35*'Form Responses 1'!E35*(1-$C$3) -> 0.049945688 | L42: =0.5*$E$3*'Form Responses 1'!E35*'Form Responses 1'!E35*(1+$C$3) -> 0.083242814 | M42: =AND('Form Responses 1'!G35>K42,'Form Responses 1'!G35<L42) -> TRUE | N42: =IF(M42=TRUE,1,0) -> 1 | O42: ='Form Responses 1'!H35/'Form Responses 1'!I35*(1-$C$3) -> 0.076013514 | P42: ='Form Responses 1'!H35/'Form Responses 1'!I35*(1+$C$3) -> 0.12668919 | Q42: T | R42: =IF(Q42=TRUE,1,0) -> 0 | S42: ='Form Responses 1'!J35*$E$3*(1-$C$3) -> 0.019003125 | T42: ='Form Responses 1'!J35*$E$3*(1+$C$3) -> 0.031671875 | U42: =AND('Form Responses 1'!K35>S42,'Form Responses 1'!K35<T42) -> TRUE | V42: =IF(U42=TRUE,1,0) -> 1 | W42: =0.5*$E$3*'Form Responses 1'!J35*'Form Responses 1'!J35*(1-$C$3) -> 0.00096298336 | X42: =0.5*$E$3*'Form Responses 1'!J35*'Form Responses 1'!J35*(1+$C$3) -> 0.0016049723 | Y42: =AND('Form Responses 1'!L35>W42,'Form Responses 1'!L35<X42) -> TRUE | Z42: =IF(Y42=TRUE,1,0) -> 1 | AA42: ='Form Responses 1'!M35/'Form Responses 1'!N35*(1-$C$3) -> 0.45045045 | AB42: ='Form Responses 1'!M35/'Form Responses 1'!N35*(1+$C$3) -> 0.75075075 | AC42: =AND('Form Responses 1'!O35>AA42,'Form Responses 1'!O35<AB42) -> TRUE | AD42: =IF(AC42=TRUE,1,0) -> 1 | AE42: ='Form Responses 1'!O35*$E$4*(1-$C$3) -> 0.1126125 | AF42: ='Form Responses 1'!O35*$E$4*(1+$C$3) -> 0.1876875 | AG42: =AND('Form Responses 1'!P35>AE42,'Form Responses 1'!P35<AF42) -> TRUE | AH42: =IF(AG42=TRUE,1,0) -> 1 | AI42: =0.5*$E$4*'Form Responses 1'!O35*'Form Responses 1'!O35*(1-$C$3) -> 0.033817534 | AJ42: =0.5*$E$4*'Form Responses 1'!O35*'Form Responses 1'!O35*(1+$C$3) -> 0.056362556 | AK42: =AND('Form Responses 1'!Q35>AI42,'Form Responses 1'!Q35<AJ42) -> TRUE | AL42: =IF(AK42=TRUE,1,0) -> 1 | AM42: ='Form Responses 1'!F35*(1-$C$3) -> 0.13686 | AN42: ='Form Responses 1'!F35*(1+$C$3) -> 0.2281 | AO42: =AND('Form Responses 1'!R35>AM42,'Form Responses 1'!R35<AN42) -> TRUE | AP42: =IF(AO42=TRUE,1,0) -> 1 | AQ42: ='Form Responses 1'!G35*(1-$C$3) -> 0.04994925 | AR42: ='Form Responses 1'!G35*(1+$C$3) -> 0.08324875 | AS42: =AND('Form Responses 1'!S35>AQ42,'Form Responses 1'!S35<AR42) -> TRUE | AT42: =IF(AS42=TRUE,1,0) -> 1 | AU42: =('Form Responses 1'!K35+'Form Responses 1'!P35)*(1-$C$3) -> 0.13161 | AV42: =('Form Responses 1'!K35+'Form Responses 1'!P35)*(1+$C$3) -> 0.21935 | AW42: =AND('Form Responses 1'!T35>AU42,'Form Responses 1'!T35<AV42) -> TRUE | AX42: =IF(AW42=TRUE,1,0) -> 1 | AY42: =('Form Responses 1'!L35+'Form Responses 1'!Q35)*(1-$C$3) -> 0.0347805 | AZ42: =('Form Responses 1'!L35+'Form Responses 1'!Q35)*(1+$C$3) -> 0.0579675 | BA42: =AND('Form Responses 1'!U35>AY42,'Form Responses 1'!U35<AZ42) -> TRUE | BB42: =IF(BA42=TRUE,1,0) -> 1 | BC42: =('Form Responses 1'!R35-'Form Responses 1'!T35)/'Form Responses 1'!R35*100 -> 3.8305568 | BD42: =IF(AND(BC42>=20,'Form Responses 1'!V35=$BC$1)=TRUE,1,0) -> 0 | BE42: =IF(AND(BC42>=0,BC42<=20,'Form Responses 1'!V35=$BC$2)=TRUE,1,0) -> 1 | BF42: =IF(AND(BC42<0)=TRUE,-1,0) -> 0 | BG42: =SUM(BD42:BF42) -> 1 | BH42: =('Form Responses 1'!S35-'Form Responses 1'!U35)/'Form Responses 1'!S35*100 -> 30.375375 | BI42: =IF(AND(BH42>=20,'Form Responses 1'!W35=$BH$1)=TRUE,1,0) -> 1 | BJ42: =IF(AND(BH42>=0,BH42<=20,'Form Responses 1'!W35=$BH$2)=TRUE,1,0) -> 0 | BK42: =IF(AND(BH42<0)=TRUE,-1,0) -> 0 | BL42: =SUM(BI42:BK42) -> 1
A43: ='Form Responses 1'!B36 -> Student 34 | B43: =(F43+J43+N43)+(R43+V43+Z43)+(AD43+AH43+AL43)+(AP43+AT43+AX43+BB43)+(BG43+BL43) -> 14 | C43: ='Form Responses 1'!C36/'Form Responses 1'!D36*(1-$C$3) -> 0.54744526 | D43: ='Form Responses 1'!C36/'Form Responses 1'!D36*(1+$C$3) -> 0.91240876 | E43: =AND('Form Responses 1'!E36>C43,'Form Responses 1'!E36<D43) -> TRUE | F43: =IF(E43=TRUE,1,0) -> 1 | G43: ='Form Responses 1'!E36*$E$3*(1-$C$3) -> 0.13685625 | H43: ='Form Responses 1'!E36*$E$3*(1+$C$3) -> 0.22809375 | I43: =AND('Form Responses 1'!F36>G43,'Form Responses 1'!F36<H43) -> TRUE | J43: =IF(I43=TRUE,1,0) -> 1 | K43: =0.5*$E$3*'Form Responses 1'!E36*'Form Responses 1'!E36*(1-$C$3) -> 0.049945688 | L43: =0.5*$E$3*'Form Responses 1'!E36*'Form Responses 1'!E36*(1+$C$3) -> 0.083242814 | M43: =AND('Form Responses 1'!G36>K43,'Form Responses 1'!G36<L43) -> TRUE | N43: =IF(M43=TRUE,1,0) -> 1 | O43: ='Form Responses 1'!H36/'Form Responses 1'!I36*(1-$C$3) -> 0.076013514 | P43: ='Form Responses 1'!H36/'Form Responses 1'!I36*(1+$C$3) -> 0.12668919 | Q43: T | R43: =IF(Q43=TRUE,1,0) -> 0 | S43: ='Form Responses 1'!J36*$E$3*(1-$C$3) -> 0.019003125 | T43: ='Form Responses 1'!J36*$E$3*(1+$C$3) -> 0.031671875 | U43: =AND('Form Responses 1'!K36>S43,'Form Responses 1'!K36<T43) -> TRUE | V43: =IF(U43=TRUE,1,0) -> 1 | W43: =0.5*$E$3*'Form Responses 1'!J36*'Form Responses 1'!J36*(1-$C$3) -> 0.00096298336 | X43: =0.5*$E$3*'Form Responses 1'!J36*'Form Responses 1'!J36*(1+$C$3) -> 0.0016049723 | Y43: =AND('Form Responses 1'!L36>W43,'Form Responses 1'!L36<X43) -> TRUE | Z43: =IF(Y43=TRUE,1,0) -> 1 | AA43: ='Form Responses 1'!M36/'Form Responses 1'!N36*(1-$C$3) -> 0.45045045 | AB43: ='Form Responses 1'!M36/'Form Responses 1'!N36*(1+$C$3) -> 0.75075075 | AC43: =AND('Form Responses 1'!O36>AA43,'Form Responses 1'!O36<AB43) -> TRUE | AD43: =IF(AC43=TRUE,1,0) -> 1 | AE43: ='Form Responses 1'!O36*$E$4*(1-$C$3) -> 0.1126125 | AF43: ='Form Responses 1'!O36*$E$4*(1+$C$3) -> 0.1876875 | AG43: =AND('Form Responses 1'!P36>AE43,'Form Responses 1'!P36<AF43) -> TRUE | AH43: =IF(AG43=TRUE,1,0) -> 1 | AI43: =0.5*$E$4*'Form Responses 1'!O36*'Form Responses 1'!O36*(1-$C$3) -> 0.033817534 | AJ43: =0.5*$E$4*'Form Responses 1'!O36*'Form Responses 1'!O36*(1+$C$3) -> 0.056362556 | AK43: =AND('Form Responses 1'!Q36>AI43,'Form Responses 1'!Q36<AJ43) -> TRUE | AL43: =IF(AK43=TRUE,1,0) -> 1 | AM43: ='Form Responses 1'!F36*(1-$C$3) -> 0.13686 | AN43: ='Form Responses 1'!F36*(1+$C$3) -> 0.2281 | AO43: =AND('Form Responses 1'!R36>AM43,'Form Responses 1'!R36<AN43) -> TRUE | AP43: =IF(AO43=TRUE,1,0) -> 1 | AQ43: ='Form Responses 1'!G36*(1-$C$3) -> 0.04994925 | AR43: ='Form Responses 1'!G36*(1+$C$3) -> 0.08324875 | AS43: =AND('Form Responses 1'!S36>AQ43,'Form Responses 1'!S36<AR43) -> TRUE | AT43: =IF(AS43=TRUE,1,0) -> 1 | AU43: =('Form Responses 1'!K36+'Form Responses 1'!P36)*(1-$C$3) -> 0.13161011 | AV43: =('Form Responses 1'!K36+'Form Responses 1'!P36)*(1+$C$3) -> 0.21935019 | AW43: =AND('Form Responses 1'!T36>AU43,'Form Responses 1'!T36<AV43) -> TRUE | AX43: =IF(AW43=TRUE,1,0) -> 1 | AY43: =('Form Responses 1'!L36+'Form Responses 1'!Q36)*(1-$C$3) -> 0.0347775 | AZ43: =('Form Responses 1'!L36+'Form Responses 1'!Q36)*(1+$C$3) -> 0.0579625 | BA43: =AND('Form Responses 1'!U36>AY43,'Form Responses 1'!U36<AZ43) -> TRUE | BB43: =IF(BA43=TRUE,1,0) -> 1 | BC43: =('Form Responses 1'!R36-'Form Responses 1'!T36)/'Form Responses 1'!R36*100 -> 3.7938596 | BD43: =IF(AND(BC43>=20,'Form Responses 1'!V36=$BC$1)=TRUE,1,0) -> 0 | BE43: =IF(AND(BC43>=0,BC43<=20,'Form Responses 1'!V36=$BC$2)=TRUE,1,0) -> 1 | BF43: =IF(AND(BC43<0)=TRUE,-1,0) -> 0 | BG43: =SUM(BD43:BF43) -> 1 | BH43: =('Form Responses 1'!S36-'Form Responses 1'!U36)/'Form Responses 1'!S36*100 -> 30.37433 | BI43: =IF(AND(BH43>=20,'Form Responses 1'!W36=$BH$1)=TRUE,1,0) -> 1 | BJ43: =IF(AND(BH43>=0,BH43<=20,'Form Responses 1'!W36=$BH$2)=TRUE,1,0) -> 0 | BK43: =IF(AND(BH43<0)=TRUE,-1,0) -> 0 | BL43: =SUM(BI43:BK43) -> 1
A44: ='Form Responses 1'!B37 -> Student 35 | B44: =(F44+J44+N44)+(R44+V44+Z44)+(AD44+AH44+AL44)+(AP44+AT44+AX44+BB44)+(BG44+BL44) -> 7 | C44: ='Form Responses 1'!C37/'Form Responses 1'!D37*(1-$C$3) -> 0.68807339 | D44: ='Form Responses 1'!C37/'Form Responses 1'!D37*(1+$C$3) -> 1.146789 | E44: =AND('Form Responses 1'!E37>C44,'Form Responses 1'!E37<D44) -> TRUE | F44: =IF(E44=TRUE,1,0) -> 1 | G44: ='Form Responses 1'!E37*$E$3*(1-$C$3) -> 0.17201835 | H44: ='Form Responses 1'!E37*$E$3*(1+$C$3) -> 0.28669725 | I44: =AND('Form Responses 1'!F37>G44,'Form Responses 1'!F37<H44) -> TRUE | J44: =IF(I44=TRUE,1,0) -> 1 | K44: =0.5*$E$3*'Form Responses 1'!E37*'Form Responses 1'!E37*(1-$C$3) -> 0.078907501 | L44: =0.5*$E$3*'Form Responses 1'!E37*'Form Responses 1'!E37*(1+$C$3) -> 0.1315125 | M44: =AND('Form Responses 1'!G37>K44,'Form Responses 1'!G37<L44) -> TRUE | N44: =IF(M44=TRUE,1,0) -> 1 | O44: ='Form Responses 1'!H37/'Form Responses 1'!I37*(1-$C$3) -> 0 | P44: ='Form Responses 1'!H37/'Form Responses 1'!I37*(1+$C$3) -> 0 | Q44: T | R44: =IF(Q44=TRUE,1,0) -> 0 | S44: ='Form Responses 1'!J37*$E$3*(1-$C$3) -> 0 | T44: ='Form Responses 1'!J37*$E$3*(1+$C$3) -> 0 | U44: =AND('Form Responses 1'!K37>S44,'Form Responses 1'!K37<T44) -> FALSE | V44: =IF(U44=TRUE,1,0) -> 0 | W44: =0.5*$E$3*'Form Responses 1'!J37*'Form Responses 1'!J37*(1-$C$3) -> 0 | X44: =0.5*$E$3*'Form Responses 1'!J37*'Form Responses 1'!J37*(1+$C$3) -> 0 | Y44: =AND('Form Responses 1'!L37>W44,'Form Responses 1'!L37<X44) -> FALSE | Z44: =IF(Y44=TRUE,1,0) -> 0 | AA44: ='Form Responses 1'!M37/'Form Responses 1'!N37*(1-$C$3) -> 0 | AB44: ='Form Responses 1'!M37/'Form Responses 1'!N37*(1+$C$3) -> 0 | AC44: =AND('Form Responses 1'!O37>AA44,'Form Responses 1'!O37<AB44) -> FALSE | AD44: =IF(AC44=TRUE,1,0) -> 0 | AE44: ='Form Responses 1'!O37*$E$4*(1-$C$3) -> 0 | AF44: ='Form Responses 1'!O37*$E$4*(1+$C$3) -> 0 | AG44: =AND('Form Responses 1'!P37>AE44,'Form Responses 1'!P37<AF44) -> FALSE | AH44: =IF(AG44=TRUE,1,0) -> 0 | AI44: =0.5*$E$4*'Form Responses 1'!O37*'Form Responses 1'!O37*(1-$C$3) -> 0 | AJ44: =0.5*$E$4*'Form Responses 1'!O37*'Form Responses 1'!O37*(1+$C$3) -> 0 | AK44: =AND('Form Responses 1'!Q37>AI44,'Form Responses 1'!Q37<AJ44) -> FALSE | AL44: =IF(AK44=TRUE,1,0) -> 0 | AM44: ='Form Responses 1'!F37*(1-$C$3) -> 0.17201835 | AN44: ='Form Responses 1'!F37*(1+$C$3) -> 0.28669725 | AO44: =AND('Form Responses 1'!R37>AM44,'Form Responses 1'!R37<AN44) -> TRUE | AP44: =IF(AO44=TRUE,1,0) -> 1 | AQ44: ='Form Responses 1'!G37*(1-$C$3) -> 0.0789075 | AR44: ='Form Responses 1'!G37*(1+$C$3) -> 0.1315125 | AS44: =AND('Form Responses 1'!S37>AQ44,'Form Responses 1'!S37<AR44) -> TRUE | AT44: =IF(AS44=TRUE,1,0) -> 1 | AU44: =('Form Responses 1'!K37+'Form Responses 1'!P37)*(1-$C$3) -> 0 | AV44: =('Form Responses 1'!K37+'Form Responses 1'!P37)*(1+$C$3) -> 0 | AW44: =AND('Form Responses 1'!T37>AU44,'Form Responses 1'!T37<AV44) -> FALSE | AX44: =IF(AW44=TRUE,1,0) -> 0 | AY44: =('Form Responses 1'!L37+'Form Responses 1'!Q37)*(1-$C$3) -> 0 | AZ44: =('Form Responses 1'!L37+'Form Responses 1'!Q37)*(1+$C$3) -> 0 | BA44: =AND('Form Responses 1'!U37>AY44,'Form Responses 1'!U37<AZ44) -> FALSE | BB44: =IF(BA44=TRUE,1,0) -> 0 | BC44: =('Form Responses 1'!R37-'Form Responses 1'!T37)/'Form Responses 1'!R37*100 -> 27.090293 | BD44: =IF(AND(BC44>=20,'Form Responses 1'!V37=$BC$1)=TRUE,1,0) -> 1 | BE44: =IF(AND(BC44>=0,BC44<=20,'Form Responses 1'!V37=$BC$2)=TRUE,1,0) -> 0 | BF44: =IF(AND(BC44<0)=TRUE,-1,0) -> 0 | BG44: =SUM(BD44:BF44) -> 1 | BH44: =('Form Responses 1'!S37-'Form Responses 1'!U37)/'Form Responses 1'!S37*100 -> 46.841745 | BI44: =IF(AND(BH44>=20,'Form Responses 1'!W37=$BH$1)=TRUE,1,0) -> 1 | BJ44: =IF(AND(BH44>=0,BH44<=20,'Form Responses 1'!W37=$BH$2)=TRUE,1,0) -> 0 | BK44: =IF(AND(BH44<0)=TRUE,-1,0) -> 0 | BL44: =SUM(BI44:BK44) -> 1
A45: ='Form Responses 1'!B38 -> Student 36 | B45: =(F45+J45+N45)+(R45+V45+Z45)+(AD45+AH45+AL45)+(AP45+AT45+AX45+BB45)+(BG45+BL45) -> 12 | C45: ='Form Responses 1'!C38/'Form Responses 1'!D38*(1-$C$3) -> 0.68807339 | D45: ='Form Responses 1'!C38/'Form Responses 1'!D38*(1+$C$3) -> 1.146789 | E45: =AND('Form Responses 1'!E38>C45,'Form Responses 1'!E38<D45) -> TRUE | F45: =IF(E45=TRUE,1,0) -> 1 | G45: ='Form Responses 1'!E38*$E$3*(1-$C$3) -> 0.1719375 | H45: ='Form Responses 1'!E38*$E$3*(1+$C$3) -> 0.2865625 | I45: =AND('Form Responses 1'!F38>G45,'Form Responses 1'!F38<H45) -> TRUE | J45: =IF(I45=TRUE,1,0) -> 1 | K45: =0.5*$E$3*'Form Responses 1'!E38*'Form Responses 1'!E38*(1-$C$3) -> 0.078833344 | L45: =0.5*$E$3*'Form Responses 1'!E38*'Form Responses 1'!E38*(1+$C$3) -> 0.13138891 | M45: =AND('Form Responses 1'!G38>K45,'Form Responses 1'!G38<L45) -> TRUE | N45: =IF(M45=TRUE,1,0) -> 1 | O45: ='Form Responses 1'!H38/'Form Responses 1'!I38*(1-$C$3) -> #DIV/0! | P45: ='Form Responses 1'!H38/'Form Responses 1'!I38*(1+$C$3) -> #DIV/0! | Q45: T | R45: =IF(Q45=TRUE,1,0) -> 0 | S45: ='Form Responses 1'!J38*$E$3*(1-$C$3) -> 0 | T45: ='Form Responses 1'!J38*$E$3*(1+$C$3) -> 0 | U45: =AND('Form Responses 1'!K38>S45,'Form Responses 1'!K38<T45) -> FALSE | V45: =IF(U45=TRUE,1,0) -> 0 | W45: =0.5*$E$3*'Form Responses 1'!J38*'Form Responses 1'!J38*(1-$C$3) -> 0 | X45: =0.5*$E$3*'Form Responses 1'!J38*'Form Responses 1'!J38*(1+$C$3) -> 0 | Y45: =AND('Form Responses 1'!L38>W45,'Form Responses 1'!L38<X45) -> FALSE | Z45: =IF(Y45=TRUE,1,0) -> 0 | AA45: ='Form Responses 1'!M38/'Form Responses 1'!N38*(1-$C$3) -> 0.50167224 | AB45: ='Form Responses 1'!M38/'Form Responses 1'!N38*(1+$C$3) -> 0.8361204 | AC45: =AND('Form Responses 1'!O38>AA45,'Form Responses 1'!O38<AB45) -> TRUE | AD45: =IF(AC45=TRUE,1,0) -> 1 | AE45: ='Form Responses 1'!O38*$E$4*(1-$C$3) -> 0.1254375 | AF45: ='Form Responses 1'!O38*$E$4*(1+$C$3) -> 0.2090625 | AG45: =AND('Form Responses 1'!P38>AE45,'Form Responses 1'!P38<AF45) -> TRUE | AH45: =IF(AG45=TRUE,1,0) -> 1 | AI45: =0.5*$E$4*'Form Responses 1'!O38*'Form Responses 1'!O38*(1-$C$3) -> 0.041958844 | AJ45: =0.5*$E$4*'Form Responses 1'!O38*'Form Responses 1'!O38*(1+$C$3) -> 0.069931406 | AK45: =AND('Form Responses 1'!Q38>AI45,'Form Responses 1'!Q38<AJ45) -> TRUE | AL45: =IF(AK45=TRUE,1,0) -> 1 | AM45: ='Form Responses 1'!F38*(1-$C$3) -> 0.17205 | AN45: ='Form Responses 1'!F38*(1+$C$3) -> 0.28675 | AO45: =AND('Form Responses 1'!R38>AM45,'Form Responses 1'!R38<AN45) -> TRUE | AP45: =IF(AO45=TRUE,1,0) -> 1 | AQ45: ='Form Responses 1'!G38*(1-$C$3) -> 0.0789 | AR45: ='Form Responses 1'!G38*(1+$C$3) -> 0.1315 | AS45: =AND('Form Responses 1'!S38>AQ45,'Form Responses 1'!S38<AR45) -> TRUE | AT45: =IF(AS45=TRUE,1,0) -> 1 | AU45: =('Form Responses 1'!K38+'Form Responses 1'!P38)*(1-$C$3) -> 0.12525 | AV45: =('Form Responses 1'!K38+'Form Responses 1'!P38)*(1+$C$3) -> 0.20875 | AW45: =AND('Form Responses 1'!T38>AU45,'Form Responses 1'!T38<AV45) -> TRUE | AX45: =IF(AW45=TRUE,1,0) -> 1 | AY45: =('Form Responses 1'!L38+'Form Responses 1'!Q38)*(1-$C$3) -> 0.041925 | AZ45: =('Form Responses 1'!L38+'Form Responses 1'!Q38)*(1+$C$3) -> 0.069875 | BA45: =AND('Form Responses 1'!U38>AY45,'Form Responses 1'!U38<AZ45) -> TRUE | BB45: =IF(BA45=TRUE,1,0) -> 1 | BC45: =('Form Responses 1'!R38-'Form Responses 1'!T38)/'Form Responses 1'!R38*100 -> 27.201395 | BD45: =IF(AND(BC45>=20,'Form Responses 1'!V38=$BC$1)=TRUE,1,0) -> 1 | BE45: =IF(AND(BC45>=0,BC45<=20,'Form Responses 1'!V38=$BC$2)=TRUE,1,0) -> 0 | BF45: =IF(AND(BC45<0)=TRUE,-1,0) -> 0 | BG45: =SUM(BD45:BF45) -> 1 | BH45: =('Form Responses 1'!S38-'Form Responses 1'!U38)/'Form Responses 1'!S38*100 -> 46.863118 | BI45: =IF(AND(BH45>=20,'Form Responses 1'!W38=$BH$1)=TRUE,1,0) -> 1 | BJ45: =IF(AND(BH45>=0,BH45<=20,'Form Responses 1'!W38=$BH$2)=TRUE,1,0) -> 0 | BK45: =IF(AND(BH45<0)=TRUE,-1,0) -> 0 | BL45: =SUM(BI45:BK45) -> 1
A46: ='Form Responses 1'!B39 -> Student 37 | B46: =(F46+J46+N46)+(R46+V46+Z46)+(AD46+AH46+AL46)+(AP46+AT46+AX46+BB46)+(BG46+BL46) -> 12 | C46: ='Form Responses 1'!C39/'Form Responses 1'!D39*(1-$C$3) -> 0.68807339 | D46: ='Form Responses 1'!C39/'Form Responses 1'!D39*(1+$C$3) -> 1.146789 | E46: =AND('Form Responses 1'!E39>C46,'Form Responses 1'!E39<D46) -> TRUE | F46: =IF(E46=TRUE,1,0) -> 1 | G46: ='Form Responses 1'!E39*$E$3*(1-$C$3) -> 0.17201835 | H46: ='Form Responses 1'!E39*$E$3*(1+$C$3) -> 0.28669725 | I46: =AND('Form Responses 1'!F39>G46,'Form Responses 1'!F39<H46) -> TRUE | J46: =IF(I46=TRUE,1,0) -> 1 | K46: =0.5*$E$3*'Form Responses 1'!E39*'Form Responses 1'!E39*(1-$C$3) -> 0.078907501 | L46: =0.5*$E$3*'Form Responses 1'!E39*'Form Responses 1'!E39*(1+$C$3) -> 0.1315125 | M46: =AND('Form Responses 1'!G39>K46,'Form Responses 1'!G39<L46) -> TRUE | N46: =IF(M46=TRUE,1,0) -> 1 | O46: ='Form Responses 1'!H39/'Form Responses 1'!I39*(1-$C$3) -> #DIV/0! | P46: ='Form Responses 1'!H39/'Form Responses 1'!I39*(1+$C$3) -> #DIV/0! | Q46: T | R46: =IF(Q46=TRUE,1,0) -> 0 | S46: ='Form Responses 1'!J39*$E$3*(1-$C$3) -> 0 | T46: ='Form Responses 1'!J39*$E$3*(1+$C$3) -> 0 | U46: =AND('Form Responses 1'!K39>S46,'Form Responses 1'!K39<T46) -> FALSE | V46: =IF(U46=TRUE,1,0) -> 0 | W46: =0.5*$E$3*'Form Responses 1'!J39*'Form Responses 1'!J39*(1-$C$3) -> 0 | X46: =0.5*$E$3*'Form Responses 1'!J39*'Form Responses 1'!J39*(1+$C$3) -> 0 | Y46: =AND('Form Responses 1'!L39>W46,'Form Responses 1'!L39<X46) -> FALSE | Z46: =IF(Y46=TRUE,1,0) -> 0 | AA46: ='Form Responses 1'!M39/'Form Responses 1'!N39*(1-$C$3) -> 0.50167224 | AB46: ='Form Responses 1'!M39/'Form Responses 1'!N39*(1+$C$3) -> 0.8361204 | AC46: =AND('Form Responses 1'!O39>AA46,'Form Responses 1'!O39<AB46) -> TRUE | AD46: =IF(AC46=TRUE,1,0) -> 1 | AE46: ='Form Responses 1'!O39*$E$4*(1-$C$3) -> 0.12541806 | AF46: ='Form Responses 1'!O39*$E$4*(1+$C$3) -> 0.2090301 | AG46: =AND('Form Responses 1'!P39>AE46,'Form Responses 1'!P39<AF46) -> TRUE | AH46: =IF(AG46=TRUE,1,0) -> 1 | AI46: =0.5*$E$4*'Form Responses 1'!O39*'Form Responses 1'!O39*(1-$C$3) -> 0.04194584 | AJ46: =0.5*$E$4*'Form Responses 1'!O39*'Form Responses 1'!O39*(1+$C$3) -> 0.069909733 | AK46: =AND('Form Responses 1'!Q39>AI46,'Form Responses 1'!Q39<AJ46) -> TRUE | AL46: =IF(AK46=TRUE,1,0) -> 1 | AM46: ='Form Responses 1'!F39*(1-$C$3) -> 0.17201835 | AN46: ='Form Responses 1'!F39*(1+$C$3) -> 0.28669725 | AO46: =AND('Form Responses 1'!R39>AM46,'Form Responses 1'!R39<AN46) -> TRUE | AP46: =IF(AO46=TRUE,1,0) -> 1 | AQ46: ='Form Responses 1'!G39*(1-$C$3) -> 0.078907501 | AR46: ='Form Responses 1'!G39*(1+$C$3) -> 0.1315125 | AS46: =AND('Form Responses 1'!S39>AQ46,'Form Responses 1'!S39<AR46) -> TRUE | AT46: =IF(AS46=TRUE,1,0) -> 1 | AU46: =('Form Responses 1'!K39+'Form Responses 1'!P39)*(1-$C$3) -> 0.12542181 | AV46: =('Form Responses 1'!K39+'Form Responses 1'!P39)*(1+$C$3) -> 0.20903635 | AW46: =AND('Form Responses 1'!T39>AU46,'Form Responses 1'!T39<AV46) -> TRUE | AX46: =IF(AW46=TRUE,1,0) -> 1 | AY46: =('Form Responses 1'!L39+'Form Responses 1'!Q39)*(1-$C$3) -> 0.041945839 | AZ46: =('Form Responses 1'!L39+'Form Responses 1'!Q39)*(1+$C$3) -> 0.069909733 | BA46: =AND('Form Responses 1'!U39>AY46,'Form Responses 1'!U39<AZ46) -> TRUE | BB46: =IF(BA46=TRUE,1,0) -> 1 | BC46: =('Form Responses 1'!R39-'Form Responses 1'!T39)/'Form Responses 1'!R39*100 -> 27.088156 | BD46: =IF(AND(BC46>=20,'Form Responses 1'!V39=$BC$1)=TRUE,1,0) -> 1 | BE46: =IF(AND(BC46>=0,BC46<=20,'Form Responses 1'!V39=$BC$2)=TRUE,1,0) -> 0 | BF46: =IF(AND(BC46<0)=TRUE,-1,0) -> 0 | BG46: =SUM(BD46:BF46) -> 1 | BH46: =('Form Responses 1'!S39-'Form Responses 1'!U39)/'Form Responses 1'!S39*100 -> 46.854672 | BI46: =IF(AND(BH46>=20,'Form Responses 1'!W39=$BH$1)=TRUE,1,0) -> 1 | BJ46: =IF(AND(BH46>=0,BH46<=20,'Form Responses 1'!W39=$BH$2)=TRUE,1,0) -> 0 | BK46: =IF(AND(BH46<0)=TRUE,-1,0) -> 0 | BL46: =SUM(BI46:BK46) -> 1
A47: ='Form Responses 1'!B40 -> Student 38 | B47: =(F47+J47+N47)+(R47+V47+Z47)+(AD47+AH47+AL47)+(AP47+AT47+AX47+BB47)+(BG47+BL47) -> 12 | C47: ='Form Responses 1'!C40/'Form Responses 1'!D40*(1-$C$3) -> 0.68807339 | D47: ='Form Responses 1'!C40/'Form Responses 1'!D40*(1+$C$3) -> 1.146789 | E47: =AND('Form Responses 1'!E40>C47,'Form Responses 1'!E40<D47) -> TRUE | F47: =IF(E47=TRUE,1,0) -> 1 | G47: ='Form Responses 1'!E40*$E$3*(1-$C$3) -> 0.1721121 | H47: ='Form Responses 1'!E40*$E$3*(1+$C$3) -> 0.2868535 | I47: =AND('Form Responses 1'!F40>G47,'Form Responses 1'!F40<H47) -> TRUE | J47: =IF(I47=TRUE,1,0) -> 1 | K47: =0.5*$E$3*'Form Responses 1'!E40*'Form Responses 1'!E40*(1-$C$3) -> 0.078993533 | L47: =0.5*$E$3*'Form Responses 1'!E40*'Form Responses 1'!E40*(1+$C$3) -> 0.13165589 | M47: =AND('Form Responses 1'!G40>K47,'Form Responses 1'!G40<L47) -> TRUE | N47: =IF(M47=TRUE,1,0) -> 1 | O47: ='Form Responses 1'!H40/'Form Responses 1'!I40*(1-$C$3) -> #DIV/0! | P47: ='Form Responses 1'!H40/'Form Responses 1'!I40*(1+$C$3) -> #DIV/0! | Q47: T | R47: =IF(Q47=TRUE,1,0) -> 0 | S47: ='Form Responses 1'!J40*$E$3*(1-$C$3) -> 0 | T47: ='Form Responses 1'!J40*$E$3*(1+$C$3) -> 0 | U47: =AND('Form Responses 1'!K40>S47,'Form Responses 1'!K40<T47) -> FALSE | V47: =IF(U47=TRUE,1,0) -> 0 | W47: =0.5*$E$3*'Form Responses 1'!J40*'Form Responses 1'!J40*(1-$C$3) -> 0 | X47: =0.5*$E$3*'Form Responses 1'!J40*'Form Responses 1'!J40*(1+$C$3) -> 0 | Y47: =AND('Form Responses 1'!L40>W47,'Form Responses 1'!L40<X47) -> FALSE | Z47: =IF(Y47=TRUE,1,0) -> 0 | AA47: ='Form Responses 1'!M40/'Form Responses 1'!N40*(1-$C$3) -> 0.50167224 | AB47: ='Form Responses 1'!M40/'Form Responses 1'!N40*(1+$C$3) -> 0.8361204 | AC47: =AND('Form Responses 1'!O40>AA47,'Form Responses 1'!O40<AB47) -> TRUE | AD47: =IF(AC47=TRUE,1,0) -> 1 | AE47: ='Form Responses 1'!O40*$E$4*(1-$C$3) -> 0.12541804 | AF47: ='Form Responses 1'!O40*$E$4*(1+$C$3) -> 0.20903007 | AG47: =AND('Form Responses 1'!P40>AE47,'Form Responses 1'!P40<AF47) -> TRUE | AH47: =IF(AG47=TRUE,1,0) -> 1 | AI47: =0.5*$E$4*'Form Responses 1'!O40*'Form Responses 1'!O40*(1-$C$3) -> 0.041945826 | AJ47: =0.5*$E$4*'Form Responses 1'!O40*'Form Responses 1'!O40*(1+$C$3) -> 0.06990971 | AK47: =AND('Form Responses 1'!Q40>AI47,'Form Responses 1'!Q40<AJ47) -> TRUE | AL47: =IF(AK47=TRUE,1,0) -> 1 | AM47: ='Form Responses 1'!F40*(1-$C$3) -> 0.17201835 | AN47: ='Form Responses 1'!F40*(1+$C$3) -> 0.28669725 | AO47: =AND('Form Responses 1'!R40>AM47,'Form Responses 1'!R40<AN47) -> TRUE | AP47: =IF(AO47=TRUE,1,0) -> 1 | AQ47: ='Form Responses 1'!G40*(1-$C$3) -> 0.078907501 | AR47: ='Form Responses 1'!G40*(1+$C$3) -> 0.1315125 | AS47: =AND('Form Responses 1'!S40>AQ47,'Form Responses 1'!S40<AR47) -> TRUE | AT47: =IF(AS47=TRUE,1,0) -> 1 | AU47: =('Form Responses 1'!K40+'Form Responses 1'!P40)*(1-$C$3) -> 0.12541806 | AV47: =('Form Responses 1'!K40+'Form Responses 1'!P40)*(1+$C$3) -> 0.2090301 | AW47: =AND('Form Responses 1'!T40>AU47,'Form Responses 1'!T40<AV47) -> TRUE | AX47: =IF(AW47=TRUE,1,0) -> 1 | AY47: =('Form Responses 1'!L40+'Form Responses 1'!Q40)*(1-$C$3) -> 0.041939569 | AZ47: =('Form Responses 1'!L40+'Form Responses 1'!Q40)*(1+$C$3) -> 0.069899281 | BA47: =AND('Form Responses 1'!U40>AY47,'Form Responses 1'!U40<AZ47) -> TRUE | BB47: =IF(BA47=TRUE,1,0) -> 1 | BC47: =('Form Responses 1'!R40-'Form Responses 1'!T40)/'Form Responses 1'!R40*100 -> 27.088121 | BD47: =IF(AND(BC47>=20,'Form Responses 1'!V40=$BC$1)=TRUE,1,0) -> 1 | BE47: =IF(AND(BC47>=0,BC47<=20,'Form Responses 1'!V40=$BC$2)=TRUE,1,0) -> 0 | BF47: =IF(AND(BC47<0)=TRUE,-1,0) -> 0 | BG47: =SUM(BD47:BF47) -> 1 | BH47: =('Form Responses 1'!S40-'Form Responses 1'!U40)/'Form Responses 1'!S40*100 -> 46.849706 | BI47: =IF(AND(BH47>=20,'Form Responses 1'!W40=$BH$1)=TRUE,1,0) -> 1 | BJ47: =IF(AND(BH47>=0,BH47<=20,'Form Responses 1'!W40=$BH$2)=TRUE,1,0) -> 0 | BK47: =IF(AND(BH47<0)=TRUE,-1,0) -> 0 | BL47: =SUM(BI47:BK47) -> 1
A48: ='Form Responses 1'!B41 -> Student 39 | B48: =(F48+J48+N48)+(R48+V48+Z48)+(AD48+AH48+AL48)+(AP48+AT48+AX48+BB48)+(BG48+BL48) -> 11 | C48: ='Form Responses 1'!C41/'Form Responses 1'!D41*(1-$C$3) -> 0.68807339 | D48: ='Form Responses 1'!C41/'Form Responses 1'!D41*(1+$C$3) -> 1.146789 | E48: =AND('Form Responses 1'!E41>C48,'Form Responses 1'!E41<D48) -> TRUE | F48: =IF(E48=TRUE,1,0) -> 1 | G48: ='Form Responses 1'!E41*$E$3*(1-$C$3) -> 0.17201812 | H48: ='Form Responses 1'!E41*$E$3*(1+$C$3) -> 0.28669687 | I48: =AND('Form Responses 1'!F41>G48,'Form Responses 1'!F41<H48) -> TRUE | J48: =IF(I48=TRUE,1,0) -> 1 | K48: =0.5*$E$3*'Form Responses 1'!E41*'Form Responses 1'!E41*(1-$C$3) -> 0.078907294 | L48: =0.5*$E$3*'Form Responses 1'!E41*'Form Responses 1'!E41*(1+$C$3) -> 0.13151216 | M48: =AND('Form Responses 1'!G41>K48,'Form Responses 1'!G41<L48) -> TRUE | N48: =IF(M48=TRUE,1,0) -> 1 | O48: ='Form Responses 1'!H41/'Form Responses 1'!I41*(1-$C$3) -> 0 | P48: ='Form Responses 1'!H41/'Form Responses 1'!I41*(1+$C$3) -> 0 | Q48: T | R48: =IF(Q48=TRUE,1,0) -> 0 | S48: ='Form Responses 1'!J41*$E$3*(1-$C$3) -> 0 | T48: ='Form Responses 1'!J41*$E$3*(1+$C$3) -> 0 | U48: =AND('Form Responses 1'!K41>S48,'Form Responses 1'!K41<T48) -> FALSE | V48: =IF(U48=TRUE,1,0) -> 0 | W48: =0.5*$E$3*'Form Responses 1'!J41*'Form Responses 1'!J41*(1-$C$3) -> 0 | X48: =0.5*$E$3*'Form Responses 1'!J41*'Form Responses 1'!J41*(1+$C$3) -> 0 | Y48: =AND('Form Responses 1'!L41>W48,'Form Responses 1'!L41<X48) -> FALSE | Z48: =IF(Y48=TRUE,1,0) -> 0 | AA48: ='Form Responses 1'!M41/'Form Responses 1'!N41*(1-$C$3) -> 0.50167224 | AB48: ='Form Responses 1'!M41/'Form Responses 1'!N41*(1+$C$3) -> 0.8361204 | AC48: =AND('Form Responses 1'!O41>AA48,'Form Responses 1'!O41<AB48) -> TRUE | AD48: =IF(AC48=TRUE,1,0) -> 1 | AE48: ='Form Responses 1'!O41*$E$4*(1-$C$3) -> 0.125418 | AF48: ='Form Responses 1'!O41*$E$4*(1+$C$3) -> 0.20903 | AG48: =AND('Form Responses 1'!P41>AE48,'Form Responses 1'!P41<AF48) -> TRUE | AH48: =IF(AG48=TRUE,1,0) -> 1 | AI48: =0.5*$E$4*'Form Responses 1'!O41*'Form Responses 1'!O41*(1-$C$3) -> 0.041945799 | AJ48: =0.5*$E$4*'Form Responses 1'!O41*'Form Responses 1'!O41*(1+$C$3) -> 0.069909665 | AK48: =AND('Form Responses 1'!Q41>AI48,'Form Responses 1'!Q41<AJ48) -> TRUE | AL48: =IF(AK48=TRUE,1,0) -> 1 | AM48: ='Form Responses 1'!F41*(1-$C$3) -> 0.17202 | AN48: ='Form Responses 1'!F41*(1+$C$3) -> 0.2867 | AO48: =AND('Form Responses 1'!R41>AM48,'Form Responses 1'!R41<AN48) -> TRUE | AP48: =IF(AO48=TRUE,1,0) -> 1 | AQ48: ='Form Responses 1'!G41*(1-$C$3) -> 0.07890675 | AR48: ='Form Responses 1'!G41*(1+$C$3) -> 0.13151125 | AS48: =AND('Form Responses 1'!S41>AQ48,'Form Responses 1'!S41<AR48) -> TRUE | AT48: =IF(AS48=TRUE,1,0) -> 1 | AU48: =('Form Responses 1'!K41+'Form Responses 1'!P41)*(1-$C$3) -> 0.125418 | AV48: =('Form Responses 1'!K41+'Form Responses 1'!P41)*(1+$C$3) -> 0.20903 | AW48: =AND('Form Responses 1'!T41>AU48,'Form Responses 1'!T41<AV48) -> TRUE | AX48: =IF(AW48=TRUE,1,0) -> 1 | AY48: =('Form Responses 1'!L41+'Form Responses 1'!Q41)*(1-$C$3) -> 0.04194525 | AZ48: =('Form Responses 1'!L41+'Form Responses 1'!Q41)*(1+$C$3) -> 0.06990875 | BA48: =AND('Form Responses 1'!U41>AY48,'Form Responses 1'!U41<AZ48) -> TRUE | BB48: =IF(BA48=TRUE,1,0) -> 1 | BC48: =('Form Responses 1'!R41-'Form Responses 1'!T41)/'Form Responses 1'!R41*100 -> 14.011161 | BD48: =IF(AND(BC48>=20,'Form Responses 1'!V41=$BC$1)=TRUE,1,0) -> 0 | BE48: =IF(AND(BC48>=0,BC48<=20,'Form Responses 1'!V41=$BC$2)=TRUE,1,0) -> 0 | BF48: =IF(AND(BC48<0)=TRUE,-1,0) -> 0 | BG48: =SUM(BD48:BF48) -> 0 | BH48: =('Form Responses 1'!S41-'Form Responses 1'!U41)/'Form Responses 1'!S41*100 -> 46.842 | BI48: =IF(AND(BH48>=20,'Form Responses 1'!W41=$BH$1)=TRUE,1,0) -> 1 | BJ48: =IF(AND(BH48>=0,BH48<=20,'Form Responses 1'!W41=$BH$2)=TRUE,1,0) -> 0 | BK48: =IF(AND(BH48<0)=TRUE,-1,0) -> 0 | BL48: =SUM(BI48:BK48) -> 1
A49: ='Form Responses 1'!B42 -> Student 40 | B49: =(F49+J49+N49)+(R49+V49+Z49)+(AD49+AH49+AL49)+(AP49+AT49+AX49+BB49)+(BG49+BL49) -> 6 | C49: ='Form Responses 1'!C42/'Form Responses 1'!D42*(1-$C$3) -> 1.5 | D49: ='Form Responses 1'!C42/'Form Responses 1'!D42*(1+$C$3) -> 2.5 | E49: =AND('Form Responses 1'!E42>C49,'Form Responses 1'!E42<D49) -> TRUE | F49: =IF(E49=TRUE,1,0) -> 1 | G49: ='Form Responses 1'!E42*$E$3*(1-$C$3) -> 0.375 | H49: ='Form Responses 1'!E42*$E$3*(1+$C$3) -> 0.625 | I49: =AND('Form Responses 1'!F42>G49,'Form Responses 1'!F42<H49) -> FALSE | J49: =IF(I49=TRUE,1,0) -> 0 | K49: =0.5*$E$3*'Form Responses 1'!E42*'Form Responses 1'!E42*(1-$C$3) -> 0.375 | L49: =0.5*$E$3*'Form Responses 1'!E42*'Form Responses 1'!E42*(1+$C$3) -> 0.625 | M49: =AND('Form Responses 1'!G42>K49,'Form Responses 1'!G42<L49) -> FALSE | N49: =IF(M49=TRUE,1,0) -> 0 | O49: ='Form Responses 1'!H42/'Form Responses 1'!I42*(1-$C$3) -> 0.375 | P49: ='Form Responses 1'!H42/'Form Responses 1'!I42*(1+$C$3) -> 0.625 | Q49: T | R49: =IF(Q49=TRUE,1,0) -> 0 | S49: ='Form Responses 1'!J42*$E$3*(1-$C$3) -> 0.1875 | T49: ='Form Responses 1'!J42*$E$3*(1+$C$3) -> 0.3125 | U49: =AND('Form Responses 1'!K42>S49,'Form Responses 1'!K42<T49) -> FALSE | V49: =IF(U49=TRUE,1,0) -> 0 | W49: =0.5*$E$3*'Form Responses 1'!J42*'Form Responses 1'!J42*(1-$C$3) -> 0.09375 | X49: =0.5*$E$3*'Form Responses 1'!J42*'Form Responses 1'!J42*(1+$C$3) -> 0.15625 | Y49: =AND('Form Responses 1'!L42>W49,'Form Responses 1'!L42<X49) -> FALSE | Z49: =IF(Y49=TRUE,1,0) -> 0 | AA49: ='Form Responses 1'!M42/'Form Responses 1'!N42*(1-$C$3) -> 0.75 | AB49: ='Form Responses 1'!M42/'Form Responses 1'!N42*(1+$C$3) -> 1.25 | AC49: =AND('Form Responses 1'!O42>AA49,'Form Responses 1'!O42<AB49) -> TRUE | AD49: =IF(AC49=TRUE,1,0) -> 1 | AE49: ='Form Responses 1'!O42*$E$4*(1-$C$3) -> 0.1875 | AF49: ='Form Responses 1'!O42*$E$4*(1+$C$3) -> 0.3125 | AG49: =AND('Form Responses 1'!P42>AE49,'Form Responses 1'!P42<AF49) -> FALSE | AH49: =IF(AG49=TRUE,1,0) -> 0 | AI49: =0.5*$E$4*'Form Responses 1'!O42*'Form Responses 1'!O42*(1-$C$3) -> 0.09375 | AJ49: =0.5*$E$4*'Form Responses 1'!O42*'Form Responses 1'!O42*(1+$C$3) -> 0.15625 | AK49: =AND('Form Responses 1'!Q42>AI49,'Form Responses 1'!Q42<AJ49) -> FALSE | AL49: =IF(AK49=TRUE,1,0) -> 0 | AM49: ='Form Responses 1'!F42*(1-$C$3) -> 0.75 | AN49: ='Form Responses 1'!F42*(1+$C$3) -> 1.25 | AO49: =AND('Form Responses 1'!R42>AM49,'Form Responses 1'!R42<AN49) -> TRUE | AP49: =IF(AO49=TRUE,1,0) -> 1 | AQ49: ='Form Responses 1'!G42*(1-$C$3) -> 0.75 | AR49: ='Form Responses 1'!G42*(1+$C$3) -> 1.25 | AS49: =AND('Form Responses 1'!S42>AQ49,'Form Responses 1'!S42<AR49) -> TRUE | AT49: =IF(AS49=TRUE,1,0) -> 1 | AU49: =('Form Responses 1'!K42+'Form Responses 1'!P42)*(1-$C$3) -> 1.5 | AV49: =('Form Responses 1'!K42+'Form Responses 1'!P42)*(1+$C$3) -> 2.5 | AW49: =AND('Form Responses 1'!T42>AU49,'Form Responses 1'!T42<AV49) -> FALSE | AX49: =IF(AW49=TRUE,1,0) -> 0 | AY49: =('Form Responses 1'!L42+'Form Responses 1'!Q42)*(1-$C$3) -> 1.5 | AZ49: =('Form Responses 1'!L42+'Form Responses 1'!Q42)*(1+$C$3) -> 2.5 | BA49: =AND('Form Responses 1'!U42>AY49,'Form Responses 1'!U42<AZ49) -> FALSE | BB49: =IF(BA49=TRUE,1,0) -> 0 | BC49: =('Form Responses 1'!R42-'Form Responses 1'!T42)/'Form Responses 1'!R42*100 -> 0 | BD49: =IF(AND(BC49>=20,'Form Responses 1'!V42=$BC$1)=TRUE,1,0) -> 0 | BE49: =IF(AND(BC49>=0,BC49<=20,'Form Responses 1'!V42=$BC$2)=TRUE,1,0) -> 1 | BF49: =IF(AND(BC49<0)=TRUE,-1,0) -> 0 | BG49: =SUM(BD49:BF49) -> 1 | BH49: =('Form Responses 1'!S42-'Form Responses 1'!U42)/'Form Responses 1'!S42*100 -> 0 | BI49: =IF(AND(BH49>=20,'Form Responses 1'!W42=$BH$1)=TRUE,1,0) -> 0 | BJ49: =IF(AND(BH49>=0,BH49<=20,'Form Responses 1'!W42=$BH$2)=TRUE,1,0) -> 1 | BK49: =IF(AND(BH49<0)=TRUE,-1,0) -> 0 | BL49: =SUM(BI49:BK49) -> 1
... A108: ='Form Responses 1'!B101 -> 0 | B108: =(F108+J108+N108)+(R108+V108+Z108)+(AD108+AH108+AL108)+(AP108+AT108+AX108+BB108)+(BG108+BL108) -> #DIV/0! | C108: ='Form Responses 1'!C101/'Form Responses 1'!D101*(1-$C$3) -> #DIV/0! | D108: ='Form Responses 1'!C101/'Form Responses 1'!D101*(1+$C$3) -> #DIV/0! | E108: =AND('Form Responses 1'!E101>C108,'Form Responses 1'!E101<D108) -> #DIV/0! | F108: =IF(E108=TRUE,1,0) -> #DIV/0! | G108: ='Form Responses 1'!E101*$E$3*(1-$C$3) -> 0 | H108: ='Form Responses 1'!E101*$E$3*(1+$C$3) -> 0 | I108: =AND('Form Responses 1'!F101>G108,'Form Responses 1'!F101<H108) -> FALSE | J108: =IF(I108=TRUE,1,0) -> 0 | K108: =0.5*$E$3*'Form Responses 1'!E101*'Form Responses 1'!E101*(1-$C$3) -> 0 | L108: =0.5*$E$3*'Form Responses 1'!E101*'Form Responses 1'!E101*(1+$C$3) -> 0 | M108: =AND('Form Responses 1'!G101>K108,'Form Responses 1'!G101<L108) -> FALSE | N108: =IF(M108=TRUE,1,0) -> 0 | O108: ='Form Responses 1'!H101/'Form Responses 1'!I101*(1-$C$3) -> #DIV/0! | P108: ='Form Responses 1'!H101/'Form Responses 1'!I101*(1+$C$3) -> #DIV/0! | Q108: T | R108: =IF(Q108=TRUE,1,0) -> 0 | S108: ='Form Responses 1'!J101*$E$3*(1-$C$3) -> 0 | T108: ='Form Responses 1'!J101*$E$3*(1+$C$3) -> 0 | U108: =AND('Form Responses 1'!K101>S108,'Form Responses 1'!K101<T108) -> FALSE | V108: =IF(U108=TRUE,1,0) -> 0 | W108: =0.5*$E$3*'Form Responses 1'!J101*'Form Responses 1'!J101*(1-$C$3) -> 0 | X108: =0.5*$E$3*'Form Responses 1'!J101*'Form Responses 1'!J101*(1+$C$3) -> 0 | Y108: =AND('Form Responses 1'!L101>W108,'Form Responses 1'!L101<X108) -> FALSE | Z108: =IF(Y108=TRUE,1,0) -> 0 | AA108: ='Form Responses 1'!M101/'Form Responses 1'!N101*(1-$C$3) -> #DIV/0! | AB108: ='Form Responses 1'!M101/'Form Responses 1'!N101*(1+$C$3) -> #DIV/0! | AC108: =AND('Form Responses 1'!O101>AA108,'Form Responses 1'!O101<AB108) -> #DIV/0! | AD108: =IF(AC108=TRUE,1,0) -> #DIV/0! | AE108: ='Form Responses 1'!O101*$E$4*(1-$C$3) -> 0 | AF108: ='Form Responses 1'!O101*$E$4*(1+$C$3) -> 0 | AG108: =AND('Form Responses 1'!P101>AE108,'Form Responses 1'!P101<AF108) -> FALSE | AH108: =IF(AG108=TRUE,1,0) -> 0 | AI108: =0.5*$E$4*'Form Responses 1'!O101*'Form Responses 1'!O101*(1-$C$3) -> 0 | AJ108: =0.5*$E$4*'Form Responses 1'!O101*'Form Responses 1'!O101*(1+$C$3) -> 0 | AK108: =AND('Form Responses 1'!Q101>AI108,'Form Responses 1'!Q101<AJ108) -> FALSE | AL108: =IF(AK108=TRUE,1,0) -> 0 | AM108: ='Form Responses 1'!F101*(1-$C$3) -> 0 | AN108: ='Form Responses 1'!F101*(1+$C$3) -> 0 | AO108: =AND('Form Responses 1'!R101>AM108,'Form Responses 1'!R101<AN108) -> FALSE | AP108: =IF(AO108=TRUE,1,0) -> 0 | AQ108: ='Form Responses 1'!G101*(1-$C$3) -> 0 | AR108: ='Form Responses 1'!G101*(1+$C$3) -> 0 | AS108: =AND('Form Responses 1'!S101>AQ108,'Form Responses 1'!S101<AR108) -> FALSE | AT108: =IF(AS108=TRUE,1,0) -> 0 | AU108: =('Form Responses 1'!K101+'Form Responses 1'!P101)*(1-$C$3) -> 0 | AV108: =('Form Responses 1'!K101+'Form Responses 1'!P101)*(1+$C$3) -> 0 | AW108: =AND('Form Responses 1'!T101>AU108,'Form Responses 1'!T101<AV108) -> FALSE | AX108: =IF(AW108=TRUE,1,0) -> 0 | AY108: =('Form Responses 1'!L101+'Form Responses 1'!Q101)*(1-$C$3) -> 0 | AZ108: =('Form Responses 1'!L101+'Form Responses 1'!Q101)*(1+$C$3) -> 0 | BA108: =AND('Form Responses 1'!U101>AY108,'Form Responses 1'!U101<AZ108) -> FALSE | BB108: =IF(BA108=TRUE,1,0) -> 0 | BC108: =('Form Responses 1'!R101-'Form Responses 1'!T101)/'Form Responses 1'!R101*100 -> #DIV/0! | BD108: =IF(AND(BC108>=20,'Form Responses 1'!V101=$BC$1)=TRUE,1,0) -> #DIV/0! | BE108: =IF(AND(BC108>=0,BC108<=20,'Form Responses 1'!V101=$BC$2)=TRUE,1,0) -> #DIV/0! | BF108: =IF(AND(BC108<0)=TRUE,-1,0) -> #DIV/0! | BG108: =SUM(BD108:BF108) -> #DIV/0! | BH108: =('Form Responses 1'!S101-'Form Responses 1'!U101)/'Form Responses 1'!S101*100 -> #DIV/0! | BI108: =IF(AND(BH108>=20,'Form Responses 1'!W101=$BH$1)=TRUE,1,0) -> #DIV/0! | BJ108: =IF(AND(BH108>=0,BH108<=20,'Form Responses 1'!W101=$BH$2)=TRUE,1,0) -> #DIV/0! | BK108: =IF(AND(BH108<0)=TRUE,-1,0) -> #DIV/0! | BL108: =SUM(BI108:BK108) -> #DIV/0!
A109: ='Form Responses 1'!B103 -> 0 | B109: =(F109+J109+N109)+(R109+V109+Z109)+(AD109+AH109+AL109)+(AP109+AT109+AX109+BB109)+(BG109+BL109) -> #DIV/0! | C109: ='Form Responses 1'!C103/'Form Responses 1'!D103*(1-$C$3) -> #DIV/0! | D109: ='Form Responses 1'!C103/'Form Responses 1'!D103*(1+$C$3) -> #DIV/0! | E109: =AND('Form Responses 1'!E103>C109,'Form Responses 1'!E103<D109) -> #DIV/0! | F109: =IF(E109=TRUE,1,0) -> #DIV/0! | G109: ='Form Responses 1'!E103*$E$3*(1-$C$3) -> 0 | H109: ='Form Responses 1'!E103*$E$3*(1+$C$3) -> 0 | I109: =AND('Form Responses 1'!F103>G109,'Form Responses 1'!F103<H109) -> FALSE | J109: =IF(I109=TRUE,1,0) -> 0 | K109: =0.5*$E$3*'Form Responses 1'!E103*'Form Responses 1'!E103*(1-$C$3) -> 0 | L109: =0.5*$E$3*'Form Responses 1'!E103*'Form Responses 1'!E103*(1+$C$3) -> 0 | M109: =AND('Form Responses 1'!G103>K109,'Form Responses 1'!G103<L109) -> FALSE | N109: =IF(M109=TRUE,1,0) -> 0 | O109: ='Form Responses 1'!H103/'Form Responses 1'!I103*(1-$C$3) -> #DIV/0! | P109: ='Form Responses 1'!H103/'Form Responses 1'!I103*(1+$C$3) -> #DIV/0! | Q109: T | R109: =IF(Q109=TRUE,1,0) -> 0 | S109: ='Form Responses 1'!J103*$E$3*(1-$C$3) -> 0 | T109: ='Form Responses 1'!J103*$E$3*(1+$C$3) -> 0 | U109: =AND('Form Responses 1'!K103>S109,'Form Responses 1'!K103<T109) -> FALSE | V109: =IF(U109=TRUE,1,0) -> 0 | W109: =0.5*$E$3*'Form Responses 1'!J103*'Form Responses 1'!J103*(1-$C$3) -> 0 | X109: =0.5*$E$3*'Form Responses 1'!J103*'Form Responses 1'!J103*(1+$C$3) -> 0 | Y109: =AND('Form Responses 1'!L103>W109,'Form Responses 1'!L103<X109) -> FALSE | Z109: =IF(Y109=TRUE,1,0) -> 0 | AA109: ='Form Responses 1'!M103/'Form Responses 1'!N103*(1-$C$3) -> #DIV/0! | AB109: ='Form Responses 1'!M103/'Form Responses 1'!N103*(1+$C$3) -> #DIV/0! | AC109: =AND('Form Responses 1'!O103>AA109,'Form Responses 1'!O103<AB109) -> #DIV/0! | AD109: =IF(AC109=TRUE,1,0) -> #DIV/0! | AE109: ='Form Responses 1'!O103*$E$4*(1-$C$3) -> 0 | AF109: ='Form Responses 1'!O103*$E$4*(1+$C$3) -> 0 | AG109: =AND('Form Responses 1'!P103>AE109,'Form Responses 1'!P103<AF109) -> FALSE | AH109: =IF(AG109=TRUE,1,0) -> 0 | AI109: =0.5*$E$4*'Form Responses 1'!O103*'Form Responses 1'!O103*(1-$C$3) -> 0 | AJ109: =0.5*$E$4*'Form Responses 1'!O103*'Form Responses 1'!O103*(1+$C$3) -> 0 | AK109: =AND('Form Responses 1'!Q103>AI109,'Form Responses 1'!Q103<AJ109) -> FALSE | AL109: =IF(AK109=TRUE,1,0) -> 0 | AM109: ='Form Responses 1'!F103*(1-$C$3) -> 0 | AN109: ='Form Responses 1'!F103*(1+$C$3) -> 0 | AO109: =AND('Form Responses 1'!R103>AM109,'Form Responses 1'!R103<AN109) -> FALSE | AP109: =IF(AO109=TRUE,1,0) -> 0 | AQ109: ='Form Responses 1'!G103*(1-$C$3) -> 0 | AR109: ='Form Responses 1'!G103*(1+$C$3) -> 0 | AS109: =AND('Form Responses 1'!S103>AQ109,'Form Responses 1'!S103<AR109) -> FALSE | AT109: =IF(AS109=TRUE,1,0) -> 0 | AU109: =('Form Responses 1'!K103+'Form Responses 1'!P103)*(1-$C$3) -> 0 | AV109: =('Form Responses 1'!K103+'Form Responses 1'!P103)*(1+$C$3) -> 0 | AW109: =AND('Form Responses 1'!T103>AU109,'Form Responses 1'!T103<AV109) -> FALSE | AX109: =IF(AW109=TRUE,1,0) -> 0 | AY109: =('Form Responses 1'!L103+'Form Responses 1'!Q103)*(1-$C$3) -> 0 | AZ109: =('Form Responses 1'!L103+'Form Responses 1'!Q103)*(1+$C$3) -> 0 | BA109: =AND('Form Responses 1'!U103>AY109,'Form Responses 1'!U103<AZ109) -> FALSE | BB109: =IF(BA109=TRUE,1,0) -> 0 | BC109: =('Form Responses 1'!R103-'Form Responses 1'!T103)/'Form Responses 1'!R103*100 -> #DIV/0! | BD109: =IF(AND(BC109>=20,'Form Responses 1'!V103=$BC$1)=TRUE,1,0) -> #DIV/0! | BE109: =IF(AND(BC109>=0,BC109<=20,'Form Responses 1'!V103=$BC$2)=TRUE,1,0) -> #DIV/0! | BF109: =IF(AND(BC109<0)=TRUE,-1,0) -> #DIV/0! | BG109: =SUM(BD109:BF109) -> #DIV/0! | BH109: =('Form Responses 1'!S103-'Form Responses 1'!U103)/'Form Responses 1'!S103*100 -> #DIV/0! | BI109: =IF(AND(BH109>=20,'Form Responses 1'!W103=$BH$1)=TRUE,1,0) -> #DIV/0! | BJ109: =IF(AND(BH109>=0,BH109<=20,'Form Responses 1'!W103=$BH$2)=TRUE,1,0) -> #DIV/0! | BK109: =IF(AND(BH109<0)=TRUE,-1,0) -> #DIV/0! | BL109: =SUM(BI109:BK109) -> #DIV/0!
A110: ='Form Responses 1'!B104 -> 0 | B110: =(F110+J110+N110)+(R110+V110+Z110)+(AD110+AH110+AL110)+(AP110+AT110+AX110+BB110)+(BG110+BL110) -> #DIV/0! | C110: ='Form Responses 1'!C104/'Form Responses 1'!D104*(1-$C$3) -> #DIV/0! | D110: ='Form Responses 1'!C104/'Form Responses 1'!D104*(1+$C$3) -> #DIV/0! | E110: =AND('Form Responses 1'!E104>C110,'Form Responses 1'!E104<D110) -> #DIV/0! | F110: =IF(E110=TRUE,1,0) -> #DIV/0! | G110: ='Form Responses 1'!E104*$E$3*(1-$C$3) -> 0 | H110: ='Form Responses 1'!E104*$E$3*(1+$C$3) -> 0 | I110: =AND('Form Responses 1'!F104>G110,'Form Responses 1'!F104<H110) -> FALSE | J110: =IF(I110=TRUE,1,0) -> 0 | K110: =0.5*$E$3*'Form Responses 1'!E104*'Form Responses 1'!E104*(1-$C$3) -> 0 | L110: =0.5*$E$3*'Form Responses 1'!E104*'Form Responses 1'!E104*(1+$C$3) -> 0 | M110: =AND('Form Responses 1'!G104>K110,'Form Responses 1'!G104<L110) -> FALSE | N110: =IF(M110=TRUE,1,0) -> 0 | O110: ='Form Responses 1'!H104/'Form Responses 1'!I104*(1-$C$3) -> #DIV/0! | P110: ='Form Responses 1'!H104/'Form Responses 1'!I104*(1+$C$3) -> #DIV/0! | Q110: T | R110: =IF(Q110=TRUE,1,0) -> 0 | S110: ='Form Responses 1'!J104*$E$3*(1-$C$3) -> 0 | T110: ='Form Responses 1'!J104*$E$3*(1+$C$3) -> 0 | U110: =AND('Form Responses 1'!K104>S110,'Form Responses 1'!K104<T110) -> FALSE | V110: =IF(U110=TRUE,1,0) -> 0 | W110: =0.5*$E$3*'Form Responses 1'!J104*'Form Responses 1'!J104*(1-$C$3) -> 0 | X110: =0.5*$E$3*'Form Responses 1'!J104*'Form Responses 1'!J104*(1+$C$3) -> 0 | Y110: =AND('Form Responses 1'!L104>W110,'Form Responses 1'!L104<X110) -> FALSE | Z110: =IF(Y110=TRUE,1,0) -> 0 | AA110: ='Form Responses 1'!M104/'Form Responses 1'!N104*(1-$C$3) -> #DIV/0! | AB110: ='Form Responses 1'!M104/'Form Responses 1'!N104*(1+$C$3) -> #DIV/0! | AC110: =AND('Form Responses 1'!O104>AA110,'Form Responses 1'!O104<AB110) -> #DIV/0! | AD110: =IF(AC110=TRUE,1,0) -> #DIV/0! | AE110: ='Form Responses 1'!O104*$E$4*(1-$C$3) -> 0 | AF110: ='Form Responses 1'!O104*$E$4*(1+$C$3) -> 0 | AG110: =AND('Form Responses 1'!P104>AE110,'Form Responses 1'!P104<AF110) -> FALSE | AH110: =IF(AG110=TRUE,1,0) -> 0 | AI110: =0.5*$E$4*'Form Responses 1'!O104*'Form Responses 1'!O104*(1-$C$3) -> 0 | AJ110: =0.5*$E$4*'Form Responses 1'!O104*'Form Responses 1'!O104*(1+$C$3) -> 0 | AK110: =AND('Form Responses 1'!Q104>AI110,'Form Responses 1'!Q104<AJ110) -> FALSE | AL110: =IF(AK110=TRUE,1,0) -> 0 | AM110: ='Form Responses 1'!F104*(1-$C$3) -> 0 | AN110: ='Form Responses 1'!F104*(1+$C$3) -> 0 | AO110: =AND('Form Responses 1'!R104>AM110,'Form Responses 1'!R104<AN110) -> FALSE | AP110: =IF(AO110=TRUE,1,0) -> 0 | AQ110: ='Form Responses 1'!G104*(1-$C$3) -> 0 | AR110: ='Form Responses 1'!G104*(1+$C$3) -> 0 | AS110: =AND('Form Responses 1'!S104>AQ110,'Form Responses 1'!S104<AR110) -> FALSE | AT110: =IF(AS110=TRUE,1,0) -> 0 | AU110: =('Form Responses 1'!K104+'Form Responses 1'!P104)*(1-$C$3) -> 0 | AV110: =('Form Responses 1'!K104+'Form Responses 1'!P104)*(1+$C$3) -> 0 | AW110: =AND('Form Responses 1'!T104>AU110,'Form Responses 1'!T104<AV110) -> FALSE | AX110: =IF(AW110=TRUE,1,0) -> 0 | AY110: =('Form Responses 1'!L104+'Form Responses 1'!Q104)*(1-$C$3) -> 0 | AZ110: =('Form Responses 1'!L104+'Form Responses 1'!Q104)*(1+$C$3) -> 0 | BA110: =AND('Form Responses 1'!U104>AY110,'Form Responses 1'!U104<AZ110) -> FALSE | BB110: =IF(BA110=TRUE,1,0) -> 0 | BC110: =('Form Responses 1'!R104-'Form Responses 1'!T104)/'Form Responses 1'!R104*100 -> #DIV/0! | BD110: =IF(AND(BC110>=20,'Form Responses 1'!V104=$BC$1)=TRUE,1,0) -> #DIV/0! | BE110: =IF(AND(BC110>=0,BC110<=20,'Form Responses 1'!V104=$BC$2)=TRUE,1,0) -> #DIV/0! | BF110: =IF(AND(BC110<0)=TRUE,-1,0) -> #DIV/0! | BG110: =SUM(BD110:BF110) -> #DIV/0! | BH110: =('Form Responses 1'!S104-'Form Responses 1'!U104)/'Form Responses 1'!S104*100 -> #DIV/0! | BI110: =IF(AND(BH110>=20,'Form Responses 1'!W104=$BH$1)=TRUE,1,0) -> #DIV/0! | BJ110: =IF(AND(BH110>=0,BH110<=20,'Form Responses 1'!W104=$BH$2)=TRUE,1,0) -> #DIV/0! | BK110: =IF(AND(BH110<0)=TRUE,-1,0) -> #DIV/0! | BL110: =SUM(BI110:BK110) -> #DIV/0!
