Workbook

Sheet Form Responses 1
A1: Timestamp | B1: Email Address | C1: Initial - Car 1 - Displacement (m) | D1: Initial - Car 1 - Time (s) | E1: Initial - Car 1 - Velocity (m/s) | F1: Initial - Car 1 - Momentum (kg*m/s) | G1: Initial - Car 1 - Kinetic Energy (J) | H1: Final - Car 1 - Displacement (m) | I1: Final - Car 1 - Time (s) | J1: Final - Car 1 - Velocity (m/s) | K1: Final - Car 1 - Momentum (kg*m/s) | L1: Final - Car 1 - Kinetic Energy (J) | M1: Final - Car 2 - Displacement (m) | N1: Final - Car 2 - Time (s) | O1: Final - Car 2 - Velocity (m/s) | P1: Final - Car 2 - Momentum (kg*m/s) | Q1: Final - Car 2 - Kinetic Energy (J) | R1: Initial Momentum of System | S1: Initial Kinetic Energy of System | T1: Final Momentum of System | U1: Final Kinetic Energy of System | V1: Momentum Conserved? | W1: Elastic Collision?
A2: 42779.653 | B2: mbayer@clearview.ab.ca | C2: 1 | D2: 1 | E2: 1 | F2: 0.25 | G2: 0.13 | H2: 0.05 | I2: 1 | J2: 0.05 | K2: 0.01 | L2: 0.0003 | M2: 0.95 | N2: 1 | O2: 0.95 | P2: 0.24 | Q2: 0.1128 | R2: 0.25 | S2: 0.13 | T2: 0.25 | U2: 0.11 | V2: Momentum is conserved (<20% difference) | W2: Elastic (<20% difference)
A3: 42780.426 | B3: Student 1 | C3: 1.05 | D3: 1.39 | E3: 0.7554 | F3: 0.18885 | G3: 0.07133 | H3: 0 | I3: 3.68 | J3: 0 | K3: 0 | L3: 0 | M3: 2.27 | N3: 3.68 | O3: 0.61685 | P3: 0.1542 | Q3: 0.047563 | R3: 0.18885 | S3: 0.07133 | T3: 0.1542 | U3: 0.047563 | V3: Momentum is conserved (<20% difference) | W3: Not elastic (>20% difference)
A4: 42780.728 | B4: Student 2 | C4: 1.05 | D4: 1.39 | E4: 0.75539568 | F4: 0.18884892 | G4: 0.07132783 | H4: 0 | I4: 3.68 | J4: 0 | K4: 0 | L4: 0 | M4: 2.27 | N4: 3.68 | O4: 0.61684783 | P4: 0.15421196 | Q4: 0.047562655 | R4: 0.18885 | S4: 0.07133 | T4: 0.15421 | U4: 0.047563 | V4: Momentum is not conserved (>20% difference) | W4: Not elastic (>20% difference)
A5: 42780.737 | B5: Student 3 | C5: 1.05 | D5: 1.39 | E5: 0.75539568 | F5: 0.18884892 | G5: 0.07132783 | H5: 0 | I5: 3.68 | J5: 0 | K5: 0 | L5: 0 | M5: 2.27 | N5: 3.68 | O5: 0.61684783 | P5: 0.15421196 | Q5: 0.047563 | R5: 0.18885 | S5: 0.07133 | T5: 0.15421 | U5: 0.047563 | V5: Momentum is conserved (<20% difference) | W5: Not elastic (>20% difference)
A6: 42781.408 | B6: Student 4 | C6: 1.05 | D6: 1.39 | E6: 0.7554 | F6: 0.18885 | G6: 0.07133 | H6: 0 | I6: 3.68 | J6: 0 | K6: 0 | L6: 0 | M6: 2.27 | N6: 3.68 | O6: 0.61685 | P6: 0.154211 | Q6: 0.047563 | R6: 0.18885 | S6: 0.07133 | T6: 0.154211 | U6: 0.047563 | V6: Momentum is conserved (<20% difference) | W6: Elastic (<20% difference)
A7: 42781.409 | B7: Student 5 | C7: 1.05 | D7: 1.39 | E7: 0.755 | F7: 0.194 | G7: 0.713 | H7: 0 | I7: 3.68 | J7: 0 | K7: 0 | L7: 0 | M7: 2.27 | N7: 3.68 | O7: 0.617 | P7: 0.154 | Q7: 0.048 | R7: 0.194 | S7: 0.713 | T7: 0.154 | U7: 0.048 | V7: Momentum is conserved (<20% difference) | W7: Elastic (<20% difference)
A8: 42781.411 | B8: Student 6 | C8: 1.05 | D8: 1.39 | E8: 0.7554 | F8: 0.18885 | G8: 0.07133 | H8: 0 | I8: 3.68 | J8: 0 | K8: 0 | L8: 0 | M8: 2.27 | N8: 3.68 | O8: 0.61685 | P8: 0.154211 | Q8: 0.047563 | R8: 0.1885 | S8: 0.07133 | T8: 0.154211 | U8: 0.047563 | V8: Momentum is conserved (<20% difference) | W8: Elastic (<20% difference)
A9: 42781.417 | B9: Student 7 | C9: 1 | D9: 0.68 | E9: 1.47 | F9: 0.3676 | G9: 0.27 | H9: 0 | I9: 2 | J9: 0 | K9: 0 | L9: 0 | M9: 2.06 | N9: 2.25 | O9: 0.9156 | P9: 0.2289 | Q9: 0.1048 | R9: 0.3676 | S9: 0.27 | T9: 0.2289 | U9: 0.1048 | V9: Momentum is not conserved (>20% difference) | W9: Not elastic (>20% difference)
A10: 42781.419 | B10: Student 8 | C10: 1 | D10: 0.68 | E10: 1.47 | F10: 0.3676 | G10: 0.2701 | H10: 0 | I10: 2.25 | J10: 0 | K10: 0 | L10: 0 | M10: 2.065 | N10: 2.25 | O10: 0.917 | P10: 0.22925 | Q10: 0.105 | R10: 0.3676 | S10: 0.2701 | T10: 0.22925 | U10: 0.105 | V10: Momentum is not conserved (>20% difference) | W10: Not elastic (>20% difference)
A11: 42781.42 | B11: Student 9 | C11: 1 | D11: 0.68 | E11: 1.471 | F11: 0.368 | G11: 0.27 | H11: 0 | I11: 1 | J11: 0 | K11: 0 | L11: 0 | M11: 2.06 | N11: 2.52 | O11: 0.916 | P11: 0.229 | Q11: 0.105 | R11: 0.368 | S11: 0.27 | T11: 0.229 | U11: 0.105 | V11: Momentum is not conserved (>20% difference) | W11: Not elastic (>20% difference)
A12: 42793.637 | B12: Student 10 | C12: 1 | D12: 0.68 | E12: 1.4706 | F12: 0.3677 | G12: 0.2703 | H12: 0 | I12: 0 | J12: 0 | K12: 0 | L12: 0 | M12: 2.11 | N12: 2.25 | O12: 0.9378 | P12: 0.2344 | Q12: 0.1053 | R12: 0.3677 | S12: 0.2703 | T12: 0.2344 | U12: 0.1053 | V12: Momentum is not conserved (>20% difference) | W12: Not elastic (>20% difference)
A13: 43144.558 | B13: Student 11 | C13: 1 | D13: 1 | E13: 1 | F13: 0.25 | G13: 0.13 | H13: 0.05 | I13: 1 | J13: 0.05 | K13: 0.01 | L13: 0.0003 | M13: 0.95 | N13: 1 | O13: 0.95 | P13: 0.24 | Q13: 0.1128 | R13: 0.25 | S13: 0.13 | T13: 0.25 | U13: 0.11 | V13: Momentum is conserved (<20% difference) | W13: Elastic (<20% difference)
... A95: 43930.484 | B95: Student 93 | C95: 2 | D95: 1.99 | E95: 1 | F95: 0.25 | G95: 0.125 | H95: 0.02 | I95: 0.46 | J95: 0.043 | K95: 0.0103 | L95: 0 | M95: 0.6 | N95: 0.785 | O95: 0.769 | P95: 0.1922 | Q95: 0 | R95: 0.25 | S95: 0.125 | T95: 0.26375 | U95: 0 | V95: Momentum is not conserved (>20% difference) | W95: Not elastic (>20% difference)

Sheet Calculations
A1: Condition #1 | BC1: Momentum is not conserved (>20% difference) | BH1: Not elastic (>20% difference)
BC2: Momentum is conserved (<20% difference) | BH2: Elastic (<20% difference)
B3: SPEC | C3: 0.25 | D3: Blue 1 (kg) | E3: 0.25 | BC3: Momentum is gained (measurement error) | BH3: Energy is gained (measurement error)
D4: Red 2 (kg) | E4: 0.25
C6: Initial Blue Car 1 | O6: Final Blue Car 1 | AA6: Final Red Car 2 | AM6: Analysis
C7: v1i | G7: p1i | K7: Ek1i | O7: v1f | S7: p1f | W7: Ek1f | AA7: v2f | AE7: p2f | AI7: Ek2f | AM7: p-sys-initial | AQ7: Ek-sys-initial | AU7: p-sys-final | AY7: Ek-sys-final | BC7: p-conserved? | BH7: Ek-conserved?
A8: Name | B8: TOTAL | C8: Low SPEC | D8: High SPEC | E8: Within SPEC? | F8: Marks | G8: Low SPEC | H8: High SPEC | I8: Within SPEC? | J8: Marks | K8: Low SPEC | L8: High SPEC | M8: Within SPEC? | N8: Marks | O8: Low SPEC | P8: High SPEC | Q8: Within SPEC? | R8: Marks | S8: Low SPEC | T8: High SPEC | U8: Within SPEC? | V8: Marks | W8: Low SPEC | X8: High SPEC | Y8: Within SPEC? | Z8: Marks | AA8: Low SPEC | AB8: High SPEC | AC8: Within SPEC? | AD8: Marks | AE8: Low SPEC | AF8: High SPEC | AG8: Within SPEC? | AH8: Marks | AI8: Low SPEC | AJ8: High SPEC | AK8: Within SPEC? | AL8: Marks | AM8: Low SPEC | AN8: High SPEC | AO8: Within SPEC? | AP8: Mark | AQ8: Low SPEC | AR8: High SPEC | AS8: Within SPEC? | AT8: Mark | AU8: Low SPEC | AV8: High SPEC | AW8: Within SPEC? | AX8: Mark | AY8: Low SPEC | AZ8: High SPEC | BA8: Within SPEC? | BB8: Mark | BC8: Percent Diff | BD8: Not Conserved? | BE8: Conserved? | BF8: Gained? | BG8: Mark | BH8: Percent Diff | BI8: Not Conserved? | BJ8: Conserved? | BK8: Gained? | BL8: Mark
A9: ='Form Responses 1'!B2 -> mbayer@clearview.ab.ca | B9: =(F9+J9+N9)+(R9+V9+Z9)+(AD9+AH9+AL9)+(AP9+AT9+AX9+BB9)+(BG9+BL9) -> 15 | C9: ='Form Responses 1'!C2/'Form Responses 1'!D2*(1-$C$3) -> 0.75 | D9: ='Form Responses 1'!C2/'Form Responses 1'!D2*(1+$C$3) -> 1.25 | E9: =AND('Form Responses 1'!E2>C9,'Form Responses 1'!E2<D9) -> TRUE | F9: =IF(E9=TRUE,1,0) -> 1 | G9: ='Form Responses 1'!E2*$E$3*(1-$C$3) -> 0.1875 | H9: ='Form Responses 1'!E2*$E$3*(1+$C$3) -> 0.3125 | I9: =AND('Form Responses 1'!F2>G9,'Form Responses 1'!F2<H9) -> TRUE | J9: =IF(I9=TRUE,1,0) -> 1 | K9: =0.5*$E$3*'Form Responses 1'!E2*'Form Responses 1'!E2*(1-$C$3) -> 0.09375 | L9: =0.5*$E$3*'Form Responses 1'!E2*'Form Responses 1'!E2*(1+$C$3) -> 0.15625 | M9: =AND('Form Responses 1'!G2>K9,'Form Responses 1'!G2<L9) -> TRUE | N9: =IF(M9=TRUE,1,0) -> 1 | O9: ='Form Responses 1'!H2/'Form Responses 1'!I2*(1-$C$3) -> 0.0375 | P9: ='Form Responses 1'!H2/'Form Responses 1'!I2*(1+$C$3) -> 0.0625 | Q9: =AND('Form Responses 1'!J2>O9,'Form Responses 1'!J2<P9) -> TRUE | R9: =IF(Q9=TRUE,1,0) -> 1 | S9: ='Form Responses 1'!J2*$E$3*(1-$C$3) -> 0.009375 | T9: ='Form Responses 1'!J2*$E$3*(1+$C$3) -> 0.015625 | U9: =AND('Form Responses 1'!K2>S9,'Form Responses 1'!K2<T9) -> TRUE | V9: =IF(U9=TRUE,1,0) -> 1 | W9: =0.5*$E$3*'Form Responses 1'!J2*'Form Responses 1'!J2*(1-$C$3) -> 0.000234375 | X9: =0.5*$E$3*'Form Responses 1'!J2*'Form Responses 1'!J2*(1+$C$3) -> 0.000390625 | Y9: =AND('Form Responses 1'!L2>W9,'Form Responses 1'!L2<X9) -> TRUE | Z9: =IF(Y9=TRUE,1,0) -> 1 | AA9: ='Form Responses 1'!M2/'Form Responses 1'!N2*(1-$C$3) -> 0.7125 | AB9: ='Form Responses 1'!M2/'Form Responses 1'!N2*(1+$C$3) -> 1.1875 | AC9: =AND('Form Responses 1'!O2>AA9,'Form Responses 1'!O2<AB9) -> TRUE | AD9: =IF(AC9=TRUE,1,0) -> 1 | AE9: ='Form Responses 1'!O2*$E$4*(1-$C$3) -> 0.178125 | AF9: ='Form Responses 1'!O2*$E$4*(1+$C$3) -> 0.296875 | AG9: =AND('Form Responses 1'!P2>AE9,'Form Responses 1'!P2<AF9) -> TRUE | AH9: =IF(AG9=TRUE,1,0) -> 1 | AI9: =0.5*$E$4*'Form Responses 1'!O2*'Form Responses 1'!O2*(1-$C$3) -> 0.084609375 | AJ9: =0.5*$E$4*'Form Responses 1'!O2*'Form Responses 1'!O2*(1+$C$3) -> 0.14101563 | AK9: =AND('Form Responses 1'!Q2>AI9,'Form Responses 1'!Q2<AJ9) -> TRUE | AL9: =IF(AK9=TRUE,1,0) -> 1 | AM9: ='Form Responses 1'!F2*(1-$C$3) -> 0.1875 | AN9: ='Form Responses 1'!F2*(1+$C$3) -> 0.3125 | AO9: =AND('Form Responses 1'!R2>AM9,'Form Responses 1'!R2<AN9) -> TRUE | AP9: =IF(AO9=TRUE,1,0) -> 1 | AQ9: ='Form Responses 1'!G2*(1-$C$3) -> 0.0975 | AR9: ='Form Responses 1'!G2*(1+$C$3) -> 0.1625 | AS9: =AND('Form Responses 1'!S2>AQ9,'Form Responses 1'!S2<AR9) -> TRUE | AT9: =IF(AS9=TRUE,1,0) -> 1 | AU9: =('Form Responses 1'!K2+'Form Responses 1'!P2)*(1-$C$3) -> 0.1875 | AV9: =('Form Responses 1'!K2+'Form Responses 1'!P2)*(1+$C$3) -> 0.3125 | AW9: =AND('Form Responses 1'!T2>AU9,'Form Responses 1'!T2<AV9) -> TRUE | AX9: =IF(AW9=TRUE,1,0) -> 1 | AY9: =('Form Responses 1'!L2+'Form Responses 1'!Q2)*(1-$C$3) -> 0.084825 | AZ9: =('Form Responses 1'!L2+'Form Responses 1'!Q2)*(1+$C$3) -> 0.141375 | BA9: =AND('Form Responses 1'!U2>AY9,'Form Responses 1'!U2<AZ9) -> TRUE | BB9: =IF(BA9=TRUE,1,0) -> 1 | BC9: =('Form Responses 1'!R2-'Form Responses 1'!T2)/'Form Responses 1'!R2*100 -> 0 | BD9: =IF(AND(BC9>=20,'Form Responses 1'!V2=$BC$1)=TRUE,1,0) -> 0 | BE9: =IF(AND(BC9>=0,BC9<=20,'Form Responses 1'!V2=$BC$2)=TRUE,1,0) -> 1 | BF9: =IF(AND(BC9<0)=TRUE,-1,0) -> 0 | BG9: =SUM(BD9:BF9) -> 1 | BH9: =('Form Responses 1'!S2-'Form Responses 1'!U2)/'Form Responses 1'!S2*100 -> 15.384615 | BI9: =IF(AND(BH9>=20,'Form Responses 1'!W2=$BH$1)=TRUE,1,0) -> 0 | BJ9: =IF(AND(BH9>=0,BH9<=20,'Form Responses 1'!W2=$BH$2)=TRUE,1,0) -> 1 | BK9: =IF(AND(BH9<0)=TRUE,-1,0) -> 0 | BL9: =SUM(BI9:BK9) -> 1
A10: ='Form Responses 1'!B3 -> Student 1 | B10: =(F10+J10+N10)+(R10+V10+Z10)+(AD10+AH10+AL10)+(AP10+AT10+AX10+BB10)+(BG10+BL10) -> 12 | C10: ='Form Responses 1'!C3/'Form Responses 1'!D3*(1-$C$3) -> 0.56654676 | D10: ='Form Responses 1'!C3/'Form Responses 1'!D3*(1+$C$3) -> 0.9442446 | E10: =AND('Form Responses 1'!E3>C10,'Form Responses 1'!E3<D10) -> TRUE | F10: =IF(E10=TRUE,1,0) -> 1 | G10: ='Form Responses 1'!E3*$E$3*(1-$C$3) -> 0.1416375 | H10: ='Form Responses 1'!E3*$E$3*(1+$C$3) -> 0.2360625 | I10: =AND('Form Responses 1'!F3>G10,'Form Responses 1'!F3<H10) -> TRUE | J10: =IF(I10=TRUE,1,0) -> 1 | K10: =0.5*$E$3*'Form Responses 1'!E3*'Form Responses 1'!E3*(1-$C$3) -> 0.053496484 | L10: =0.5*$E$3*'Form Responses 1'!E3*'Form Responses 1'!E3*(1+$C$3) -> 0.089160806 | M10: =AND('Form Responses 1'!G3>K10,'Form Responses 1'!G3<L10) -> TRUE | N10: =IF(M10=TRUE,1,0) -> 1 | O10: ='Form Responses 1'!H3/'Form Responses 1'!I3*(1-$C$3) -> 0 | P10: ='Form Responses 1'!H3/'Form Responses 1'!I3*(1+$C$3) -> 0 | Q10: =AND('Form Responses 1'!J3>O10,'Form Responses 1'!J3<P10) -> FALSE | R10: =IF(Q10=TRUE,1,0) -> 0 | S10: ='Form Responses 1'!J3*$E$3*(1-$C$3) -> 0 | T10: ='Form Responses 1'!J3*$E$3*(1+$C$3) -> 0 | U10: =AND('Form Responses 1'!K3>S10,'Form Responses 1'!K3<T10) -> FALSE | V10: =IF(U10=TRUE,1,0) -> 0 | W10: =0.5*$E$3*'Form Responses 1'!J3*'Form Responses 1'!J3*(1-$C$3) -> 0 | X10: =0.5*$E$3*'Form Responses 1'!J3*'Form Responses 1'!J3*(1+$C$3) -> 0 | Y10: =AND('Form Responses 1'!L3>W10,'Form Responses 1'!L3<X10) -> FALSE | Z10: =IF(Y10=TRUE,1,0) -> 0 | AA10: ='Form Responses 1'!M3/'Form Responses 1'!N3*(1-$C$3) -> 0.46263587 | AB10: ='Form Responses 1'!M3/'Form Responses 1'!N3*(1+$C$3) -> 0.77105978 | AC10: =AND('Form Responses 1'!O3>AA10,'Form Responses 1'!O3<AB10) -> TRUE | AD10: =IF(AC10=TRUE,1,0) -> 1 | AE10: ='Form Responses 1'!O3*$E$4*(1-$C$3) -> 0.11565938 | AF10: ='Form Responses 1'!O3*$E$4*(1+$C$3) -> 0.19276562 | AG10: =AND('Form Responses 1'!P3>AE10,'Form Responses 1'!P3<AF10) -> TRUE | AH10: =IF(AG10=TRUE,1,0) -> 1 | AI10: =0.5*$E$4*'Form Responses 1'!O3*'Form Responses 1'!O3*(1-$C$3) -> 0.035672243 | AJ10: =0.5*$E$4*'Form Responses 1'!O3*'Form Responses 1'!O3*(1+$C$3) -> 0.059453738 | AK10: =AND('Form Responses 1'!Q3>AI10,'Form Responses 1'!Q3<AJ10) -> TRUE | AL10: =IF(AK10=TRUE,1,0) -> 1 | AM10: ='Form Responses 1'!F3*(1-$C$3) -> 0.1416375 | AN10: ='Form Responses 1'!F3*(1+$C$3) -> 0.2360625 | AO10: =AND('Form Responses 1'!R3>AM10,'Form Responses 1'!R3<AN10) -> TRUE | AP10: =IF(AO10=TRUE,1,0) -> 1 | AQ10: ='Form Responses 1'!G3*(1-$C$3) -> 0.0534975 | AR10: ='Form Responses 1'!G3*(1+$C$3) -> 0.0891625 | AS10: =AND('Form Responses 1'!S3>AQ10,'Form Responses 1'!S3<AR10) -> TRUE | AT10: =IF(AS10=TRUE,1,0) -> 1 | AU10: =('Form Responses 1'!K3+'Form Responses 1'!P3)*(1-$C$3) -> 0.11565 | AV10: =('Form Responses 1'!K3+'Form Responses 1'!P3)*(1+$C$3) -> 0.19275 | AW10: =AND('Form Responses 1'!T3>AU10,'Form Responses 1'!T3<AV10) -> TRUE | AX10: =IF(AW10=TRUE,1,0) -> 1 | AY10: =('Form Responses 1'!L3+'Form Responses 1'!Q3)*(1-$C$3) -> 0.03567225 | AZ10: =('Form Responses 1'!L3+'Form Responses 1'!Q3)*(1+$C$3) -> 0.05945375 | BA10: =AND('Form Responses 1'!U3>AY10,'Form Responses 1'!U3<AZ10) -> TRUE | BB10: =IF(BA10=TRUE,1,0) -> 1 | BC10: =('Form Responses 1'!R3-'Form Responses 1'!T3)/'Form Responses 1'!R3*100 -> 18.347895 | BD10: =IF(AND(BC10>=20,'Form Responses 1'!V3=$BC$1)=TRUE,1,0) -> 0 | BE10: =IF(AND(BC10>=0,BC10<=20,'Form Responses 1'!V3=$BC$2)=TRUE,1,0) -> 1 | BF10: =IF(AND(BC10<0)=TRUE,-1,0) -> 0 | BG10: =SUM(BD10:BF10) -> 1 | BH10: =('Form Responses 1'!S3-'Form Responses 1'!U3)/'Form Responses 1'!S3*100 -> 33.319781 | BI10: =IF(AND(BH10>=20,'Form Responses 1'!W3=$BH$1)=TRUE,1,0) -> 1 | BJ10: =IF(AND(BH10>=0,BH10<=20,'Form Responses 1'!W3=$BH$2)=TRUE,1,0) -> 0 | BK10: =IF(AND(BH10<0)=TRUE,-1,0) -> 0 | BL10: =SUM(BI10:BK10) -> 1
A11: ='Form Responses 1'!B4 -> Student 2 | B11: =(F11+J11+N11)+(R11+V11+Z11)+(AD11+AH11+AL11)+(AP11+AT11+AX11+BB11)+(BG11+BL11) -> 11 | C11: ='Form Responses 1'!C4/'Form Responses 1'!D4*(1-$C$3) -> 0.56654676 | D11: ='Form Responses 1'!C4/'Form Responses 1'!D4*(1+$C$3) -> 0.9442446 | E11: =AND('Form Responses 1'!E4>C11,'Form Responses 1'!E4<D11) -> TRUE | F11: =IF(E11=TRUE,1,0) -> 1 | G11: ='Form Responses 1'!E4*$E$3*(1-$C$3) -> 0.14163669 | H11: ='Form Responses 1'!E4*$E$3*(1+$C$3) -> 0.23606115 | I11: =AND('Form Responses 1'!F4>G11,'Form Responses 1'!F4<H11) -> TRUE | J11: =IF(I11=TRUE,1,0) -> 1 | K11: =0.5*$E$3*'Form Responses 1'!E4*'Form Responses 1'!E4*(1-$C$3) -> 0.053495872 | L11: =0.5*$E$3*'Form Responses 1'!E4*'Form Responses 1'!E4*(1+$C$3) -> 0.089159787 | M11: =AND('Form Responses 1'!G4>K11,'Form Responses 1'!G4<L11) -> TRUE | N11: =IF(M11=TRUE,1,0) -> 1 | O11: ='Form Responses 1'!H4/'Form Responses 1'!I4*(1-$C$3) -> 0 | P11: ='Form Responses 1'!H4/'Form Responses 1'!I4*(1+$C$3) -> 0 | Q11: =AND('Form Responses 1'!J4>O11,'Form Responses 1'!J4<P11) -> FALSE | R11: =IF(Q11=TRUE,1,0) -> 0 | S11: ='Form Responses 1'!J4*$E$3*(1-$C$3) -> 0 | T11: ='Form Responses 1'!J4*$E$3*(1+$C$3) -> 0 | U11: =AND('Form Responses 1'!K4>S11,'Form Responses 1'!K4<T11) -> FALSE | V11: =IF(U11=TRUE,1,0) -> 0 | W11: =0.5*$E$3*'Form Responses 1'!J4*'Form Responses 1'!J4*(1-$C$3) -> 0 | X11: =0.5*$E$3*'Form Responses 1'!J4*'Form Responses 1'!J4*(1+$C$3) -> 0 | Y11: =AND('Form Responses 1'!L4>W11,'Form Responses 1'!L4<X11) -> FALSE | Z11: =IF(Y11=TRUE,1,0) -> 0 | AA11: ='Form Responses 1'!M4/'Form Responses 1'!N4*(1-$C$3) -> 0.46263587 | AB11: ='Form Responses 1'!M4/'Form Responses 1'!N4*(1+$C$3) -> 0.77105978 | AC11: =AND('Form Responses 1'!O4>AA11,'Form Responses 1'!O4<AB11) -> TRUE | AD11: =IF(AC11=TRUE,1,0) -> 1 | AE11: ='Form Responses 1'!O4*$E$4*(1-$C$3) -> 0.11565897 | AF11: ='Form Responses 1'!O4*$E$4*(1+$C$3) -> 0.19276495 | AG11: =AND('Form Responses 1'!P4>AE11,'Form Responses 1'!P4<AF11) -> TRUE | AH11: =IF(AG11=TRUE,1,0) -> 1 | AI11: =0.5*$E$4*'Form Responses 1'!O4*'Form Responses 1'!O4*(1-$C$3) -> 0.035671991 | AJ11: =0.5*$E$4*'Form Responses 1'!O4*'Form Responses 1'!O4*(1+$C$3) -> 0.059453319 | AK11: =AND('Form Responses 1'!Q4>AI11,'Form Responses 1'!Q4<AJ11) -> TRUE | AL11: =IF(AK11=TRUE,1,0) -> 1 | AM11: ='Form Responses 1'!F4*(1-$C$3) -> 0.14163669 | AN11: ='Form Responses 1'!F4*(1+$C$3) -> 0.23606115 | AO11: =AND('Form Responses 1'!R4>AM11,'Form Responses 1'!R4<AN11) -> TRUE | AP11: =IF(AO11=TRUE,1,0) -> 1 | AQ11: ='Form Responses 1'!G4*(1-$C$3) -> 0.053495872 | AR11: ='Form Responses 1'!G4*(1+$C$3) -> 0.089159787 | AS11: =AND('Form Responses 1'!S4>AQ11,'Form Responses 1'!S4<AR11) -> TRUE | AT11: =IF(AS11=TRUE,1,0) -> 1 | AU11: =('Form Responses 1'!K4+'Form Responses 1'!P4)*(1-$C$3) -> 0.11565897 | AV11: =('Form Responses 1'!K4+'Form Responses 1'!P4)*(1+$C$3) -> 0.19276495 | AW11: =AND('Form Responses 1'!T4>AU11,'Form Responses 1'!T4<AV11) -> TRUE | AX11: =IF(AW11=TRUE,1,0) -> 1 | AY11: =('Form Responses 1'!L4+'Form Responses 1'!Q4)*(1-$C$3) -> 0.035671991 | AZ11: =('Form Responses 1'!L4+'Form Responses 1'!Q4)*(1+$C$3) -> 0.059453319 | BA11: =AND('Form Responses 1'!U4>AY11,'Form Responses 1'!U4<AZ11) -> TRUE | BB11: =IF(BA11=TRUE,1,0) -> 1 | BC11: =('Form Responses 1'!R4-'Form Responses 1'!T4)/'Form Responses 1'!R4*100 -> 18.3426 | BD11: =IF(AND(BC11>=20,'Form Responses 1'!V4=$BC$1)=TRUE,1,0) -> 0 | BE11: =IF(AND(BC11>=0,BC11<=20,'Form Responses 1'!V4=$BC$2)=TRUE,1,0) -> 0 | BF11: =IF(AND(BC11<0)=TRUE,-1,0) -> 0 | BG11: =SUM(BD11:BF11) -> 0 | BH11: =('Form Responses 1'!S4-'Form Responses 1'!U4)/'Form Responses 1'!S4*100 -> 33.319781 | BI11: =IF(AND(BH11>=20,'Form Responses 1'!W4=$BH$1)=TRUE,1,0) -> 1 | BJ11: =IF(AND(BH11>=0,BH11<=20,'Form Responses 1'!W4=$BH$2)=TRUE,1,0) -> 0 | BK11: =IF(AND(BH11<0)=TRUE,-1,0) -> 0 | BL11: =SUM(BI11:BK11) -> 1
A12: ='Form Responses 1'!B5 -> Student 3 | B12: =(F12+J12+N12)+(R12+V12+Z12)+(AD12+AH12+AL12)+(AP12+AT12+AX12+BB12)+(BG12+BL12) -> 12 | C12: ='Form Responses 1'!C5/'Form Responses 1'!D5*(1-$C$3) -> 0.56654676 | D12: ='Form Responses 1'!C5/'Form Responses 1'!D5*(1+$C$3) -> 0.9442446 | E12: =AND('Form Responses 1'!E5>C12,'Form Responses 1'!E5<D12) -> TRUE | F12: =IF(E12=TRUE,1,0) -> 1 | G12: ='Form Responses 1'!E5*$E$3*(1-$C$3) -> 0.14163669 | H12: ='Form Responses 1'!E5*$E$3*(1+$C$3) -> 0.23606115 | I12: =AND('Form Responses 1'!F5>G12,'Form Responses 1'!F5<H12) -> TRUE | J12: =IF(I12=TRUE,1,0) -> 1 | K12: =0.5*$E$3*'Form Responses 1'!E5*'Form Responses 1'!E5*(1-$C$3) -> 0.053495872 | L12: =0.5*$E$3*'Form Responses 1'!E5*'Form Responses 1'!E5*(1+$C$3) -> 0.089159787 | M12: =AND('Form Responses 1'!G5>K12,'Form Responses 1'!G5<L12) -> TRUE | N12: =IF(M12=TRUE,1,0) -> 1 | O12: ='Form Responses 1'!H5/'Form Responses 1'!I5*(1-$C$3) -> 0 | P12: ='Form Responses 1'!H5/'Form Responses 1'!I5*(1+$C$3) -> 0 | Q12: =AND('Form Responses 1'!J5>O12,'Form Responses 1'!J5<P12) -> FALSE | R12: =IF(Q12=TRUE,1,0) -> 0 | S12: ='Form Responses 1'!J5*$E$3*(1-$C$3) -> 0 | T12: ='Form Responses 1'!J5*$E$3*(1+$C$3) -> 0 | U12: =AND('Form Responses 1'!K5>S12,'Form Responses 1'!K5<T12) -> FALSE | V12: =IF(U12=TRUE,1,0) -> 0 | W12: =0.5*$E$3*'Form Responses 1'!J5*'Form Responses 1'!J5*(1-$C$3) -> 0 | X12: =0.5*$E$3*'Form Responses 1'!J5*'Form Responses 1'!J5*(1+$C$3) -> 0 | Y12: =AND('Form Responses 1'!L5>W12,'Form Responses 1'!L5<X12) -> FALSE | Z12: =IF(Y12=TRUE,1,0) -> 0 | AA12: ='Form Responses 1'!M5/'Form Responses 1'!N5*(1-$C$3) -> 0.46263587 | AB12: ='Form Responses 1'!M5/'Form Responses 1'!N5*(1+$C$3) -> 0.77105978 | AC12: =AND('Form Responses 1'!O5>AA12,'Form Responses 1'!O5<AB12) -> TRUE | AD12: =IF(AC12=TRUE,1,0) -> 1 | AE12: ='Form Responses 1'!O5*$E$4*(1-$C$3) -> 0.11565897 | AF12: ='Form Responses 1'!O5*$E$4*(1+$C$3) -> 0.19276495 | AG12: =AND('Form Responses 1'!P5>AE12,'Form Responses 1'!P5<AF12) -> TRUE | AH12: =IF(AG12=TRUE,1,0) -> 1 | AI12: =0.5*$E$4*'Form Responses 1'!O5*'Form Responses 1'!O5*(1-$C$3) -> 0.035671991 | AJ12: =0.5*$E$4*'Form Responses 1'!O5*'Form Responses 1'!O5*(1+$C$3) -> 0.059453319 | AK12: =AND('Form Responses 1'!Q5>AI12,'Form Responses 1'!Q5<AJ12) -> TRUE | AL12: =IF(AK12=TRUE,1,0) -> 1 | AM12: ='Form Responses 1'!F5*(1-$C$3) -> 0.14163669 | AN12: ='Form Responses 1'!F5*(1+$C$3) -> 0.23606115 | AO12: =AND('Form Responses 1'!R5>AM12,'Form Responses 1'!R5<AN12) -> TRUE | AP12: =IF(AO12=TRUE,1,0) -> 1 | AQ12: ='Form Responses 1'!G5*(1-$C$3) -> 0.053495872 | AR12: ='Form Responses 1'!G5*(1+$C$3) -> 0.089159787 | AS12: =AND('Form Responses 1'!S5>AQ12,'Form Responses 1'!S5<AR12) -> TRUE | AT12: =IF(AS12=TRUE,1,0) -> 1 | AU12: =('Form Responses 1'!K5+'Form Responses 1'!P5)*(1-$C$3) -> 0.11565897 | AV12: =('Form Responses 1'!K5+'Form Responses 1'!P5)*(1+$C$3) -> 0.19276495 | AW12: =AND('Form Responses 1'!T5>AU12,'Form Responses 1'!T5<AV12) -> TRUE | AX12: =IF(AW12=TRUE,1,0) -> 1 | AY12: =('Form Responses 1'!L5+'Form Responses 1'!Q5)*(1-$C$3) -> 0.03567225 | AZ12: =('Form Responses 1'!L5+'Form Responses 1'!Q5)*(1+$C$3) -> 0.05945375 | BA12: =AND('Form Responses 1'!U5>AY12,'Form Responses 1'!U5<AZ12) -> TRUE | BB12: =IF(BA12=TRUE,1,0) -> 1 | BC12: =('Form Responses 1'!R5-'Form Responses 1'!T5)/'Form Responses 1'!R5*100 -> 18.3426 | BD12: =IF(AND(BC12>=20,'Form Responses 1'!V5=$BC$1)=TRUE,1,0) -> 0 | BE12: =IF(AND(BC12>=0,BC12<=20,'Form Responses 1'!V5=$BC$2)=TRUE,1,0) -> 1 | BF12: =IF(AND(BC12<0)=TRUE,-1,0) -> 0 | BG12: =SUM(BD12:BF12) -> 1 | BH12: =('Form Responses 1'!S5-'Form Responses 1'!U5)/'Form Responses 1'!S5*100 -> 33.319781 | BI12: =IF(AND(BH12>=20,'Form Responses 1'!W5=$BH$1)=TRUE,1,0) -> 1 | BJ12: =IF(AND(BH12>=0,BH12<=20,'Form Responses 1'!W5=$BH$2)=TRUE,1,0) -> 0 | BK12: =IF(AND(BH12<0)=TRUE,-1,0) -> 0 | BL12: =SUM(BI12:BK12) -> 1
A13: ='Form Responses 1'!B6 -> Student 4 | B13: =(F13+J13+N13)+(R13+V13+Z13)+(AD13+AH13+AL13)+(AP13+AT13+AX13+BB13)+(BG13+BL13) -> 11 | C13: ='Form Responses 1'!C6/'Form Responses 1'!D6*(1-$C$3) -> 0.56654676 | D13: ='Form Responses 1'!C6/'Form Responses 1'!D6*(1+$C$3) -> 0.9442446 | E13: =AND('Form Responses 1'!E6>C13,'Form Responses 1'!E6<D13) -> TRUE | F13: =IF(E13=TRUE,1,0) -> 1 | G13: ='Form Responses 1'!E6*$E$3*(1-$C$3) -> 0.1416375 | H13: ='Form Responses 1'!E6*$E$3*(1+$C$3) -> 0.2360625 | I13: =AND('Form Responses 1'!F6>G13,'Form Responses 1'!F6<H13) -> TRUE | J13: =IF(I13=TRUE,1,0) -> 1 | K13: =0.5*$E$3*'Form Responses 1'!E6*'Form Responses 1'!E6*(1-$C$3) -> 0.053496484 | L13: =0.5*$E$3*'Form Responses 1'!E6*'Form Responses 1'!E6*(1+$C$3) -> 0.089160806 | M13: =AND('Form Responses 1'!G6>K13,'Form Responses 1'!G6<L13) -> TRUE | N13: =IF(M13=TRUE,1,0) -> 1 | O13: ='Form Responses 1'!H6/'Form Responses 1'!I6*(1-$C$3) -> 0 | P13: ='Form Responses 1'!H6/'Form Responses 1'!I6*(1+$C$3) -> 0 | Q13: =AND('Form Responses 1'!J6>O13,'Form Responses 1'!J6<P13) -> FALSE | R13: =IF(Q13=TRUE,1,0) -> 0 | S13: ='Form Responses 1'!J6*$E$3*(1-$C$3) -> 0 | T13: ='Form Responses 1'!J6*$E$3*(1+$C$3) -> 0 | U13: =AND('Form Responses 1'!K6>S13,'Form Responses 1'!K6<T13) -> FALSE | V13: =IF(U13=TRUE,1,0) -> 0 | W13: =0.5*$E$3*'Form Responses 1'!J6*'Form Responses 1'!J6*(1-$C$3) -> 0 | X13: =0.5*$E$3*'Form Responses 1'!J6*'Form Responses 1'!J6*(1+$C$3) -> 0 | Y13: =AND('Form Responses 1'!L6>W13,'Form Responses 1'!L6<X13) -> FALSE | Z13: =IF(Y13=TRUE,1,0) -> 0 | AA13: ='Form Responses 1'!M6/'Form Responses 1'!N6*(1-$C$3) -> 0.46263587 | AB13: ='Form Responses 1'!M6/'Form Responses 1'!N6*(1+$C$3) -> 0.77105978 | AC13: =AND('Form Responses 1'!O6>AA13,'Form Responses 1'!O6<AB13) -> TRUE | AD13: =IF(AC13=TRUE,1,0) -> 1 | AE13: ='Form Responses 1'!O6*$E$4*(1-$C$3) -> 0.11565938 | AF13: ='Form Responses 1'!O6*$E$4*(1+$C$3) -> 0.19276562 | AG13: =AND('Form Responses 1'!P6>AE13,'Form Responses 1'!P6<AF13) -> TRUE | AH13: =IF(AG13=TRUE,1,0) -> 1 | AI13: =0.5*$E$4*'Form Responses 1'!O6*'Form Responses 1'!O6*(1-$C$3) -> 0.035672243 | AJ13: =0.5*$E$4*'Form Responses 1'!O6*'Form Responses 1'!O6*(1+$C$3) -> 0.059453738 | AK13: =AND('Form Responses 1'!Q6>AI13,'Form Responses 1'!Q6<AJ13) -> TRUE | AL13: =IF(AK13=TRUE,1,0) -> 1 | AM13: ='Form Responses 1'!F6*(1-$C$3) -> 0.1416375 | AN13: ='Form Responses 1'!F6*(1+$C$3) -> 0.2360625 | AO13: =AND('Form Responses 1'!R6>AM13,'Form Responses 1'!R6<AN13) -> TRUE | AP13: =IF(AO13=TRUE,1,0) -> 1 | AQ13: ='Form Responses 1'!G6*(1-$C$3) -> 0.0534975 | AR13: ='Form Responses 1'!G6*(1+$C$3) -> 0.0891625 | AS13: =AND('Form Responses 1'!S6>AQ13,'Form Responses 1'!S6<AR13) -> TRUE | AT13: =IF(AS13=TRUE,1,0) -> 1 | AU13: =('Form Responses 1'!K6+'Form Responses 1'!P6)*(1-$C$3) -> 0.11565825 | AV13: =('Form Responses 1'!K6+'Form Responses 1'!P6)*(1+$C$3) -> 0.19276375 | AW13: =AND('Form Responses 1'!T6>AU13,'Form Responses 1'!T6<AV13) -> TRUE | AX13: =IF(AW13=TRUE,1,0) -> 1 | AY13: =('Form Responses 1'!L6+'Form Responses 1'!Q6)*(1-$C$3) -> 0.03567225 | AZ13: =('Form Responses 1'!L6+'Form Responses 1'!Q6)*(1+$C$3) -> 0.05945375 | BA13: =AND('Form Responses 1'!U6>AY13,'Form Responses 1'!U6<AZ13) -> TRUE | BB13: =IF(BA13=TRUE,1,0) -> 1 | BC13: =('Form Responses 1'!R6-'Form Responses 1'!T6)/'Form Responses 1'!R6*100 -> 18.34207 | BD13: =IF(AND(BC13>=20,'Form Responses 1'!V6=$BC$1)=TRUE,1,0) -> 0 | BE13: =IF(AND(BC13>=0,BC13<=20,'Form Responses 1'!V6=$BC$2)=TRUE,1,0) -> 1 | BF13: =IF(AND(BC13<0)=TRUE,-1,0) -> 0 | BG13: =SUM(BD13:BF13) -> 1 | BH13: =('Form Responses 1'!S6-'Form Responses 1'!U6)/'Form Responses 1'!S6*100 -> 33.319781 | BI13: =IF(AND(BH13>=20,'Form Responses 1'!W6=$BH$1)=TRUE,1,0) -> 0 | BJ13: =IF(AND(BH13>=0,BH13<=20,'Form Responses 1'!W6=$BH$2)=TRUE,1,0) -> 0 | BK13: =IF(AND(BH13<0)=TRUE,-1,0) -> 0 | BL13: =SUM(BI13:BK13) -> 0
A14: ='Form Responses 1'!B7 -> Student 5 | B14: =(F14+J14+N14)+(R14+V14+Z14)+(AD14+AH14+AL14)+(AP14+AT14+AX14+BB14)+(BG14+BL14) -> 9 | C14: ='Form Responses 1'!C7/'Form Responses 1'!D7*(1-$C$3) -> 0.56654676 | D14: ='Form Responses 1'!C7/'Form Responses 1'!D7*(1+$C$3) -> 0.9442446 | E14: =AND('Form Responses 1'!E7>C14,'Form Responses 1'!E7<D14) -> TRUE | F14: =IF(E14=TRUE,1,0) -> 1 | G14: ='Form Responses 1'!E7*$E$3*(1-$C$3) -> 0.1415625 | H14: ='Form Responses 1'!E7*$E$3*(1+$C$3) -> 0.2359375 | I14: =AND('Form Responses 1'!F7>G14,'Form Responses 1'!F7<H14) -> TRUE | J14: =IF(I14=TRUE,1,0) -> 1 | K14: =0.5*$E$3*'Form Responses 1'!E7*'Form Responses 1'!E7*(1-$C$3) -> 0.053439844 | L14: =0.5*$E$3*'Form Responses 1'!E7*'Form Responses 1'!E7*(1+$C$3) -> 0.089066406 | M14: =AND('Form Responses 1'!G7>K14,'Form Responses 1'!G7<L14) -> FALSE | N14: =IF(M14=TRUE,1,0) -> 0 | O14: ='Form Responses 1'!H7/'Form Responses 1'!I7*(1-$C$3) -> 0 | P14: ='Form Responses 1'!H7/'Form Responses 1'!I7*(1+$C$3) -> 0 | Q14: =AND('Form Responses 1'!J7>O14,'Form Responses 1'!J7<P14) -> FALSE | R14: =IF(Q14=TRUE,1,0) -> 0 | S14: ='Form Responses 1'!J7*$E$3*(1-$C$3) -> 0 | T14: ='Form Responses 1'!J7*$E$3*(1+$C$3) -> 0 | U14: =AND('Form Responses 1'!K7>S14,'Form Responses 1'!K7<T14) -> FALSE | V14: =IF(U14=TRUE,1,0) -> 0 | W14: =0.5*$E$3*'Form Responses 1'!J7*'Form Responses 1'!J7*(1-$C$3) -> 0 | X14: =0.5*$E$3*'Form Responses 1'!J7*'Form Responses 1'!J7*(1+$C$3) -> 0 | Y14: =AND('Form Responses 1'!L7>W14,'Form Responses 1'!L7<X14) -> FALSE | Z14: =IF(Y14=TRUE,1,0) -> 0 | AA14: ='Form Responses 1'!M7/'Form Responses 1'!N7*(1-$C$3) -> 0.46263587 | AB14: ='Form Responses 1'!M7/'Form Responses 1'!N7*(1+$C$3) -> 0.77105978 | AC14: =AND('Form Responses 1'!O7>AA14,'Form Responses 1'!O7<AB14) -> TRUE | AD14: =IF(AC14=TRUE,1,0) -> 1 | AE14: ='Form Responses 1'!O7*$E$4*(1-$C$3) -> 0.1156875 | AF14: ='Form Responses 1'!O7*$E$4*(1+$C$3) -> 0.1928125 | AG14: =AND('Form Responses 1'!P7>AE14,'Form Responses 1'!P7<AF14) -> TRUE | AH14: =IF(AG14=TRUE,1,0) -> 1 | AI14: =0.5*$E$4*'Form Responses 1'!O7*'Form Responses 1'!O7*(1-$C$3) -> 0.035689594 | AJ14: =0.5*$E$4*'Form Responses 1'!O7*'Form Responses 1'!O7*(1+$C$3) -> 0.059482656 | AK14: =AND('Form Responses 1'!Q7>AI14,'Form Responses 1'!Q7<AJ14) -> TRUE | AL14: =IF(AK14=TRUE,1,0) -> 1 | AM14: ='Form Responses 1'!F7*(1-$C$3) -> 0.1455 | AN14: ='Form Responses 1'!F7*(1+$C$3) -> 0.2425 | AO14: =AND('Form Responses 1'!R7>AM14,'Form Responses 1'!R7<AN14) -> TRUE | AP14: =IF(AO14=TRUE,1,0) -> 1 | AQ14: ='Form Responses 1'!G7*(1-$C$3) -> 0.53475 | AR14: ='Form Responses 1'!G7*(1+$C$3) -> 0.89125 | AS14: =AND('Form Responses 1'!S7>AQ14,'Form Responses 1'!S7<AR14) -> TRUE | AT14: =IF(AS14=TRUE,1,0) -> 1 | AU14: =('Form Responses 1'!K7+'Form Responses 1'!P7)*(1-$C$3) -> 0.1155 | AV14: =('Form Responses 1'!K7+'Form Responses 1'!P7)*(1+$C$3) -> 0.1925 | AW14: =AND('Form Responses 1'!T7>AU14,'Form Responses 1'!T7<AV14) -> TRUE | AX14: =IF(AW14=TRUE,1,0) -> 1 | AY14: =('Form Responses 1'!L7+'Form Responses 1'!Q7)*(1-$C$3) -> 0.036 | AZ14: =('Form Responses 1'!L7+'Form Responses 1'!Q7)*(1+$C$3) -> 0.06 | BA14: =AND('Form Responses 1'!U7>AY14,'Form Responses 1'!U7<AZ14) -> TRUE | BB14: =IF(BA14=TRUE,1,0) -> 1 | BC14: =('Form Responses 1'!R7-'Form Responses 1'!T7)/'Form Responses 1'!R7*100 -> 20.618557 | BD14: =IF(AND(BC14>=20,'Form Responses 1'!V7=$BC$1)=TRUE,1,0) -> 0 | BE14: =IF(AND(BC14>=0,BC14<=20,'Form Responses 1'!V7=$BC$2)=TRUE,1,0) -> 0 | BF14: =IF(AND(BC14<0)=TRUE,-1,0) -> 0 | BG14: =SUM(BD14:BF14) -> 0 | BH14: =('Form Responses 1'!S7-'Form Responses 1'!U7)/'Form Responses 1'!S7*100 -> 93.267882 | BI14: =IF(AND(BH14>=20,'Form Responses 1'!W7=$BH$1)=TRUE,1,0) -> 0 | BJ14: =IF(AND(BH14>=0,BH14<=20,'Form Responses 1'!W7=$BH$2)=TRUE,1,0) -> 0 | BK14: =IF(AND(BH14<0)=TRUE,-1,0) -> 0 | BL14: =SUM(BI14:BK14) -> 0
A15: ='Form Responses 1'!B8 -> Student 6 | B15: =(F15+J15+N15)+(R15+V15+Z15)+(AD15+AH15+AL15)+(AP15+AT15+AX15+BB15)+(BG15+BL15) -> 11 | C15: ='Form Responses 1'!C8/'Form Responses 1'!D8*(1-$C$3) -> 0.56654676 | D15: ='Form Responses 1'!C8/'Form Responses 1'!D8*(1+$C$3) -> 0.9442446 | E15: =AND('Form Responses 1'!E8>C15,'Form Responses 1'!E8<D15) -> TRUE | F15: =IF(E15=TRUE,1,0) -> 1 | G15: ='Form Responses 1'!E8*$E$3*(1-$C$3) -> 0.1416375 | H15: ='Form Responses 1'!E8*$E$3*(1+$C$3) -> 0.2360625 | I15: =AND('Form Responses 1'!F8>G15,'Form Responses 1'!F8<H15) -> TRUE | J15: =IF(I15=TRUE,1,0) -> 1 | K15: =0.5*$E$3*'Form Responses 1'!E8*'Form Responses 1'!E8*(1-$C$3) -> 0.053496484 | L15: =0.5*$E$3*'Form Responses 1'!E8*'Form Responses 1'!E8*(1+$C$3) -> 0.089160806 | M15: =AND('Form Responses 1'!G8>K15,'Form Responses 1'!G8<L15) -> TRUE | N15: =IF(M15=TRUE,1,0) -> 1 | O15: ='Form Responses 1'!H8/'Form Responses 1'!I8*(1-$C$3) -> 0 | P15: ='Form Responses 1'!H8/'Form Responses 1'!I8*(1+$C$3) -> 0 | Q15: =AND('Form Responses 1'!J8>O15,'Form Responses 1'!J8<P15) -> FALSE | R15: =IF(Q15=TRUE,1,0) -> 0 | S15: ='Form Responses 1'!J8*$E$3*(1-$C$3) -> 0 | T15: ='Form Responses 1'!J8*$E$3*(1+$C$3) -> 0 | U15: =AND('Form Responses 1'!K8>S15,'Form Responses 1'!K8<T15) -> FALSE | V15: =IF(U15=TRUE,1,0) -> 0 | W15: =0.5*$E$3*'Form Responses 1'!J8*'Form Responses 1'!J8*(1-$C$3) -> 0 | X15: =0.5*$E$3*'Form Responses 1'!J8*'Form Responses 1'!J8*(1+$C$3) -> 0 | Y15: =AND('Form Responses 1'!L8>W15,'Form Responses 1'!L8<X15) -> FALSE | Z15: =IF(Y15=TRUE,1,0) -> 0 | AA15: ='Form Responses 1'!M8/'Form Responses 1'!N8*(1-$C$3) -> 0.46263587 | AB15: ='Form Responses 1'!M8/'Form Responses 1'!N8*(1+$C$3) -> 0.77105978 | AC15: =AND('Form Responses 1'!O8>AA15,'Form Responses 1'!O8<AB15) -> TRUE | AD15: =IF(AC15=TRUE,1,0) -> 1 | AE15: ='Form Responses 1'!O8*$E$4*(1-$C$3) -> 0.11565938 | AF15: ='Form Responses 1'!O8*$E$4*(1+$C$3) -> 0.19276562 | AG15: =AND('Form Responses 1'!P8>AE15,'Form Responses 1'!P8<AF15) -> TRUE | AH15: =IF(AG15=TRUE,1,0) -> 1 | AI15: =0.5*$E$4*'Form Responses 1'!O8*'Form Responses 1'!O8*(1-$C$3) -> 0.035672243 | AJ15: =0.5*$E$4*'Form Responses 1'!O8*'Form Responses 1'!O8*(1+$C$3) -> 0.059453738 | AK15: =AND('Form Responses 1'!Q8>AI15,'Form Responses 1'!Q8<AJ15) -> TRUE | AL15: =IF(AK15=TRUE,1,0) -> 1 | AM15: ='Form Responses 1'!F8*(1-$C$3) -> 0.1416375 | AN15: ='Form Responses 1'!F8*(1+$C$3) -> 0.2360625 | AO15: =AND('Form Responses 1'!R8>AM15,'Form Responses 1'!R8<AN15) -> TRUE | AP15: =IF(AO15=TRUE,1,0) -> 1 | AQ15: ='Form Responses 1'!G8*(1-$C$3) -> 0.0534975 | AR15: ='Form Responses 1'!G8*(1+$C$3) -> 0.0891625 | AS15: =AND('Form Responses 1'!S8>AQ15,'Form Responses 1'!S8<AR15) -> TRUE | AT15: =IF(AS15=TRUE,1,0) -> 1 | AU15: =('Form Responses 1'!K8+'Form Responses 1'!P8)*(1-$C$3) -> 0.11565825 | AV15: =('Form Responses 1'!K8+'Form Responses 1'!P8)*(1+$C$3) -> 0.19276375 | AW15: =AND('Form Responses 1'!T8>AU15,'Form Responses 1'!T8<AV15) -> TRUE | AX15: =IF(AW15=TRUE,1,0) -> 1 | AY15: =('Form Responses 1'!L8+'Form Responses 1'!Q8)*(1-$C$3) -> 0.03567225 | AZ15: =('Form Responses 1'!L8+'Form Responses 1'!Q8)*(1+$C$3) -> 0.05945375 | BA15: =AND('Form Responses 1'!U8>AY15,'Form Responses 1'!U8<AZ15) -> TRUE | BB15: =IF(BA15=TRUE,1,0) -> 1 | BC15: =('Form Responses 1'!R8-'Form Responses 1'!T8)/'Form Responses 1'!R8*100 -> 18.190451 | BD15: =IF(AND(BC15>=20,'Form Responses 1'!V8=$BC$1)=TRUE,1,0) -> 0 | BE15: =IF(AND(BC15>=0,BC15<=20,'Form Responses 1'!V8=$BC$2)=TRUE,1,0) -> 1 | BF15: =IF(AND(BC15<0)=TRUE,-1,0) -> 0 | BG15: =SUM(BD15:BF15) -> 1 | BH15: =('Form Responses 1'!S8-'Form Responses 1'!U8)/'Form Responses 1'!S8*100 -> 33.319781 | BI15: =IF(AND(BH15>=20,'Form Responses 1'!W8=$BH$1)=TRUE,1,0) -> 0 | BJ15: =IF(AND(BH15>=0,BH15<=20,'Form Responses 1'!W8=$BH$2)=TRUE,1,0) -> 0 | BK15: =IF(AND(BH15<0)=TRUE,-1,0) -> 0 | BL15: =SUM(BI15:BK15) -> 0
A16: ='Form Responses 1'!B9 -> Student 7 | B16: =(F16+J16+N16)+(R16+V16+Z16)+(AD16+AH16+AL16)+(AP16+AT16+AX16+BB16)+(BG16+BL16) -> 12 | C16: ='Form Responses 1'!C9/'Form Responses 1'!D9*(1-$C$3) -> 1.1029412 | D16: ='Form Responses 1'!C9/'Form Responses 1'!D9*(1+$C$3) -> 1.8382353 | E16: =AND('Form Responses 1'!E9>C16,'Form Responses 1'!E9<D16) -> TRUE | F16: =IF(E16=TRUE,1,0) -> 1 | G16: ='Form Responses 1'!E9*$E$3*(1-$C$3) -> 0.275625 | H16: ='Form Responses 1'!E9*$E$3*(1+$C$3) -> 0.459375 | I16: =AND('Form Responses 1'!F9>G16,'Form Responses 1'!F9<H16) -> TRUE | J16: =IF(I16=TRUE,1,0) -> 1 | K16: =0.5*$E$3*'Form Responses 1'!E9*'Form Responses 1'!E9*(1-$C$3) -> 0.20258437 | L16: =0.5*$E$3*'Form Responses 1'!E9*'Form Responses 1'!E9*(1+$C$3) -> 0.33764062 | M16: =AND('Form Responses 1'!G9>K16,'Form Responses 1'!G9<L16) -> TRUE | N16: =IF(M16=TRUE,1,0) -> 1 | O16: ='Form Responses 1'!H9/'Form Responses 1'!I9*(1-$C$3) -> 0 | P16: ='Form Responses 1'!H9/'Form Responses 1'!I9*(1+$C$3) -> 0 | Q16: =AND('Form Responses 1'!J9>O16,'Form Responses 1'!J9<P16) -> FALSE | R16: =IF(Q16=TRUE,1,0) -> 0 | S16: ='Form Responses 1'!J9*$E$3*(1-$C$3) -> 0 | T16: ='Form Responses 1'!J9*$E$3*(1+$C$3) -> 0 | U16: =AND('Form Responses 1'!K9>S16,'Form Responses 1'!K9<T16) -> FALSE | V16: =IF(U16=TRUE,1,0) -> 0 | W16: =0.5*$E$3*'Form Responses 1'!J9*'Form Responses 1'!J9*(1-$C$3) -> 0 | X16: =0.5*$E$3*'Form Responses 1'!J9*'Form Responses 1'!J9*(1+$C$3) -> 0 | Y16: =AND('Form Responses 1'!L9>W16,'Form Responses 1'!L9<X16) -> FALSE | Z16: =IF(Y16=TRUE,1,0) -> 0 | AA16: ='Form Responses 1'!M9/'Form Responses 1'!N9*(1-$C$3) -> 0.68666667 | AB16: ='Form Responses 1'!M9/'Form Responses 1'!N9*(1+$C$3) -> 1.1444444 | AC16: =AND('Form Responses 1'!O9>AA16,'Form Responses 1'!O9<AB16) -> TRUE | AD16: =IF(AC16=TRUE,1,0) -> 1 | AE16: ='Form Responses 1'!O9*$E$4*(1-$C$3) -> 0.171675 | AF16: ='Form Responses 1'!O9*$E$4*(1+$C$3) -> 0.286125 | AG16: =AND('Form Responses 1'!P9>AE16,'Form Responses 1'!P9<AF16) -> TRUE | AH16: =IF(AG16=TRUE,1,0) -> 1 | AI16: =0.5*$E$4*'Form Responses 1'!O9*'Form Responses 1'!O9*(1-$C$3) -> 0.078592815 | AJ16: =0.5*$E$4*'Form Responses 1'!O9*'Form Responses 1'!O9*(1+$C$3) -> 0.13098803 | AK16: =AND('Form Responses 1'!Q9>AI16,'Form Responses 1'!Q9<AJ16) -> TRUE | AL16: =IF(AK16=TRUE,1,0) -> 1 | AM16: ='Form Responses 1'!F9*(1-$C$3) -> 0.2757 | AN16: ='Form Responses 1'!F9*(1+$C$3) -> 0.4595 | AO16: =AND('Form Responses 1'!R9>AM16,'Form Responses 1'!R9<AN16) -> TRUE | AP16: =IF(AO16=TRUE,1,0) -> 1 | AQ16: ='Form Responses 1'!G9*(1-$C$3) -> 0.2025 | AR16: ='Form Responses 1'!G9*(1+$C$3) -> 0.3375 | AS16: =AND('Form Responses 1'!S9>AQ16,'Form Responses 1'!S9<AR16) -> TRUE | AT16: =IF(AS16=TRUE,1,0) -> 1 | AU16: =('Form Responses 1'!K9+'Form Responses 1'!P9)*(1-$C$3) -> 0.171675 | AV16: =('Form Responses 1'!K9+'Form Responses 1'!P9)*(1+$C$3) -> 0.286125 | AW16: =AND('Form Responses 1'!T9>AU16,'Form Responses 1'!T9<AV16) -> TRUE | AX16: =IF(AW16=TRUE,1,0) -> 1 | AY16: =('Form Responses 1'!L9+'Form Responses 1'!Q9)*(1-$C$3) -> 0.0786 | AZ16: =('Form Responses 1'!L9+'Form Responses 1'!Q9)*(1+$C$3) -> 0.131 | BA16: =AND('Form Responses 1'!U9>AY16,'Form Responses 1'!U9<AZ16) -> TRUE | BB16: =IF(BA16=TRUE,1,0) -> 1 | BC16: =('Form Responses 1'!R9-'Form Responses 1'!T9)/'Form Responses 1'!R9*100 -> 37.73123 | BD16: =IF(AND(BC16>=20,'Form Responses 1'!V9=$BC$1)=TRUE,1,0) -> 1 | BE16: =IF(AND(BC16>=0,BC16<=20,'Form Responses 1'!V9=$BC$2)=TRUE,1,0) -> 0 | BF16: =IF(AND(BC16<0)=TRUE,-1,0) -> 0 | BG16: =SUM(BD16:BF16) -> 1 | BH16: =('Form Responses 1'!S9-'Form Responses 1'!U9)/'Form Responses 1'!S9*100 -> 61.185185 | BI16: =IF(AND(BH16>=20,'Form Responses 1'!W9=$BH$1)=TRUE,1,0) -> 1 | BJ16: =IF(AND(BH16>=0,BH16<=20,'Form Responses 1'!W9=$BH$2)=TRUE,1,0) -> 0 | BK16: =IF(AND(BH16<0)=TRUE,-1,0) -> 0 | BL16: =SUM(BI16:BK16) -> 1
A17: ='Form Responses 1'!B10 -> Student 8 | B17: =(F17+J17+N17)+(R17+V17+Z17)+(AD17+AH17+AL17)+(AP17+AT17+AX17+BB17)+(BG17+BL17) -> 12 | C17: ='Form Responses 1'!C10/'Form Responses 1'!D10*(1-$C$3) -> 1.1029412 | D17: ='Form Responses 1'!C10/'Form Responses 1'!D10*(1+$C$3) -> 1.8382353 | E17: =AND('Form Responses 1'!E10>C17,'Form Responses 1'!E10<D17) -> TRUE | F17: =IF(E17=TRUE,1,0) -> 1 | G17: ='Form Responses 1'!E10*$E$3*(1-$C$3) -> 0.275625 | H17: ='Form Responses 1'!E10*$E$3*(1+$C$3) -> 0.459375 | I17: =AND('Form Responses 1'!F10>G17,'Form Responses 1'!F10<H17) -> TRUE | J17: =IF(I17=TRUE,1,0) -> 1 | K17: =0.5*$E$3*'Form Responses 1'!E10*'Form Responses 1'!E10*(1-$C$3) -> 0.20258437 | L17: =0.5*$E$3*'Form Responses 1'!E10*'Form Responses 1'!E10*(1+$C$3) -> 0.33764062 | M17: =AND('Form Responses 1'!G10>K17,'Form Responses 1'!G10<L17) -> TRUE | N17: =IF(M17=TRUE,1,0) -> 1 | O17: ='Form Responses 1'!H10/'Form Responses 1'!I10*(1-$C$3) -> 0 | P17: ='Form Responses 1'!H10/'Form Responses 1'!I10*(1+$C$3) -> 0 | Q17: =AND('Form Responses 1'!J10>O17,'Form Responses 1'!J10<P17) -> FALSE | R17: =IF(Q17=TRUE,1,0) -> 0 | S17: ='Form Responses 1'!J10*$E$3*(1-$C$3) -> 0 | T17: ='Form Responses 1'!J10*$E$3*(1+$C$3) -> 0 | U17: =AND('Form Responses 1'!K10>S17,'Form Responses 1'!K10<T17) -> FALSE | V17: =IF(U17=TRUE,1,0) -> 0 | W17: =0.5*$E$3*'Form Responses 1'!J10*'Form Responses 1'!J10*(1-$C$3) -> 0 | X17: =0.5*$E$3*'Form Responses 1'!J10*'Form Responses 1'!J10*(1+$C$3) -> 0 | Y17: =AND('Form Responses 1'!L10>W17,'Form Responses 1'!L10<X17) -> FALSE | Z17: =IF(Y17=TRUE,1,0) -> 0 | AA17: ='Form Responses 1'!M10/'Form Responses 1'!N10*(1-$C$3) -> 0.68833333 | AB17: ='Form Responses 1'!M10/'Form Responses 1'!N10*(1+$C$3) -> 1.1472222 | AC17: =AND('Form Responses 1'!O10>AA17,'Form Responses 1'!O10<AB17) -> TRUE | AD17: =IF(AC17=TRUE,1,0) -> 1 | AE17: ='Form Responses 1'!O10*$E$4*(1-$C$3) -> 0.1719375 | AF17: ='Form Responses 1'!O10*$E$4*(1+$C$3) -> 0.2865625 | AG17: =AND('Form Responses 1'!P10>AE17,'Form Responses 1'!P10<AF17) -> TRUE | AH17: =IF(AG17=TRUE,1,0) -> 1 | AI17: =0.5*$E$4*'Form Responses 1'!O10*'Form Responses 1'!O10*(1-$C$3) -> 0.078833344 | AJ17: =0.5*$E$4*'Form Responses 1'!O10*'Form Responses 1'!O10*(1+$C$3) -> 0.13138891 | AK17: =AND('Form Responses 1'!Q10>AI17,'Form Responses 1'!Q10<AJ17) -> TRUE | AL17: =IF(AK17=TRUE,1,0) -> 1 | AM17: ='Form Responses 1'!F10*(1-$C$3) -> 0.2757 | AN17: ='Form Responses 1'!F10*(1+$C$3) -> 0.4595 | AO17: =AND('Form Responses 1'!R10>AM17,'Form Responses 1'!R10<AN17) -> TRUE | AP17: =IF(AO17=TRUE,1,0) -> 1 | AQ17: ='Form Responses 1'!G10*(1-$C$3) -> 0.202575 | AR17: ='Form Responses 1'!G10*(1+$C$3) -> 0.337625 | AS17: =AND('Form Responses 1'!S10>AQ17,'Form Responses 1'!S10<AR17) -> TRUE | AT17: =IF(AS17=TRUE,1,0) -> 1 | AU17: =('Form Responses 1'!K10+'Form Responses 1'!P10)*(1-$C$3) -> 0.1719375 | AV17: =('Form Responses 1'!K10+'Form Responses 1'!P10)*(1+$C$3) -> 0.2865625 | AW17: =AND('Form Responses 1'!T10>AU17,'Form Responses 1'!T10<AV17) -> TRUE | AX17: =IF(AW17=TRUE,1,0) -> 1 | AY17: =('Form Responses 1'!L10+'Form Responses 1'!Q10)*(1-$C$3) -> 0.07875 | AZ17: =('Form Responses 1'!L10+'Form Responses 1'!Q10)*(1+$C$3) -> 0.13125 | BA17: =AND('Form Responses 1'!U10>AY17,'Form Responses 1'!U10<AZ17) -> TRUE | BB17: =IF(BA17=TRUE,1,0) -> 1 | BC17: =('Form Responses 1'!R10-'Form Responses 1'!T10)/'Form Responses 1'!R10*100 -> 37.636017 | BD17: =IF(AND(BC17>=20,'Form Responses 1'!V10=$BC$1)=TRUE,1,0) -> 1 | BE17: =IF(AND(BC17>=0,BC17<=20,'Form Responses 1'!V10=$BC$2)=TRUE,1,0) -> 0 | BF17: =IF(AND(BC17<0)=TRUE,-1,0) -> 0 | BG17: =SUM(BD17:BF17) -> 1 | BH17: =('Form Responses 1'!S10-'Form Responses 1'!U10)/'Form Responses 1'!S10*100 -> 61.125509 | BI17: =IF(AND(BH17>=20,'Form Responses 1'!W10=$BH$1)=TRUE,1,0) -> 1 | BJ17: =IF(AND(BH17>=0,BH17<=20,'Form Responses 1'!W10=$BH$2)=TRUE,1,0) -> 0 | BK17: =IF(AND(BH17<0)=TRUE,-1,0) -> 0 | BL17: =SUM(BI17:BK17) -> 1
A18: ='Form Responses 1'!B11 -> Student 9 | B18: =(F18+J18+N18)+(R18+V18+Z18)+(AD18+AH18+AL18)+(AP18+AT18+AX18+BB18)+(BG18+BL18) -> 12 | C18: ='Form Responses 1'!C11/'Form Responses 1'!D11*(1-$C$3) -> 1.1029412 | D18: ='Form Responses 1'!C11/'Form Responses 1'!D11*(1+$C$3) -> 1.8382353 | E18: =AND('Form Responses 1'!E11>C18,'Form Responses 1'!E11<D18) -> TRUE | F18: =IF(E18=TRUE,1,0) -> 1 | G18: ='Form Responses 1'!E11*$E$3*(1-$C$3) -> 0.2758125 | H18: ='Form Responses 1'!E11*$E$3*(1+$C$3) -> 0.4596875 | I18: =AND('Form Responses 1'!F11>G18,'Form Responses 1'!F11<H18) -> TRUE | J18: =IF(I18=TRUE,1,0) -> 1 | K18: =0.5*$E$3*'Form Responses 1'!E11*'Form Responses 1'!E11*(1-$C$3) -> 0.20286009 | L18: =0.5*$E$3*'Form Responses 1'!E11*'Form Responses 1'!E11*(1+$C$3) -> 0.33810016 | M18: =AND('Form Responses 1'!G11>K18,'Form Responses 1'!G11<L18) -> TRUE | N18: =IF(M18=TRUE,1,0) -> 1 | O18: ='Form Responses 1'!H11/'Form Responses 1'!I11*(1-$C$3) -> 0 | P18: ='Form Responses 1'!H11/'Form Responses 1'!I11*(1+$C$3) -> 0 | Q18: =AND('Form Responses 1'!J11>O18,'Form Responses 1'!J11<P18) -> FALSE | R18: =IF(Q18=TRUE,1,0) -> 0 | S18: ='Form Responses 1'!J11*$E$3*(1-$C$3) -> 0 | T18: ='Form Responses 1'!J11*$E$3*(1+$C$3) -> 0 | U18: =AND('Form Responses 1'!K11>S18,'Form Responses 1'!K11<T18) -> FALSE | V18: =IF(U18=TRUE,1,0) -> 0 | W18: =0.5*$E$3*'Form Responses 1'!J11*'Form Responses 1'!J11*(1-$C$3) -> 0 | X18: =0.5*$E$3*'Form Responses 1'!J11*'Form Responses 1'!J11*(1+$C$3) -> 0 | Y18: =AND('Form Responses 1'!L11>W18,'Form Responses 1'!L11<X18) -> FALSE | Z18: =IF(Y18=TRUE,1,0) -> 0 | AA18: ='Form Responses 1'!M11/'Form Responses 1'!N11*(1-$C$3) -> 0.61309524 | AB18: ='Form Responses 1'!M11/'Form Responses 1'!N11*(1+$C$3) -> 1.0218254 | AC18: =AND('Form Responses 1'!O11>AA18,'Form Responses 1'!O11<AB18) -> TRUE | AD18: =IF(AC18=TRUE,1,0) -> 1 | AE18: ='Form Responses 1'!O11*$E$4*(1-$C$3) -> 0.17175 | AF18: ='Form Responses 1'!O11*$E$4*(1+$C$3) -> 0.28625 | AG18: =AND('Form Responses 1'!P11>AE18,'Form Responses 1'!P11<AF18) -> TRUE | AH18: =IF(AG18=TRUE,1,0) -> 1 | AI18: =0.5*$E$4*'Form Responses 1'!O11*'Form Responses 1'!O11*(1-$C$3) -> 0.0786615 | AJ18: =0.5*$E$4*'Form Responses 1'!O11*'Form Responses 1'!O11*(1+$C$3) -> 0.1311025 | AK18: =AND('Form Responses 1'!Q11>AI18,'Form Responses 1'!Q11<AJ18) -> TRUE | AL18: =IF(AK18=TRUE,1,0) -> 1 | AM18: ='Form Responses 1'!F11*(1-$C$3) -> 0.276 | AN18: ='Form Responses 1'!F11*(1+$C$3) -> 0.46 | AO18: =AND('Form Responses 1'!R11>AM18,'Form Responses 1'!R11<AN18) -> TRUE | AP18: =IF(AO18=TRUE,1,0) -> 1 | AQ18: ='Form Responses 1'!G11*(1-$C$3) -> 0.2025 | AR18: ='Form Responses 1'!G11*(1+$C$3) -> 0.3375 | AS18: =AND('Form Responses 1'!S11>AQ18,'Form Responses 1'!S11<AR18) -> TRUE | AT18: =IF(AS18=TRUE,1,0) -> 1 | AU18: =('Form Responses 1'!K11+'Form Responses 1'!P11)*(1-$C$3) -> 0.17175 | AV18: =('Form Responses 1'!K11+'Form Responses 1'!P11)*(1+$C$3) -> 0.28625 | AW18: =AND('Form Responses 1'!T11>AU18,'Form Responses 1'!T11<AV18) -> TRUE | AX18: =IF(AW18=TRUE,1,0) -> 1 | AY18: =('Form Responses 1'!L11+'Form Responses 1'!Q11)*(1-$C$3) -> 0.07875 | AZ18: =('Form Responses 1'!L11+'Form Responses 1'!Q11)*(1+$C$3) -> 0.13125 | BA18: =AND('Form Responses 1'!U11>AY18,'Form Responses 1'!U11<AZ18) -> TRUE | BB18: =IF(BA18=TRUE,1,0) -> 1 | BC18: =('Form Responses 1'!R11-'Form Responses 1'!T11)/'Form Responses 1'!R11*100 -> 37.771739 | BD18: =IF(AND(BC18>=20,'Form Responses 1'!V11=$BC$1)=TRUE,1,0) -> 1 | BE18: =IF(AND(BC18>=0,BC18<=20,'Form Responses 1'!V11=$BC$2)=TRUE,1,0) -> 0 | BF18: =IF(AND(BC18<0)=TRUE,-1,0) -> 0 | BG18: =SUM(BD18:BF18) -> 1 | BH18: =('Form Responses 1'!S11-'Form Responses 1'!U11)/'Form Responses 1'!S11*100 -> 61.111111 | BI18: =IF(AND(BH18>=20,'Form Responses 1'!W11=$BH$1)=TRUE,1,0) -> 1 | BJ18: =IF(AND(BH18>=0,BH18<=20,'Form Responses 1'!W11=$BH$2)=TRUE,1,0) -> 0 | BK18: =IF(AND(BH18<0)=TRUE,-1,0) -> 0 | BL18: =SUM(BI18:BK18) -> 1
A19: ='Form Responses 1'!B12 -> Student 10 | B19: =(F19+J19+N19)+(R19+V19+Z19)+(AD19+AH19+AL19)+(AP19+AT19+AX19+BB19)+(BG19+BL19) -> #DIV/0! | C19: ='Form Responses 1'!C12/'Form Responses 1'!D12*(1-$C$3) -> 1.1029412 | D19: ='Form Responses 1'!C12/'Form Responses 1'!D12*(1+$C$3) -> 1.8382353 | E19: =AND('Form Responses 1'!E12>C19,'Form Responses 1'!E12<D19) -> TRUE | F19: =IF(E19=TRUE,1,0) -> 1 | G19: ='Form Responses 1'!E12*$E$3*(1-$C$3) -> 0.2757375 | H19: ='Form Responses 1'!E12*$E$3*(1+$C$3) -> 0.4595625 | I19: =AND('Form Responses 1'!F12>G19,'Form Responses 1'!F12<H19) -> TRUE | J19: =IF(I19=TRUE,1,0) -> 1 | K19: =0.5*$E$3*'Form Responses 1'!E12*'Form Responses 1'!E12*(1-$C$3) -> 0.20274978 | L19: =0.5*$E$3*'Form Responses 1'!E12*'Form Responses 1'!E12*(1+$C$3) -> 0.33791631 | M19: =AND('Form Responses 1'!G12>K19,'Form Responses 1'!G12<L19) -> TRUE | N19: =IF(M19=TRUE,1,0) -> 1 | O19: ='Form Responses 1'!H12/'Form Responses 1'!I12*(1-$C$3) -> #DIV/0! | P19: ='Form Responses 1'!H12/'Form Responses 1'!I12*(1+$C$3) -> #DIV/0! | Q19: =AND('Form Responses 1'!J12>O19,'Form Responses 1'!J12<P19) -> #DIV/0! | R19: =IF(Q19=TRUE,1,0) -> #DIV/0! | S19: ='Form Responses 1'!J12*$E$3*(1-$C$3) -> 0 | T19: ='Form Responses 1'!J12*$E$3*(1+$C$3) -> 0 | U19: =AND('Form Responses 1'!K12>S19,'Form Responses 1'!K12<T19) -> FALSE | V19: =IF(U19=TRUE,1,0) -> 0 | W19: =0.5*$E$3*'Form Responses 1'!J12*'Form Responses 1'!J12*(1-$C$3) -> 0 | X19: =0.5*$E$3*'Form Responses 1'!J12*'Form Responses 1'!J12*(1+$C$3) -> 0 | Y19: =AND('Form Responses 1'!L12>W19,'Form Responses 1'!L12<X19) -> FALSE | Z19: =IF(Y19=TRUE,1,0) -> 0 | AA19: ='Form Responses 1'!M12/'Form Responses 1'!N12*(1-$C$3) -> 0.70333333 | AB19: ='Form Responses 1'!M12/'Form Responses 1'!N12*(1+$C$3) -> 1.1722222 | AC19: =AND('Form Responses 1'!O12>AA19,'Form Responses 1'!O12<AB19) -> TRUE | AD19: =IF(AC19=TRUE,1,0) -> 1 | AE19: ='Form Responses 1'!O12*$E$4*(1-$C$3) -> 0.1758375 | AF19: ='Form Responses 1'!O12*$E$4*(1+$C$3) -> 0.2930625 | AG19: =AND('Form Responses 1'!P12>AE19,'Form Responses 1'!P12<AF19) -> TRUE | AH19: =IF(AG19=TRUE,1,0) -> 1 | AI19: =0.5*$E$4*'Form Responses 1'!O12*'Form Responses 1'!O12*(1-$C$3) -> 0.082450204 | AJ19: =0.5*$E$4*'Form Responses 1'!O12*'Form Responses 1'!O12*(1+$C$3) -> 0.13741701 | AK19: =AND('Form Responses 1'!Q12>AI19,'Form Responses 1'!Q12<AJ19) -> TRUE | AL19: =IF(AK19=TRUE,1,0) -> 1 | AM19: ='Form Responses 1'!F12*(1-$C$3) -> 0.275775 | AN19: ='Form Responses 1'!F12*(1+$C$3) -> 0.459625 | AO19: =AND('Form Responses 1'!R12>AM19,'Form Responses 1'!R12<AN19) -> TRUE | AP19: =IF(AO19=TRUE,1,0) -> 1 | AQ19: ='Form Responses 1'!G12*(1-$C$3) -> 0.202725 | AR19: ='Form Responses 1'!G12*(1+$C$3) -> 0.337875 | AS19: =AND('Form Responses 1'!S12>AQ19,'Form Responses 1'!S12<AR19) -> TRUE | AT19: =IF(AS19=TRUE,1,0) -> 1 | AU19: =('Form Responses 1'!K12+'Form Responses 1'!P12)*(1-$C$3) -> 0.1758 | AV19: =('Form Responses 1'!K12+'Form Responses 1'!P12)*(1+$C$3) -> 0.293 | AW19: =AND('Form Responses 1'!T12>AU19,'Form Responses 1'!T12<AV19) -> TRUE | AX19: =IF(AW19=TRUE,1,0) -> 1 | AY19: =('Form Responses 1'!L12+'Form Responses 1'!Q12)*(1-$C$3) -> 0.078975 | AZ19: =('Form Responses 1'!L12+'Form Responses 1'!Q12)*(1+$C$3) -> 0.131625 | BA19: =AND('Form Responses 1'!U12>AY19,'Form Responses 1'!U12<AZ19) -> TRUE | BB19: =IF(BA19=TRUE,1,0) -> 1 | BC19: =('Form Responses 1'!R12-'Form Responses 1'!T12)/'Form Responses 1'!R12*100 -> 36.25238 | BD19: =IF(AND(BC19>=20,'Form Responses 1'!V12=$BC$1)=TRUE,1,0) -> 1 | BE19: =IF(AND(BC19>=0,BC19<=20,'Form Responses 1'!V12=$BC$2)=TRUE,1,0) -> 0 | BF19: =IF(AND(BC19<0)=TRUE,-1,0) -> 0 | BG19: =SUM(BD19:BF19) -> 1 | BH19: =('Form Responses 1'!S12-'Form Responses 1'!U12)/'Form Responses 1'!S12*100 -> 61.043285 | BI19: =IF(AND(BH19>=20,'Form Responses 1'!W12=$BH$1)=TRUE,1,0) -> 1 | BJ19: =IF(AND(BH19>=0,BH19<=20,'Form Responses 1'!W12=$BH$2)=TRUE,1,0) -> 0 | BK19: =IF(AND(BH19<0)=TRUE,-1,0) -> 0 | BL19: =SUM(BI19:BK19) -> 1
A20: ='Form Responses 1'!B13 -> Student 11 | B20: =(F20+J20+N20)+(R20+V20+Z20)+(AD20+AH20+AL20)+(AP20+AT20+AX20+BB20)+(BG20+BL20) -> 15 | C20: ='Form Responses 1'!C13/'Form Responses 1'!D13*(1-$C$3) -> 0.75 | D20: ='Form Responses 1'!C13/'Form Responses 1'!D13*(1+$C$3) -> 1.25 | E20: =AND('Form Responses 1'!E13>C20,'Form Responses 1'!E13<D20) -> TRUE | F20: =IF(E20=TRUE,1,0) -> 1 | G20: ='Form Responses 1'!E13*$E$3*(1-$C$3) -> 0.1875 | H20: ='Form Responses 1'!E13*$E$3*(1+$C$3) -> 0.3125 | I20: =AND('Form Responses 1'!F13>G20,'Form Responses 1'!F13<H20) -> TRUE | J20: =IF(I20=TRUE,1,0) -> 1 | K20: =0.5*$E$3*'Form Responses 1'!E13*'Form Responses 1'!E13*(1-$C$3) -> 0.09375 | L20: =0.5*$E$3*'Form Responses 1'!E13*'Form Responses 1'!E13*(1+$C$3) -> 0.15625 | M20: =AND('Form Responses 1'!G13>K20,'Form Responses 1'!G13<L20) -> TRUE | N20: =IF(M20=TRUE,1,0) -> 1 | O20: ='Form Responses 1'!H13/'Form Responses 1'!I13*(1-$C$3) -> 0.0375 | P20: ='Form Responses 1'!H13/'Form Responses 1'!I13*(1+$C$3) -> 0.0625 | Q20: =AND('Form Responses 1'!J13>O20,'Form Responses 1'!J13<P20) -> TRUE | R20: =IF(Q20=TRUE,1,0) -> 1 | S20: ='Form Responses 1'!J13*$E$3*(1-$C$3) -> 0.009375 | T20: ='Form Responses 1'!J13*$E$3*(1+$C$3) -> 0.015625 | U20: =AND('Form Responses 1'!K13>S20,'Form Responses 1'!K13<T20) -> TRUE | V20: =IF(U20=TRUE,1,0) -> 1 | W20: =0.5*$E$3*'Form Responses 1'!J13*'Form Responses 1'!J13*(1-$C$3) -> 0.000234375 | X20: =0.5*$E$3*'Form Responses 1'!J13*'Form Responses 1'!J13*(1+$C$3) -> 0.000390625 | Y20: =AND('Form Responses 1'!L13>W20,'Form Responses 1'!L13<X20) -> TRUE | Z20: =IF(Y20=TRUE,1,0) -> 1 | AA20: ='Form Responses 1'!M13/'Form Responses 1'!N13*(1-$C$3) -> 0.7125 | AB20: ='Form Responses 1'!M13/'Form Responses 1'!N13*(1+$C$3) -> 1.1875 | AC20: =AND('Form Responses 1'!O13>AA20,'Form Responses 1'!O13<AB20) -> TRUE | AD20: =IF(AC20=TRUE,1,0) -> 1 | AE20: ='Form Responses 1'!O13*$E$4*(1-$C$3) -> 0.178125 | AF20: ='Form Responses 1'!O13*$E$4*(1+$C$3) -> 0.296875 | AG20: =AND('Form Responses 1'!P13>AE20,'Form Responses 1'!P13<AF20) -> TRUE | AH20: =IF(AG20=TRUE,1,0) -> 1 | AI20: =0.5*$E$4*'Form Responses 1'!O13*'Form Responses 1'!O13*(1-$C$3) -> 0.084609375 | AJ20: =0.5*$E$4*'Form Responses 1'!O13*'Form Responses 1'!O13*(1+$C$3) -> 0.14101563 | AK20: =AND('Form Responses 1'!Q13>AI20,'Form Responses 1'!Q13<AJ20) -> TRUE | AL20: =IF(AK20=TRUE,1,0) -> 1 | AM20: ='Form Responses 1'!F13*(1-$C$3) -> 0.1875 | AN20: ='Form Responses 1'!F13*(1+$C$3) -> 0.3125 | AO20: =AND('Form Responses 1'!R13>AM20,'Form Responses 1'!R13<AN20) -> TRUE | AP20: =IF(AO20=TRUE,1,0) -> 1 | AQ20: ='Form Responses 1'!G13*(1-$C$3) -> 0.0975 | AR20: ='Form Responses 1'!G13*(1+$C$3) -> 0.1625 | AS20: =AND('Form Responses 1'!S13>AQ20,'Form Responses 1'!S13<AR20) -> TRUE | AT20: =IF(AS20=TRUE,1,0) -> 1 | AU20: =('Form Responses 1'!K13+'Form Responses 1'!P13)*(1-$C$3) -> 0.1875 | AV20: =('Form Responses 1'!K13+'Form Responses 1'!P13)*(1+$C$3) -> 0.3125 | AW20: =AND('Form Responses 1'!T13>AU20,'Form Responses 1'!T13<AV20) -> TRUE | AX20: =IF(AW20=TRUE,1,0) -> 1 | AY20: =('Form Responses 1'!L13+'Form Responses 1'!Q13)*(1-$C$3) -> 0.084825 | AZ20: =('Form Responses 1'!L13+'Form Responses 1'!Q13)*(1+$C$3) -> 0.141375 | BA20: =AND('Form Responses 1'!U13>AY20,'Form Responses 1'!U13<AZ20) -> TRUE | BB20: =IF(BA20=TRUE,1,0) -> 1 | BC20: =('Form Responses 1'!R13-'Form Responses 1'!T13)/'Form Responses 1'!R13*100 -> 0 | BD20: =IF(AND(BC20>=20,'Form Responses 1'!V13=$BC$1)=TRUE,1,0) -> 0 | BE20: =IF(AND(BC20>=0,BC20<=20,'Form Responses 1'!V13=$BC$2)=TRUE,1,0) -> 1 | BF20: =IF(AND(BC20<0)=TRUE,-1,0) -> 0 | BG20: =SUM(BD20:BF20) -> 1 | BH20: =('Form Responses 1'!S13-'Form Responses 1'!U13)/'Form Responses 1'!S13*100 -> 15.384615 | BI20: =IF(AND(BH20>=20,'Form Responses 1'!W13=$BH$1)=TRUE,1,0) -> 0 | BJ20: =IF(AND(BH20>=0,BH20<=20,'Form Responses 1'!W13=$BH$2)=TRUE,1,0) -> 1 | BK20: =IF(AND(BH20<0)=TRUE,-1,0) -> 0 | BL20: =SUM(BI20:BK20) -> 1
A21: ='Form Responses 1'!B14 -> Student 12 | B21: =(F21+J21+N21)+(R21+V21+Z21)+(AD21+AH21+AL21)+(AP21+AT21+AX21+BB21)+(BG21+BL21) -> 15 | C21: ='Form Responses 1'!C14/'Form Responses 1'!D14*(1-$C$3) -> 0.75 | D21: ='Form Responses 1'!C14/'Form Responses 1'!D14*(1+$C$3) -> 1.25 | E21: =AND('Form Responses 1'!E14>C21,'Form Responses 1'!E14<D21) -> TRUE | F21: =IF(E21=TRUE,1,0) -> 1 | G21: ='Form Responses 1'!E14*$E$3*(1-$C$3) -> 0.1875 | H21: ='Form Responses 1'!E14*$E$3*(1+$C$3) -> 0.3125 | I21: =AND('Form Responses 1'!F14>G21,'Form Responses 1'!F14<H21) -> TRUE | J21: =IF(I21=TRUE,1,0) -> 1 | K21: =0.5*$E$3*'Form Responses 1'!E14*'Form Responses 1'!E14*(1-$C$3) -> 0.09375 | L21: =0.5*$E$3*'Form Responses 1'!E14*'Form Responses 1'!E14*(1+$C$3) -> 0.15625 | M21: =AND('Form Responses 1'!G14>K21,'Form Responses 1'!G14<L21) -> TRUE | N21: =IF(M21=TRUE,1,0) -> 1 | O21: ='Form Responses 1'!H14/'Form Responses 1'!I14*(1-$C$3) -> 0.0375 | P21: ='Form Responses 1'!H14/'Form Responses 1'!I14*(1+$C$3) -> 0.0625 | Q21: =AND('Form Responses 1'!J14>O21,'Form Responses 1'!J14<P21) -> TRUE | R21: =IF(Q21=TRUE,1,0) -> 1 | S21: ='Form Responses 1'!J14*$E$3*(1-$C$3) -> 0.009375 | T21: ='Form Responses 1'!J14*$E$3*(1+$C$3) -> 0.015625 | U21: =AND('Form Responses 1'!K14>S21,'Form Responses 1'!K14<T21) -> TRUE | V21: =IF(U21=TRUE,1,0) -> 1 | W21: =0.5*$E$3*'Form Responses 1'!J14*'Form Responses 1'!J14*(1-$C$3) -> 0.000234375 | X21: =0.5*$E$3*'Form Responses 1'!J14*'Form Responses 1'!J14*(1+$C$3) -> 0.000390625 | Y21: =AND('Form Responses 1'!L14>W21,'Form Responses 1'!L14<X21) -> TRUE | Z21: =IF(Y21=TRUE,1,0) -> 1 | AA21: ='Form Responses 1'!M14/'Form Responses 1'!N14*(1-$C$3) -> 0.7125 | AB21: ='Form Responses 1'!M14/'Form Responses 1'!N14*(1+$C$3) -> 1.1875 | AC21: =AND('Form Responses 1'!O14>AA21,'Form Responses 1'!O14<AB21) -> TRUE | AD21: =IF(AC21=TRUE,1,0) -> 1 | AE21: ='Form Responses 1'!O14*$E$4*(1-$C$3) -> 0.178125 | AF21: ='Form Responses 1'!O14*$E$4*(1+$C$3) -> 0.296875 | AG21: =AND('Form Responses 1'!P14>AE21,'Form Responses 1'!P14<AF21) -> TRUE | AH21: =IF(AG21=TRUE,1,0) -> 1 | AI21: =0.5*$E$4*'Form Responses 1'!O14*'Form Responses 1'!O14*(1-$C$3) -> 0.084609375 | AJ21: =0.5*$E$4*'Form Responses 1'!O14*'Form Responses 1'!O14*(1+$C$3) -> 0.14101563 | AK21: =AND('Form Responses 1'!Q14>AI21,'Form Responses 1'!Q14<AJ21) -> TRUE | AL21: =IF(AK21=TRUE,1,0) -> 1 | AM21: ='Form Responses 1'!F14*(1-$C$3) -> 0.1875 | AN21: ='Form Responses 1'!F14*(1+$C$3) -> 0.3125 | AO21: =AND('Form Responses 1'!R14>AM21,'Form Responses 1'!R14<AN21) -> TRUE | AP21: =IF(AO21=TRUE,1,0) -> 1 | AQ21: ='Form Responses 1'!G14*(1-$C$3) -> 0.0975 | AR21: ='Form Responses 1'!G14*(1+$C$3) -> 0.1625 | AS21: =AND('Form Responses 1'!S14>AQ21,'Form Responses 1'!S14<AR21) -> TRUE | AT21: =IF(AS21=TRUE,1,0) -> 1 | AU21: =('Form Responses 1'!K14+'Form Responses 1'!P14)*(1-$C$3) -> 0.1875 | AV21: =('Form Responses 1'!K14+'Form Responses 1'!P14)*(1+$C$3) -> 0.3125 | AW21: =AND('Form Responses 1'!T14>AU21,'Form Responses 1'!T14<AV21) -> TRUE | AX21: =IF(AW21=TRUE,1,0) -> 1 | AY21: =('Form Responses 1'!L14+'Form Responses 1'!Q14)*(1-$C$3) -> 0.084825 | AZ21: =('Form Responses 1'!L14+'Form Responses 1'!Q14)*(1+$C$3) -> 0.141375 | BA21: =AND('Form Responses 1'!U14>AY21,'Form Responses 1'!U14<AZ21) -> TRUE | BB21: =IF(BA21=TRUE,1,0) -> 1 | BC21: =('Form Responses 1'!R14-'Form Responses 1'!T14)/'Form Responses 1'!R14*100 -> 0 | BD21: =IF(AND(BC21>=20,'Form Responses 1'!V14=$BC$1)=TRUE,1,0) -> 0 | BE21: =IF(AND(BC21>=0,BC21<=20,'Form Responses 1'!V14=$BC$2)=TRUE,1,0) -> 1 | BF21: =IF(AND(BC21<0)=TRUE,-1,0) -> 0 | BG21: =SUM(BD21:BF21) -> 1 | BH21: =('Form Responses 1'!S14-'Form Responses 1'!U14)/'Form Responses 1'!S14*100 -> 15.384615 | BI21: =IF(AND(BH21>=20,'Form Responses 1'!W14=$BH$1)=TRUE,1,0) -> 0 | BJ21: =IF(AND(BH21>=0,BH21<=20,'Form Responses 1'!W14=$BH$2)=TRUE,1,0) -> 1 | BK21: =IF(AND(BH21<0)=TRUE,-1,0) -> 0 | BL21: =SUM(BI21:BK21) -> 1
