Workbook

Sheet Form Responses 1
A1: Timestamp | B1: Email Address | C1: Mass A = ____kg | D1: Mass B = ____kg | E1: Height = ____ | F1: Distance Ax = ____m | G1: Distance Bx = ____m | H1: Time A = ____s | I1: Velocity A (launch) = ____m/s | J1: Time B = ____s | K1: Velocity B (launch) = ____m/s | L1: Momentum A (final) = ____kg*m/s | M1: Momentum B (final) = kg*m/s | N1: Momentum A (initial) = ____kg*m/s | O1: Velocity A (initial) = ____ m/s | P1: Momentum B (initial) = ____kg*m/s | Q1: Velocity B (initial) = ____m/s
A2: 44087.722 | B2: mbayer@clearview.ab.ca | C2: 0.5 | D2: 1.5 | E2: 1 | F2: 0.085789 | G2: 0.424432 | H2: 0.4515 | I2: 0.19 | J2: 0.4515 | K2: 0.94 | L2: 0.09 | M2: 1.41 | N2: 1.5 | O2: 3 | P2: 0 | Q2: 0
A3: 44092.555 | B3: Student 1 | C3: 0.45 | D3: 0.33 | E3: 1.25 | F3: 0.86 | G3: 1.35 | H3: 0.42 | I3: 2.05 | J3: 0.52 | K3: 2.57 | L3: 0.92 | M3: 0.85 | N3: 0.92 | O3: 2.05 | P3: 0 | Q3: 0
A4: 44092.682 | B4: Student 2 | C4: 0.2 | D4: 0.05 | E4: 1.1 | F4: 1 | G4: 2.3 | H4: 0.47 | I4: 2.11 | J4: 0.47 | K4: 4.86 | L4: 0.422 | M4: 0.2428 | N4: 0.665 | O4: 3.324 | P4: 0 | Q4: 0
A5: 44092.936 | B5: Student 3 | C5: 0.153 | D5: 0.135 | E5: 0.9 | F5: 0.41 | G5: 1.11 | H5: 0.4283 | I5: 0.9573 | J5: 0.4283 | K5: 2.592 | L5: 0.146 | M5: 0.345 | N5: 0.491 | O5: 3.21 | P5: 0 | Q5: 0
A6: 44093.469 | B6: Student 4 | C6: 0.2966 | D6: 0.175 | E6: 0.75 | F6: 0.52 | G6: 1.12 | H6: 0.391 | I6: 1.33 | J6: 0.391 | K6: 2.864 | L6: 0.394 | M6: 0.501 | N6: 0.896 | O6: 3.02 | P6: 0 | Q6: 0
A7: 44093.588 | B7: Student 5 | C7: 0.35 | D7: 0.117 | E7: 0.76 | F7: 0.203 | G7: 0.74 | H7: 0.39 | I7: 0.52 | J7: 0.39 | K7: 1.9 | L7: 0.018 | M7: 0.22 | N7: 0.018 | O7: 0.001 | P7: 0 | Q7: 0
A8: 44093.721 | B8: Student 6 | C8: 0.0577 | D8: 0.014 | E8: 0.762 | F8: 0.5842 | G8: 1.2142 | H8: 0.394146 | I8: 1.48218 | J8: 0.394146 | K8: 3.08057 | L8: 0.08522 | M8: 0.043128 | N8: 0.1286504 | O8: 2.229643 | P8: 0 | Q8: 0
A9: 44094.67 | B9: Student 7 | C9: 0.12 | D9: 0.1 | E9: 0.787 | F9: 1.143 | G9: 1.46 | H9: 0.4 | I9: 2.85 | J9: 0.4 | K9: 3.65 | L9: 0.342 | M9: 0.345 | N9: 0.342 | O9: 5.89 | P9: 0 | Q9: 0
A10: 44094.708 | B10: Student 8 | C10: 0.142 | D10: 0.068 | E10: 0.762 | F10: 0.24 | G10: 0.762 | H10: 0.394 | I10: 0.609 | J10: 0.394 | K10: 1.93 | L10: 0.086 | M10: 0.13 | N10: 0.216 | O10: 1.52 | P10: 0 | Q10: 0
A11: 44094.736 | B11: Student 9 | C11: 0.02 | D11: 0.057 | E11: 0.655 | F11: 0.745 | G11: 2.33 | H11: 0.365 | I11: 2.04 | J11: 0.365 | K11: 6.376 | L11: 0.0408 | M11: 0.363 | N11: 0.404 | O11: 7.0914 | P11: 0 | Q11: 0
A12: 44094.869 | B12: Student 10 | C12: 1.36 | D12: 2.27 | E12: 0.44 | F12: 0.1 | G12: 0.23 | H12: 0.034 | I12: 2.94 | J12: 0.078 | K12: 2.94 | L12: 4 | M12: 6.67 | N12: 4 | O12: 2.94 | P12: 0 | Q12: 0
A13: 44094.882 | B13: Student 11 | C13: 0.27 | D13: 0.014 | E13: 0.889 | F13: 0.711 | G13: 2.489 | H13: 0.4257 | I13: 0.3027 | J13: 0.4257 | K13: 1.059 | L13: 0.0817 | M13: 0.014826 | N13: 0.9655 | O13: 0.3576 | P13: 0 | Q13: 0
... A25: 44159.746 | B25: Student 23 | C25: 0.17 | D25: 0.46 | E25: 0.72 | F25: 0.42 | G25: 0.86 | H25: 0.52 | I25: 0.81 | J25: 0.64 | K25: 1.3 | L25: 0.1377 | M25: 0.598 | N25: 0.1377 | O25: 0.81 | P25: 0.598 | Q25: 1.3

Sheet Calculations
A1: SPEC | B1: 0.08
C4: Time A | G4: Velocity A (launch) | K4: Time B | O4: Velocity B (launch) | S4: Momentum A (final) | W4: Momentum B (final) | AA4: Momentum A (initial) | AE4: Velocity A (initial) | AI4: Momentum B (initial) | AK4: Velocity B (initial)
A5: Name | B5: Mark /10 | C5: Low SPEC | D5: High SPEC | E5: In SPEC? | F5: Mark | G5: Low SPEC | H5: High SPEC | I5: In SPEC? | J5: Mark | K5: Low SPEC | L5: High SPEC | M5: In SPEC? | N5: Mark | O5: Low SPEC | P5: High SPEC | Q5: In SPEC? | R5: Mark | S5: Low SPEC | T5: High SPEC | U5: In SPEC? | V5: Mark | W5: Low SPEC | X5: High SPEC | Y5: In SPEC? | Z5: Mark | AA5: Low SPEC | AB5: High SPEC | AC5: In SPEC? | AD5: Mark | AE5: Low SPEC | AF5: High SPEC | AG5: In SPEC? | AH5: Mark | AI5: Answer | AJ5: Mark | AK5: Answer | AL5: Mark
A6: ='Form Responses 1'!B2 -> mbayer@clearview.ab.ca | B6: =SUM(F6,J6,N6,R6,V6,Z6,AD6,AH6,AJ6,AL6) -> 10 | C6: =SQRT((2*'Form Responses 1'!E2)/9.81)*(1-$B$1) -> 0.41540175 | D6: =SQRT((2*'Form Responses 1'!E2)/9.81)*(1+$B$1) -> 0.48764553 | E6: =AND('Form Responses 1'!H2>C6,'Form Responses 1'!H2<D6) -> TRUE | F6: =IF(E6=TRUE,1,0) -> 1 | G6: =('Form Responses 1'!F2/'Form Responses 1'!H2)*(1-$B$1) -> 0.17480815 | H6: =('Form Responses 1'!F2/'Form Responses 1'!H2)*(1+$B$1) -> 0.20520957 | I6: =AND('Form Responses 1'!I2>G6,'Form Responses 1'!I2<H6) -> TRUE | J6: =IF(I6=TRUE,1,0) -> 1 | K6: =SQRT((2*'Form Responses 1'!E2)/9.81)*(1-$B$1) -> 0.41540175 | L6: =SQRT((2*'Form Responses 1'!E2)/9.81)*(1+$B$1) -> 0.48764553 | M6: =AND('Form Responses 1'!J2>K6,'Form Responses 1'!J2<L6) -> TRUE | N6: =IF(M6=TRUE,1,0) -> 1 | O6: =('Form Responses 1'!G2/'Form Responses 1'!J2)*(1-$B$1) -> 0.86484483 | P6: =('Form Responses 1'!G2/'Form Responses 1'!J2)*(1+$B$1) -> 1.0152526 | Q6: =AND('Form Responses 1'!K2>O6,'Form Responses 1'!K2<P6) -> TRUE | R6: =IF(Q6=TRUE,1,0) -> 1 | S6: =('Form Responses 1'!C2*'Form Responses 1'!I2)*(1-$B$1) -> 0.0874 | T6: =('Form Responses 1'!C2*'Form Responses 1'!I2)*(1+$B$1) -> 0.1026 | U6: =AND('Form Responses 1'!L2>S6,'Form Responses 1'!L2<T6) -> TRUE | V6: =IF(U6=TRUE,1,0) -> 1 | W6: =('Form Responses 1'!D2*'Form Responses 1'!K2)*(1-$B$1) -> 1.2972 | X6: =('Form Responses 1'!D2*'Form Responses 1'!K2)*(1+$B$1) -> 1.5228 | Y6: =AND('Form Responses 1'!M2>W6,'Form Responses 1'!M2<X6) -> TRUE | Z6: =IF(Y6=TRUE,1,0) -> 1 | AA6: =('Form Responses 1'!L2+'Form Responses 1'!M2)*(1-$B$1) -> 1.38 | AB6: =('Form Responses 1'!L2+'Form Responses 1'!M2)*(1+$B$1) -> 1.62 | AC6: =AND('Form Responses 1'!N2>AA6,'Form Responses 1'!N2<AB6) -> TRUE | AD6: =IF(AC6=TRUE,1,0) -> 1 | AE6: =('Form Responses 1'!N2/'Form Responses 1'!C2)*(1-$B$1) -> 2.76 | AF6: =('Form Responses 1'!N2/'Form Responses 1'!C2)*(1+$B$1) -> 3.24 | AG6: =AND('Form Responses 1'!O2>AE6,'Form Responses 1'!O2<AF6) -> TRUE | AH6: =IF(AG6=TRUE,1,0) -> 1 | AI6: 0 | AJ6: =IF('Form Responses 1'!P2=AI6,1,0) -> 1 | AK6: 0 | AL6: =IF('Form Responses 1'!Q2=AK6,1,0) -> 1
A7: ='Form Responses 1'!B3 -> Student 1 | B7: =SUM(F7,J7,N7,R7,V7,Z7,AD7,AH7,AJ7,AL7) -> 8 | C7: =SQRT((2*'Form Responses 1'!E3)/9.81)*(1-$B$1) -> 0.46443328 | D7: =SQRT((2*'Form Responses 1'!E3)/9.81)*(1+$B$1) -> 0.54520428 | E7: =AND('Form Responses 1'!H3>C7,'Form Responses 1'!H3<D7) -> FALSE | F7: =IF(E7=TRUE,1,0) -> 0 | G7: =('Form Responses 1'!F3/'Form Responses 1'!H3)*(1-$B$1) -> 1.8838095 | H7: =('Form Responses 1'!F3/'Form Responses 1'!H3)*(1+$B$1) -> 2.2114286 | I7: =AND('Form Responses 1'!I3>G7,'Form Responses 1'!I3<H7) -> TRUE | J7: =IF(I7=TRUE,1,0) -> 1 | K7: =SQRT((2*'Form Responses 1'!E3)/9.81)*(1-$B$1) -> 0.46443328 | L7: =SQRT((2*'Form Responses 1'!E3)/9.81)*(1+$B$1) -> 0.54520428 | M7: =AND('Form Responses 1'!J3>K7,'Form Responses 1'!J3<L7) -> TRUE | N7: =IF(M7=TRUE,1,0) -> 1 | O7: =('Form Responses 1'!G3/'Form Responses 1'!J3)*(1-$B$1) -> 2.3884615 | P7: =('Form Responses 1'!G3/'Form Responses 1'!J3)*(1+$B$1) -> 2.8038462 | Q7: =AND('Form Responses 1'!K3>O7,'Form Responses 1'!K3<P7) -> TRUE | R7: =IF(Q7=TRUE,1,0) -> 1 | S7: =('Form Responses 1'!C3*'Form Responses 1'!I3)*(1-$B$1) -> 0.8487 | T7: =('Form Responses 1'!C3*'Form Responses 1'!I3)*(1+$B$1) -> 0.9963 | U7: =AND('Form Responses 1'!L3>S7,'Form Responses 1'!L3<T7) -> TRUE | V7: =IF(U7=TRUE,1,0) -> 1 | W7: =('Form Responses 1'!D3*'Form Responses 1'!K3)*(1-$B$1) -> 0.780252 | X7: =('Form Responses 1'!D3*'Form Responses 1'!K3)*(1+$B$1) -> 0.915948 | Y7: =AND('Form Responses 1'!M3>W7,'Form Responses 1'!M3<X7) -> TRUE | Z7: =IF(Y7=TRUE,1,0) -> 1 | AA7: =('Form Responses 1'!L3+'Form Responses 1'!M3)*(1-$B$1) -> 1.6284 | AB7: =('Form Responses 1'!L3+'Form Responses 1'!M3)*(1+$B$1) -> 1.9116 | AC7: =AND('Form Responses 1'!N3>AA7,'Form Responses 1'!N3<AB7) -> FALSE | AD7: =IF(AC7=TRUE,1,0) -> 0 | AE7: =('Form Responses 1'!N3/'Form Responses 1'!C3)*(1-$B$1) -> 1.8808889 | AF7: =('Form Responses 1'!N3/'Form Responses 1'!C3)*(1+$B$1) -> 2.208 | AG7: =AND('Form Responses 1'!O3>AE7,'Form Responses 1'!O3<AF7) -> TRUE | AH7: =IF(AG7=TRUE,1,0) -> 1 | AI7: 0 | AJ7: =IF('Form Responses 1'!P3=AI7,1,0) -> 1 | AK7: 0 | AL7: =IF('Form Responses 1'!Q3=AK7,1,0) -> 1
A8: ='Form Responses 1'!B4 -> Student 2 | B8: =SUM(F8,J8,N8,R8,V8,Z8,AD8,AH8,AJ8,AL8) -> 10 | C8: =SQRT((2*'Form Responses 1'!E4)/9.81)*(1-$B$1) -> 0.43567703 | D8: =SQRT((2*'Form Responses 1'!E4)/9.81)*(1+$B$1) -> 0.51144695 | E8: =AND('Form Responses 1'!H4>C8,'Form Responses 1'!H4<D8) -> TRUE | F8: =IF(E8=TRUE,1,0) -> 1 | G8: =('Form Responses 1'!F4/'Form Responses 1'!H4)*(1-$B$1) -> 1.9574468 | H8: =('Form Responses 1'!F4/'Form Responses 1'!H4)*(1+$B$1) -> 2.2978723 | I8: =AND('Form Responses 1'!I4>G8,'Form Responses 1'!I4<H8) -> TRUE | J8: =IF(I8=TRUE,1,0) -> 1 | K8: =SQRT((2*'Form Responses 1'!E4)/9.81)*(1-$B$1) -> 0.43567703 | L8: =SQRT((2*'Form Responses 1'!E4)/9.81)*(1+$B$1) -> 0.51144695 | M8: =AND('Form Responses 1'!J4>K8,'Form Responses 1'!J4<L8) -> TRUE | N8: =IF(M8=TRUE,1,0) -> 1 | O8: =('Form Responses 1'!G4/'Form Responses 1'!J4)*(1-$B$1) -> 4.5021277 | P8: =('Form Responses 1'!G4/'Form Responses 1'!J4)*(1+$B$1) -> 5.2851064 | Q8: =AND('Form Responses 1'!K4>O8,'Form Responses 1'!K4<P8) -> TRUE | R8: =IF(Q8=TRUE,1,0) -> 1 | S8: =('Form Responses 1'!C4*'Form Responses 1'!I4)*(1-$B$1) -> 0.38824 | T8: =('Form Responses 1'!C4*'Form Responses 1'!I4)*(1+$B$1) -> 0.45576 | U8: =AND('Form Responses 1'!L4>S8,'Form Responses 1'!L4<T8) -> TRUE | V8: =IF(U8=TRUE,1,0) -> 1 | W8: =('Form Responses 1'!D4*'Form Responses 1'!K4)*(1-$B$1) -> 0.22356 | X8: =('Form Responses 1'!D4*'Form Responses 1'!K4)*(1+$B$1) -> 0.26244 | Y8: =AND('Form Responses 1'!M4>W8,'Form Responses 1'!M4<X8) -> TRUE | Z8: =IF(Y8=TRUE,1,0) -> 1 | AA8: =('Form Responses 1'!L4+'Form Responses 1'!M4)*(1-$B$1) -> 0.611616 | AB8: =('Form Responses 1'!L4+'Form Responses 1'!M4)*(1+$B$1) -> 0.717984 | AC8: =AND('Form Responses 1'!N4>AA8,'Form Responses 1'!N4<AB8) -> TRUE | AD8: =IF(AC8=TRUE,1,0) -> 1 | AE8: =('Form Responses 1'!N4/'Form Responses 1'!C4)*(1-$B$1) -> 3.059 | AF8: =('Form Responses 1'!N4/'Form Responses 1'!C4)*(1+$B$1) -> 3.591 | AG8: =AND('Form Responses 1'!O4>AE8,'Form Responses 1'!O4<AF8) -> TRUE | AH8: =IF(AG8=TRUE,1,0) -> 1 | AI8: 0 | AJ8: =IF('Form Responses 1'!P4=AI8,1,0) -> 1 | AK8: 0 | AL8: =IF('Form Responses 1'!Q4=AK8,1,0) -> 1
A9: ='Form Responses 1'!B5 -> Student 3 | B9: =SUM(F9,J9,N9,R9,V9,Z9,AD9,AH9,AJ9,AL9) -> 10 | C9: =SQRT((2*'Form Responses 1'!E5)/9.81)*(1-$B$1) -> 0.3940847 | D9: =SQRT((2*'Form Responses 1'!E5)/9.81)*(1+$B$1) -> 0.46262117 | E9: =AND('Form Responses 1'!H5>C9,'Form Responses 1'!H5<D9) -> TRUE | F9: =IF(E9=TRUE,1,0) -> 1 | G9: =('Form Responses 1'!F5/'Form Responses 1'!H5)*(1-$B$1) -> 0.8806911 | H9: =('Form Responses 1'!F5/'Form Responses 1'!H5)*(1+$B$1) -> 1.0338548 | I9: =AND('Form Responses 1'!I5>G9,'Form Responses 1'!I5<H9) -> TRUE | J9: =IF(I9=TRUE,1,0) -> 1 | K9: =SQRT((2*'Form Responses 1'!E5)/9.81)*(1-$B$1) -> 0.3940847 | L9: =SQRT((2*'Form Responses 1'!E5)/9.81)*(1+$B$1) -> 0.46262117 | M9: =AND('Form Responses 1'!J5>K9,'Form Responses 1'!J5<L9) -> TRUE | N9: =IF(M9=TRUE,1,0) -> 1 | O9: =('Form Responses 1'!G5/'Form Responses 1'!J5)*(1-$B$1) -> 2.3843101 | P9: =('Form Responses 1'!G5/'Form Responses 1'!J5)*(1+$B$1) -> 2.7989727 | Q9: =AND('Form Responses 1'!K5>O9,'Form Responses 1'!K5<P9) -> TRUE | R9: =IF(Q9=TRUE,1,0) -> 1 | S9: =('Form Responses 1'!C5*'Form Responses 1'!I5)*(1-$B$1) -> 0.13474955 | T9: =('Form Responses 1'!C5*'Form Responses 1'!I5)*(1+$B$1) -> 0.15818425 | U9: =AND('Form Responses 1'!L5>S9,'Form Responses 1'!L5<T9) -> TRUE | V9: =IF(U9=TRUE,1,0) -> 1 | W9: =('Form Responses 1'!D5*'Form Responses 1'!K5)*(1-$B$1) -> 0.3219264 | X9: =('Form Responses 1'!D5*'Form Responses 1'!K5)*(1+$B$1) -> 0.3779136 | Y9: =AND('Form Responses 1'!M5>W9,'Form Responses 1'!M5<X9) -> TRUE | Z9: =IF(Y9=TRUE,1,0) -> 1 | AA9: =('Form Responses 1'!L5+'Form Responses 1'!M5)*(1-$B$1) -> 0.45172 | AB9: =('Form Responses 1'!L5+'Form Responses 1'!M5)*(1+$B$1) -> 0.53028 | AC9: =AND('Form Responses 1'!N5>AA9,'Form Responses 1'!N5<AB9) -> TRUE | AD9: =IF(AC9=TRUE,1,0) -> 1 | AE9: =('Form Responses 1'!N5/'Form Responses 1'!C5)*(1-$B$1) -> 2.9524183 | AF9: =('Form Responses 1'!N5/'Form Responses 1'!C5)*(1+$B$1) -> 3.4658824 | AG9: =AND('Form Responses 1'!O5>AE9,'Form Responses 1'!O5<AF9) -> TRUE | AH9: =IF(AG9=TRUE,1,0) -> 1 | AI9: 0 | AJ9: =IF('Form Responses 1'!P5=AI9,1,0) -> 1 | AK9: 0 | AL9: =IF('Form Responses 1'!Q5=AK9,1,0) -> 1
A10: ='Form Responses 1'!B6 -> Student 4 | B10: =SUM(F10,J10,N10,R10,V10,Z10,AD10,AH10,AJ10,AL10) -> 10 | C10: =SQRT((2*'Form Responses 1'!E6)/9.81)*(1-$B$1) -> 0.35974847 | D10: =SQRT((2*'Form Responses 1'!E6)/9.81)*(1+$B$1) -> 0.42231342 | E10: =AND('Form Responses 1'!H6>C10,'Form Responses 1'!H6<D10) -> TRUE | F10: =IF(E10=TRUE,1,0) -> 1 | G10: =('Form Responses 1'!F6/'Form Responses 1'!H6)*(1-$B$1) -> 1.2235294 | H10: =('Form Responses 1'!F6/'Form Responses 1'!H6)*(1+$B$1) -> 1.4363171 | I10: =AND('Form Responses 1'!I6>G10,'Form Responses 1'!I6<H10) -> TRUE | J10: =IF(I10=TRUE,1,0) -> 1 | K10: =SQRT((2*'Form Responses 1'!E6)/9.81)*(1-$B$1) -> 0.35974847 | L10: =SQRT((2*'Form Responses 1'!E6)/9.81)*(1+$B$1) -> 0.42231342 | M10: =AND('Form Responses 1'!J6>K10,'Form Responses 1'!J6<L10) -> TRUE | N10: =IF(M10=TRUE,1,0) -> 1 | O10: =('Form Responses 1'!G6/'Form Responses 1'!J6)*(1-$B$1) -> 2.6352941 | P10: =('Form Responses 1'!G6/'Form Responses 1'!J6)*(1+$B$1) -> 3.0936061 | Q10: =AND('Form Responses 1'!K6>O10,'Form Responses 1'!K6<P10) -> TRUE | R10: =IF(Q10=TRUE,1,0) -> 1 | S10: =('Form Responses 1'!C6*'Form Responses 1'!I6)*(1-$B$1) -> 0.36291976 | T10: =('Form Responses 1'!C6*'Form Responses 1'!I6)*(1+$B$1) -> 0.42603624 | U10: =AND('Form Responses 1'!L6>S10,'Form Responses 1'!L6<T10) -> TRUE | V10: =IF(U10=TRUE,1,0) -> 1 | W10: =('Form Responses 1'!D6*'Form Responses 1'!K6)*(1-$B$1) -> 0.461104 | X10: =('Form Responses 1'!D6*'Form Responses 1'!K6)*(1+$B$1) -> 0.541296 | Y10: =AND('Form Responses 1'!M6>W10,'Form Responses 1'!M6<X10) -> TRUE | Z10: =IF(Y10=TRUE,1,0) -> 1 | AA10: =('Form Responses 1'!L6+'Form Responses 1'!M6)*(1-$B$1) -> 0.8234 | AB10: =('Form Responses 1'!L6+'Form Responses 1'!M6)*(1+$B$1) -> 0.9666 | AC10: =AND('Form Responses 1'!N6>AA10,'Form Responses 1'!N6<AB10) -> TRUE | AD10: =IF(AC10=TRUE,1,0) -> 1 | AE10: =('Form Responses 1'!N6/'Form Responses 1'!C6)*(1-$B$1) -> 2.7792313 | AF10: =('Form Responses 1'!N6/'Form Responses 1'!C6)*(1+$B$1) -> 3.2625759 | AG10: =AND('Form Responses 1'!O6>AE10,'Form Responses 1'!O6<AF10) -> TRUE | AH10: =IF(AG10=TRUE,1,0) -> 1 | AI10: 0 | AJ10: =IF('Form Responses 1'!P6=AI10,1,0) -> 1 | AK10: 0 | AL10: =IF('Form Responses 1'!Q6=AK10,1,0) -> 1
A11: ='Form Responses 1'!B7 -> Student 5 | B11: =SUM(F11,J11,N11,R11,V11,Z11,AD11,AH11,AJ11,AL11) -> 7 | C11: =SQRT((2*'Form Responses 1'!E7)/9.81)*(1-$B$1) -> 0.36213885 | D11: =SQRT((2*'Form Responses 1'!E7)/9.81)*(1+$B$1) -> 0.42511952 | E11: =AND('Form Responses 1'!H7>C11,'Form Responses 1'!H7<D11) -> TRUE | F11: =IF(E11=TRUE,1,0) -> 1 | G11: =('Form Responses 1'!F7/'Form Responses 1'!H7)*(1-$B$1) -> 0.47887179 | H11: =('Form Responses 1'!F7/'Form Responses 1'!H7)*(1+$B$1) -> 0.56215385 | I11: =AND('Form Responses 1'!I7>G11,'Form Responses 1'!I7<H11) -> TRUE | J11: =IF(I11=TRUE,1,0) -> 1 | K11: =SQRT((2*'Form Responses 1'!E7)/9.81)*(1-$B$1) -> 0.36213885 | L11: =SQRT((2*'Form Responses 1'!E7)/9.81)*(1+$B$1) -> 0.42511952 | M11: =AND('Form Responses 1'!J7>K11,'Form Responses 1'!J7<L11) -> TRUE | N11: =IF(M11=TRUE,1,0) -> 1 | O11: =('Form Responses 1'!G7/'Form Responses 1'!J7)*(1-$B$1) -> 1.745641 | P11: =('Form Responses 1'!G7/'Form Responses 1'!J7)*(1+$B$1) -> 2.0492308 | Q11: =AND('Form Responses 1'!K7>O11,'Form Responses 1'!K7<P11) -> TRUE | R11: =IF(Q11=TRUE,1,0) -> 1 | S11: =('Form Responses 1'!C7*'Form Responses 1'!I7)*(1-$B$1) -> 0.16744 | T11: =('Form Responses 1'!C7*'Form Responses 1'!I7)*(1+$B$1) -> 0.19656 | U11: =AND('Form Responses 1'!L7>S11,'Form Responses 1'!L7<T11) -> FALSE | V11: =IF(U11=TRUE,1,0) -> 0 | W11: =('Form Responses 1'!D7*'Form Responses 1'!K7)*(1-$B$1) -> 0.204516 | X11: =('Form Responses 1'!D7*'Form Responses 1'!K7)*(1+$B$1) -> 0.240084 | Y11: =AND('Form Responses 1'!M7>W11,'Form Responses 1'!M7<X11) -> TRUE | Z11: =IF(Y11=TRUE,1,0) -> 1 | AA11: =('Form Responses 1'!L7+'Form Responses 1'!M7)*(1-$B$1) -> 0.21896 | AB11: =('Form Responses 1'!L7+'Form Responses 1'!M7)*(1+$B$1) -> 0.25704 | AC11: =AND('Form Responses 1'!N7>AA11,'Form Responses 1'!N7<AB11) -> FALSE | AD11: =IF(AC11=TRUE,1,0) -> 0 | AE11: =('Form Responses 1'!N7/'Form Responses 1'!C7)*(1-$B$1) -> 0.047314286 | AF11: =('Form Responses 1'!N7/'Form Responses 1'!C7)*(1+$B$1) -> 0.055542857 | AG11: =AND('Form Responses 1'!O7>AE11,'Form Responses 1'!O7<AF11) -> FALSE | AH11: =IF(AG11=TRUE,1,0) -> 0 | AI11: 0 | AJ11: =IF('Form Responses 1'!P7=AI11,1,0) -> 1 | AK11: 0 | AL11: =IF('Form Responses 1'!Q7=AK11,1,0) -> 1
A12: ='Form Responses 1'!B8 -> Student 6 | B12: =SUM(F12,J12,N12,R12,V12,Z12,AD12,AH12,AJ12,AL12) -> 10 | C12: =SQRT((2*'Form Responses 1'!E8)/9.81)*(1-$B$1) -> 0.36261504 | D12: =SQRT((2*'Form Responses 1'!E8)/9.81)*(1+$B$1) -> 0.42567852 | E12: =AND('Form Responses 1'!H8>C12,'Form Responses 1'!H8<D12) -> TRUE | F12: =IF(E12=TRUE,1,0) -> 1 | G12: =('Form Responses 1'!F8/'Form Responses 1'!H8)*(1-$B$1) -> 1.3636165 | H12: =('Form Responses 1'!F8/'Form Responses 1'!H8)*(1+$B$1) -> 1.6007672 | I12: =AND('Form Responses 1'!I8>G12,'Form Responses 1'!I8<H12) -> TRUE | J12: =IF(I12=TRUE,1,0) -> 1 | K12: =SQRT((2*'Form Responses 1'!E8)/9.81)*(1-$B$1) -> 0.36261504 | L12: =SQRT((2*'Form Responses 1'!E8)/9.81)*(1+$B$1) -> 0.42567852 | M12: =AND('Form Responses 1'!J8>K12,'Form Responses 1'!J8<L12) -> TRUE | N12: =IF(M12=TRUE,1,0) -> 1 | O12: =('Form Responses 1'!G8/'Form Responses 1'!J8)*(1-$B$1) -> 2.8341376 | P12: =('Form Responses 1'!G8/'Form Responses 1'!J8)*(1+$B$1) -> 3.3270311 | Q12: =AND('Form Responses 1'!K8>O12,'Form Responses 1'!K8<P12) -> TRUE | R12: =IF(Q12=TRUE,1,0) -> 1 | S12: =('Form Responses 1'!C8*'Form Responses 1'!I8)*(1-$B$1) -> 0.078680043 | T12: =('Form Responses 1'!C8*'Form Responses 1'!I8)*(1+$B$1) -> 0.092363529 | U12: =AND('Form Responses 1'!L8>S12,'Form Responses 1'!L8<T12) -> TRUE | V12: =IF(U12=TRUE,1,0) -> 1 | W12: =('Form Responses 1'!D8*'Form Responses 1'!K8)*(1-$B$1) -> 0.039677742 | X12: =('Form Responses 1'!D8*'Form Responses 1'!K8)*(1+$B$1) -> 0.046578218 | Y12: =AND('Form Responses 1'!M8>W12,'Form Responses 1'!M8<X12) -> TRUE | Z12: =IF(Y12=TRUE,1,0) -> 1 | AA12: =('Form Responses 1'!L8+'Form Responses 1'!M8)*(1-$B$1) -> 0.11808016 | AB12: =('Form Responses 1'!L8+'Form Responses 1'!M8)*(1+$B$1) -> 0.13861584 | AC12: =AND('Form Responses 1'!N8>AA12,'Form Responses 1'!N8<AB12) -> TRUE | AD12: =IF(AC12=TRUE,1,0) -> 1 | AE12: =('Form Responses 1'!N8/'Form Responses 1'!C8)*(1-$B$1) -> 2.0512715 | AF12: =('Form Responses 1'!N8/'Form Responses 1'!C8)*(1+$B$1) -> 2.4080144 | AG12: =AND('Form Responses 1'!O8>AE12,'Form Responses 1'!O8<AF12) -> TRUE | AH12: =IF(AG12=TRUE,1,0) -> 1 | AI12: 0 | AJ12: =IF('Form Responses 1'!P8=AI12,1,0) -> 1 | AK12: 0 | AL12: =IF('Form Responses 1'!Q8=AK12,1,0) -> 1
A13: ='Form Responses 1'!B9 -> Student 7 | B13: =SUM(F13,J13,N13,R13,V13,Z13,AD13,AH13,AJ13,AL13) -> 8 | C13: =SQRT((2*'Form Responses 1'!E9)/9.81)*(1-$B$1) -> 0.36851544 | D13: =SQRT((2*'Form Responses 1'!E9)/9.81)*(1+$B$1) -> 0.43260508 | E13: =AND('Form Responses 1'!H9>C13,'Form Responses 1'!H9<D13) -> TRUE | F13: =IF(E13=TRUE,1,0) -> 1 | G13: =('Form Responses 1'!F9/'Form Responses 1'!H9)*(1-$B$1) -> 2.6289 | H13: =('Form Responses 1'!F9/'Form Responses 1'!H9)*(1+$B$1) -> 3.0861 | I13: =AND('Form Responses 1'!I9>G13,'Form Responses 1'!I9<H13) -> TRUE | J13: =IF(I13=TRUE,1,0) -> 1 | K13: =SQRT((2*'Form Responses 1'!E9)/9.81)*(1-$B$1) -> 0.36851544 | L13: =SQRT((2*'Form Responses 1'!E9)/9.81)*(1+$B$1) -> 0.43260508 | M13: =AND('Form Responses 1'!J9>K13,'Form Responses 1'!J9<L13) -> TRUE | N13: =IF(M13=TRUE,1,0) -> 1 | O13: =('Form Responses 1'!G9/'Form Responses 1'!J9)*(1-$B$1) -> 3.358 | P13: =('Form Responses 1'!G9/'Form Responses 1'!J9)*(1+$B$1) -> 3.942 | Q13: =AND('Form Responses 1'!K9>O13,'Form Responses 1'!K9<P13) -> TRUE | R13: =IF(Q13=TRUE,1,0) -> 1 | S13: =('Form Responses 1'!C9*'Form Responses 1'!I9)*(1-$B$1) -> 0.31464 | T13: =('Form Responses 1'!C9*'Form Responses 1'!I9)*(1+$B$1) -> 0.36936 | U13: =AND('Form Responses 1'!L9>S13,'Form Responses 1'!L9<T13) -> TRUE | V13: =IF(U13=TRUE,1,0) -> 1 | W13: =('Form Responses 1'!D9*'Form Responses 1'!K9)*(1-$B$1) -> 0.3358 | X13: =('Form Responses 1'!D9*'Form Responses 1'!K9)*(1+$B$1) -> 0.3942 | Y13: =AND('Form Responses 1'!M9>W13,'Form Responses 1'!M9<X13) -> TRUE | Z13: =IF(Y13=TRUE,1,0) -> 1 | AA13: =('Form Responses 1'!L9+'Form Responses 1'!M9)*(1-$B$1) -> 0.63204 | AB13: =('Form Responses 1'!L9+'Form Responses 1'!M9)*(1+$B$1) -> 0.74196 | AC13: =AND('Form Responses 1'!N9>AA13,'Form Responses 1'!N9<AB13) -> FALSE | AD13: =IF(AC13=TRUE,1,0) -> 0 | AE13: =('Form Responses 1'!N9/'Form Responses 1'!C9)*(1-$B$1) -> 2.622 | AF13: =('Form Responses 1'!N9/'Form Responses 1'!C9)*(1+$B$1) -> 3.078 | AG13: =AND('Form Responses 1'!O9>AE13,'Form Responses 1'!O9<AF13) -> FALSE | AH13: =IF(AG13=TRUE,1,0) -> 0 | AI13: 0 | AJ13: =IF('Form Responses 1'!P9=AI13,1,0) -> 1 | AK13: 0 | AL13: =IF('Form Responses 1'!Q9=AK13,1,0) -> 1
A14: ='Form Responses 1'!B10 -> Student 8 | B14: =SUM(F14,J14,N14,R14,V14,Z14,AD14,AH14,AJ14,AL14) -> 10 | C14: =SQRT((2*'Form Responses 1'!E10)/9.81)*(1-$B$1) -> 0.36261504 | D14: =SQRT((2*'Form Responses 1'!E10)/9.81)*(1+$B$1) -> 0.42567852 | E14: =AND('Form Responses 1'!H10>C14,'Form Responses 1'!H10<D14) -> TRUE | F14: =IF(E14=TRUE,1,0) -> 1 | G14: =('Form Responses 1'!F10/'Form Responses 1'!H10)*(1-$B$1) -> 0.56040609 | H14: =('Form Responses 1'!F10/'Form Responses 1'!H10)*(1+$B$1) -> 0.65786802 | I14: =AND('Form Responses 1'!I10>G14,'Form Responses 1'!I10<H14) -> TRUE | J14: =IF(I14=TRUE,1,0) -> 1 | K14: =SQRT((2*'Form Responses 1'!E10)/9.81)*(1-$B$1) -> 0.36261504 | L14: =SQRT((2*'Form Responses 1'!E10)/9.81)*(1+$B$1) -> 0.42567852 | M14: =AND('Form Responses 1'!J10>K14,'Form Responses 1'!J10<L14) -> TRUE | N14: =IF(M14=TRUE,1,0) -> 1 | O14: =('Form Responses 1'!G10/'Form Responses 1'!J10)*(1-$B$1) -> 1.7792893 | P14: =('Form Responses 1'!G10/'Form Responses 1'!J10)*(1+$B$1) -> 2.088731 | Q14: =AND('Form Responses 1'!K10>O14,'Form Responses 1'!K10<P14) -> TRUE | R14: =IF(Q14=TRUE,1,0) -> 1 | S14: =('Form Responses 1'!C10*'Form Responses 1'!I10)*(1-$B$1) -> 0.07955976 | T14: =('Form Responses 1'!C10*'Form Responses 1'!I10)*(1+$B$1) -> 0.09339624 | U14: =AND('Form Responses 1'!L10>S14,'Form Responses 1'!L10<T14) -> TRUE | V14: =IF(U14=TRUE,1,0) -> 1 | W14: =('Form Responses 1'!D10*'Form Responses 1'!K10)*(1-$B$1) -> 0.1207408 | X14: =('Form Responses 1'!D10*'Form Responses 1'!K10)*(1+$B$1) -> 0.1417392 | Y14: =AND('Form Responses 1'!M10>W14,'Form Responses 1'!M10<X14) -> TRUE | Z14: =IF(Y14=TRUE,1,0) -> 1 | AA14: =('Form Responses 1'!L10+'Form Responses 1'!M10)*(1-$B$1) -> 0.19872 | AB14: =('Form Responses 1'!L10+'Form Responses 1'!M10)*(1+$B$1) -> 0.23328 | AC14: =AND('Form Responses 1'!N10>AA14,'Form Responses 1'!N10<AB14) -> TRUE | AD14: =IF(AC14=TRUE,1,0) -> 1 | AE14: =('Form Responses 1'!N10/'Form Responses 1'!C10)*(1-$B$1) -> 1.3994366 | AF14: =('Form Responses 1'!N10/'Form Responses 1'!C10)*(1+$B$1) -> 1.6428169 | AG14: =AND('Form Responses 1'!O10>AE14,'Form Responses 1'!O10<AF14) -> TRUE | AH14: =IF(AG14=TRUE,1,0) -> 1 | AI14: 0 | AJ14: =IF('Form Responses 1'!P10=AI14,1,0) -> 1 | AK14: 0 | AL14: =IF('Form Responses 1'!Q10=AK14,1,0) -> 1
A15: ='Form Responses 1'!B11 -> Student 9 | B15: =SUM(F15,J15,N15,R15,V15,Z15,AD15,AH15,AJ15,AL15) -> 9 | C15: =SQRT((2*'Form Responses 1'!E11)/9.81)*(1-$B$1) -> 0.33619324 | D15: =SQRT((2*'Form Responses 1'!E11)/9.81)*(1+$B$1) -> 0.39466162 | E15: =AND('Form Responses 1'!H11>C15,'Form Responses 1'!H11<D15) -> TRUE | F15: =IF(E15=TRUE,1,0) -> 1 | G15: =('Form Responses 1'!F11/'Form Responses 1'!H11)*(1-$B$1) -> 1.8778082 | H15: =('Form Responses 1'!F11/'Form Responses 1'!H11)*(1+$B$1) -> 2.2043836 | I15: =AND('Form Responses 1'!I11>G15,'Form Responses 1'!I11<H15) -> TRUE | J15: =IF(I15=TRUE,1,0) -> 1 | K15: =SQRT((2*'Form Responses 1'!E11)/9.81)*(1-$B$1) -> 0.33619324 | L15: =SQRT((2*'Form Responses 1'!E11)/9.81)*(1+$B$1) -> 0.39466162 | M15: =AND('Form Responses 1'!J11>K15,'Form Responses 1'!J11<L15) -> TRUE | N15: =IF(M15=TRUE,1,0) -> 1 | O15: =('Form Responses 1'!G11/'Form Responses 1'!J11)*(1-$B$1) -> 5.8728767 | P15: =('Form Responses 1'!G11/'Form Responses 1'!J11)*(1+$B$1) -> 6.8942466 | Q15: =AND('Form Responses 1'!K11>O15,'Form Responses 1'!K11<P15) -> TRUE | R15: =IF(Q15=TRUE,1,0) -> 1 | S15: =('Form Responses 1'!C11*'Form Responses 1'!I11)*(1-$B$1) -> 0.037536 | T15: =('Form Responses 1'!C11*'Form Responses 1'!I11)*(1+$B$1) -> 0.044064 | U15: =AND('Form Responses 1'!L11>S15,'Form Responses 1'!L11<T15) -> TRUE | V15: =IF(U15=TRUE,1,0) -> 1 | W15: =('Form Responses 1'!D11*'Form Responses 1'!K11)*(1-$B$1) -> 0.33435744 | X15: =('Form Responses 1'!D11*'Form Responses 1'!K11)*(1+$B$1) -> 0.39250656 | Y15: =AND('Form Responses 1'!M11>W15,'Form Responses 1'!M11<X15) -> TRUE | Z15: =IF(Y15=TRUE,1,0) -> 1 | AA15: =('Form Responses 1'!L11+'Form Responses 1'!M11)*(1-$B$1) -> 0.371496 | AB15: =('Form Responses 1'!L11+'Form Responses 1'!M11)*(1+$B$1) -> 0.436104 | AC15: =AND('Form Responses 1'!N11>AA15,'Form Responses 1'!N11<AB15) -> TRUE | AD15: =IF(AC15=TRUE,1,0) -> 1 | AE15: =('Form Responses 1'!N11/'Form Responses 1'!C11)*(1-$B$1) -> 18.584 | AF15: =('Form Responses 1'!N11/'Form Responses 1'!C11)*(1+$B$1) -> 21.816 | AG15: =AND('Form Responses 1'!O11>AE15,'Form Responses 1'!O11<AF15) -> FALSE | AH15: =IF(AG15=TRUE,1,0) -> 0 | AI15: 0 | AJ15: =IF('Form Responses 1'!P11=AI15,1,0) -> 1 | AK15: 0 | AL15: =IF('Form Responses 1'!Q11=AK15,1,0) -> 1
A16: ='Form Responses 1'!B12 -> Student 10 | B16: =SUM(F16,J16,N16,R16,V16,Z16,AD16,AH16,AJ16,AL16) -> 7 | C16: =SQRT((2*'Form Responses 1'!E12)/9.81)*(1-$B$1) -> 0.27554635 | D16: =SQRT((2*'Form Responses 1'!E12)/9.81)*(1+$B$1) -> 0.32346745 | E16: =AND('Form Responses 1'!H12>C16,'Form Responses 1'!H12<D16) -> FALSE | F16: =IF(E16=TRUE,1,0) -> 0 | G16: =('Form Responses 1'!F12/'Form Responses 1'!H12)*(1-$B$1) -> 2.7058824 | H16: =('Form Responses 1'!F12/'Form Responses 1'!H12)*(1+$B$1) -> 3.1764706 | I16: =AND('Form Responses 1'!I12>G16,'Form Responses 1'!I12<H16) -> TRUE | J16: =IF(I16=TRUE,1,0) -> 1 | K16: =SQRT((2*'Form Responses 1'!E12)/9.81)*(1-$B$1) -> 0.27554635 | L16: =SQRT((2*'Form Responses 1'!E12)/9.81)*(1+$B$1) -> 0.32346745 | M16: =AND('Form Responses 1'!J12>K16,'Form Responses 1'!J12<L16) -> FALSE | N16: =IF(M16=TRUE,1,0) -> 0 | O16: =('Form Responses 1'!G12/'Form Responses 1'!J12)*(1-$B$1) -> 2.7128205 | P16: =('Form Responses 1'!G12/'Form Responses 1'!J12)*(1+$B$1) -> 3.1846154 | Q16: =AND('Form Responses 1'!K12>O16,'Form Responses 1'!K12<P16) -> TRUE | R16: =IF(Q16=TRUE,1,0) -> 1 | S16: =('Form Responses 1'!C12*'Form Responses 1'!I12)*(1-$B$1) -> 3.678528 | T16: =('Form Responses 1'!C12*'Form Responses 1'!I12)*(1+$B$1) -> 4.318272 | U16: =AND('Form Responses 1'!L12>S16,'Form Responses 1'!L12<T16) -> TRUE | V16: =IF(U16=TRUE,1,0) -> 1 | W16: =('Form Responses 1'!D12*'Form Responses 1'!K12)*(1-$B$1) -> 6.139896 | X16: =('Form Responses 1'!D12*'Form Responses 1'!K12)*(1+$B$1) -> 7.207704 | Y16: =AND('Form Responses 1'!M12>W16,'Form Responses 1'!M12<X16) -> TRUE | Z16: =IF(Y16=TRUE,1,0) -> 1 | AA16: =('Form Responses 1'!L12+'Form Responses 1'!M12)*(1-$B$1) -> 9.8164 | AB16: =('Form Responses 1'!L12+'Form Responses 1'!M12)*(1+$B$1) -> 11.5236 | AC16: =AND('Form Responses 1'!N12>AA16,'Form Responses 1'!N12<AB16) -> FALSE | AD16: =IF(AC16=TRUE,1,0) -> 0 | AE16: =('Form Responses 1'!N12/'Form Responses 1'!C12)*(1-$B$1) -> 2.7058824 | AF16: =('Form Responses 1'!N12/'Form Responses 1'!C12)*(1+$B$1) -> 3.1764706 | AG16: =AND('Form Responses 1'!O12>AE16,'Form Responses 1'!O12<AF16) -> TRUE | AH16: =IF(AG16=TRUE,1,0) -> 1 | AI16: 0 | AJ16: =IF('Form Responses 1'!P12=AI16,1,0) -> 1 | AK16: 0 | AL16: =IF('Form Responses 1'!Q12=AK16,1,0) -> 1
A17: ='Form Responses 1'!B13 -> Student 11 | B17: =SUM(F17,J17,N17,R17,V17,Z17,AD17,AH17,AJ17,AL17) -> 6 | C17: =SQRT((2*'Form Responses 1'!E13)/9.81)*(1-$B$1) -> 0.391669 | D17: =SQRT((2*'Form Responses 1'!E13)/9.81)*(1+$B$1) -> 0.45978535 | E17: =AND('Form Responses 1'!H13>C17,'Form Responses 1'!H13<D17) -> TRUE | F17: =IF(E17=TRUE,1,0) -> 1 | G17: =('Form Responses 1'!F13/'Form Responses 1'!H13)*(1-$B$1) -> 1.5365751 | H17: =('Form Responses 1'!F13/'Form Responses 1'!H13)*(1+$B$1) -> 1.8038055 | I17: =AND('Form Responses 1'!I13>G17,'Form Responses 1'!I13<H17) -> FALSE | J17: =IF(I17=TRUE,1,0) -> 0 | K17: =SQRT((2*'Form Responses 1'!E13)/9.81)*(1-$B$1) -> 0.391669 | L17: =SQRT((2*'Form Responses 1'!E13)/9.81)*(1+$B$1) -> 0.45978535 | M17: =AND('Form Responses 1'!J13>K17,'Form Responses 1'!J13<L17) -> TRUE | N17: =IF(M17=TRUE,1,0) -> 1 | O17: =('Form Responses 1'!G13/'Form Responses 1'!J13)*(1-$B$1) -> 5.3790933 | P17: =('Form Responses 1'!G13/'Form Responses 1'!J13)*(1+$B$1) -> 6.3145877 | Q17: =AND('Form Responses 1'!K13>O17,'Form Responses 1'!K13<P17) -> FALSE | R17: =IF(Q17=TRUE,1,0) -> 0 | S17: =('Form Responses 1'!C13*'Form Responses 1'!I13)*(1-$B$1) -> 0.07519068 | T17: =('Form Responses 1'!C13*'Form Responses 1'!I13)*(1+$B$1) -> 0.08826732 | U17: =AND('Form Responses 1'!L13>S17,'Form Responses 1'!L13<T17) -> TRUE | V17: =IF(U17=TRUE,1,0) -> 1 | W17: =('Form Responses 1'!D13*'Form Responses 1'!K13)*(1-$B$1) -> 0.01363992 | X17: =('Form Responses 1'!D13*'Form Responses 1'!K13)*(1+$B$1) -> 0.01601208 | Y17: =AND('Form Responses 1'!M13>W17,'Form Responses 1'!M13<X17) -> TRUE | Z17: =IF(Y17=TRUE,1,0) -> 1 | AA17: =('Form Responses 1'!L13+'Form Responses 1'!M13)*(1-$B$1) -> 0.08880392 | AB17: =('Form Responses 1'!L13+'Form Responses 1'!M13)*(1+$B$1) -> 0.10424808 | AC17: =AND('Form Responses 1'!N13>AA17,'Form Responses 1'!N13<AB17) -> FALSE | AD17: =IF(AC17=TRUE,1,0) -> 0 | AE17: =('Form Responses 1'!N13/'Form Responses 1'!C13)*(1-$B$1) -> 3.2898519 | AF17: =('Form Responses 1'!N13/'Form Responses 1'!C13)*(1+$B$1) -> 3.862 | AG17: =AND('Form Responses 1'!O13>AE17,'Form Responses 1'!O13<AF17) -> FALSE | AH17: =IF(AG17=TRUE,1,0) -> 0 | AI17: 0 | AJ17: =IF('Form Responses 1'!P13=AI17,1,0) -> 1 | AK17: 0 | AL17: =IF('Form Responses 1'!Q13=AK17,1,0) -> 1
... A31: ='Form Responses 1'!B27 -> 0 | B31: =SUM(F31,J31,N31,R31,V31,Z31,AD31,AH31,AJ31,AL31) -> #DIV/0! | C31: =SQRT((2*'Form Responses 1'!E27)/9.81)*(1-$B$1) -> 0 | D31: =SQRT((2*'Form Responses 1'!E27)/9.81)*(1+$B$1) -> 0 | E31: =AND('Form Responses 1'!H27>C31,'Form Responses 1'!H27<D31) -> FALSE | F31: =IF(E31=TRUE,1,0) -> 0 | G31: =('Form Responses 1'!F27/'Form Responses 1'!H27)*(1-$B$1) -> #DIV/0! | H31: =('Form Responses 1'!F27/'Form Responses 1'!H27)*(1+$B$1) -> #DIV/0! | I31: =AND('Form Responses 1'!I27>G31,'Form Responses 1'!I27<H31) -> #DIV/0! | J31: =IF(I31=TRUE,1,0) -> #DIV/0! | K31: =SQRT((2*'Form Responses 1'!E27)/9.81)*(1-$B$1) -> 0 | L31: =SQRT((2*'Form Responses 1'!E27)/9.81)*(1+$B$1) -> 0 | M31: =AND('Form Responses 1'!J27>K31,'Form Responses 1'!J27<L31) -> FALSE | N31: =IF(M31=TRUE,1,0) -> 0 | O31: =('Form Responses 1'!G27/'Form Responses 1'!J27)*(1-$B$1) -> #DIV/0! | P31: =('Form Responses 1'!G27/'Form Responses 1'!J27)*(1+$B$1) -> #DIV/0! | Q31: =AND('Form Responses 1'!K27>O31,'Form Responses 1'!K27<P31) -> #DIV/0! | R31: =IF(Q31=TRUE,1,0) -> #DIV/0! | S31: =('Form Responses 1'!C27*'Form Responses 1'!I27)*(1-$B$1) -> 0 | T31: =('Form Responses 1'!C27*'Form Responses 1'!I27)*(1+$B$1) -> 0 | U31: =AND('Form Responses 1'!L27>S31,'Form Responses 1'!L27<T31) -> FALSE | V31: =IF(U31=TRUE,1,0) -> 0 | W31: =('Form Responses 1'!D27*'Form Responses 1'!K27)*(1-$B$1) -> 0 | X31: =('Form Responses 1'!D27*'Form Responses 1'!K27)*(1+$B$1) -> 0 | Y31: =AND('Form Responses 1'!M27>W31,'Form Responses 1'!M27<X31) -> FALSE | Z31: =IF(Y31=TRUE,1,0) -> 0 | AA31: =('Form Responses 1'!L27+'Form Responses 1'!M27)*(1-$B$1) -> 0 | AB31: =('Form Responses 1'!L27+'Form Responses 1'!M27)*(1+$B$1) -> 0 | AC31: =AND('Form Responses 1'!N27>AA31,'Form Responses 1'!N27<AB31) -> FALSE | AD31: =IF(AC31=TRUE,1,0) -> 0 | AE31: =('Form Responses 1'!N27/'Form Responses 1'!C27)*(1-$B$1) -> #DIV/0! | AF31: =('Form Responses 1'!N27/'Form Responses 1'!C27)*(1+$B$1) -> #DIV/0! | AG31: =AND('Form Responses 1'!O27>AE31,'Form Responses 1'!O27<AF31) -> #DIV/0! | AH31: =IF(AG31=TRUE,1,0) -> #DIV/0! | AI31: 0 | AJ31: =IF('Form Responses 1'!P27=AI31,1,0) -> 1 | AK31: 0 | AL31: =IF('Form Responses 1'!Q27=AK31,1,0) -> 1
A32: ='Form Responses 1'!B29 -> 0 | B32: =SUM(F32,J32,N32,R32,V32,Z32,AD32,AH32,AJ32,AL32) -> #DIV/0! | C32: =SQRT((2*'Form Responses 1'!E29)/9.81)*(1-$B$1) -> 0 | D32: =SQRT((2*'Form Responses 1'!E29)/9.81)*(1+$B$1) -> 0 | E32: =AND('Form Responses 1'!H29>C32,'Form Responses 1'!H29<D32) -> FALSE | F32: =IF(E32=TRUE,1,0) -> 0 | G32: =('Form Responses 1'!F29/'Form Responses 1'!H29)*(1-$B$1) -> #DIV/0! | H32: =('Form Responses 1'!F29/'Form Responses 1'!H29)*(1+$B$1) -> #DIV/0! | I32: =AND('Form Responses 1'!I29>G32,'Form Responses 1'!I29<H32) -> #DIV/0! | J32: =IF(I32=TRUE,1,0) -> #DIV/0! | K32: =SQRT((2*'Form Responses 1'!E29)/9.81)*(1-$B$1) -> 0 | L32: =SQRT((2*'Form Responses 1'!E29)/9.81)*(1+$B$1) -> 0 | M32: =AND('Form Responses 1'!J29>K32,'Form Responses 1'!J29<L32) -> FALSE | N32: =IF(M32=TRUE,1,0) -> 0 | O32: =('Form Responses 1'!G29/'Form Responses 1'!J29)*(1-$B$1) -> #DIV/0! | P32: =('Form Responses 1'!G29/'Form Responses 1'!J29)*(1+$B$1) -> #DIV/0! | Q32: =AND('Form Responses 1'!K29>O32,'Form Responses 1'!K29<P32) -> #DIV/0! | R32: =IF(Q32=TRUE,1,0) -> #DIV/0! | S32: =('Form Responses 1'!C29*'Form Responses 1'!I29)*(1-$B$1) -> 0 | T32: =('Form Responses 1'!C29*'Form Responses 1'!I29)*(1+$B$1) -> 0 | U32: =AND('Form Responses 1'!L29>S32,'Form Responses 1'!L29<T32) -> FALSE | V32: =IF(U32=TRUE,1,0) -> 0 | W32: =('Form Responses 1'!D29*'Form Responses 1'!K29)*(1-$B$1) -> 0 | X32: =('Form Responses 1'!D29*'Form Responses 1'!K29)*(1+$B$1) -> 0 | Y32: =AND('Form Responses 1'!M29>W32,'Form Responses 1'!M29<X32) -> FALSE | Z32: =IF(Y32=TRUE,1,0) -> 0 | AA32: =('Form Responses 1'!L29+'Form Responses 1'!M29)*(1-$B$1) -> 0 | AB32: =('Form Responses 1'!L29+'Form Responses 1'!M29)*(1+$B$1) -> 0 | AC32: =AND('Form Responses 1'!N29>AA32,'Form Responses 1'!N29<AB32) -> FALSE | AD32: =IF(AC32=TRUE,1,0) -> 0 | AE32: =('Form Responses 1'!N29/'Form Responses 1'!C29)*(1-$B$1) -> #DIV/0! | AF32: =('Form Responses 1'!N29/'Form Responses 1'!C29)*(1+$B$1) -> #DIV/0! | AG32: =AND('Form Responses 1'!O29>AE32,'Form Responses 1'!O29<AF32) -> #DIV/0! | AH32: =IF(AG32=TRUE,1,0) -> #DIV/0! | AI32: 0 | AJ32: =IF('Form Responses 1'!P29=AI32,1,0) -> 1 | AK32: 0 | AL32: =IF('Form Responses 1'!Q29=AK32,1,0) -> 1
A33: ='Form Responses 1'!B30 -> 0 | B33: =SUM(F33,J33,N33,R33,V33,Z33,AD33,AH33,AJ33,AL33) -> #DIV/0! | C33: =SQRT((2*'Form Responses 1'!E30)/9.81)*(1-$B$1) -> 0 | D33: =SQRT((2*'Form Responses 1'!E30)/9.81)*(1+$B$1) -> 0 | E33: =AND('Form Responses 1'!H30>C33,'Form Responses 1'!H30<D33) -> FALSE | F33: =IF(E33=TRUE,1,0) -> 0 | G33: =('Form Responses 1'!F30/'Form Responses 1'!H30)*(1-$B$1) -> #DIV/0! | H33: =('Form Responses 1'!F30/'Form Responses 1'!H30)*(1+$B$1) -> #DIV/0! | I33: =AND('Form Responses 1'!I30>G33,'Form Responses 1'!I30<H33) -> #DIV/0! | J33: =IF(I33=TRUE,1,0) -> #DIV/0! | K33: =SQRT((2*'Form Responses 1'!E30)/9.81)*(1-$B$1) -> 0 | L33: =SQRT((2*'Form Responses 1'!E30)/9.81)*(1+$B$1) -> 0 | M33: =AND('Form Responses 1'!J30>K33,'Form Responses 1'!J30<L33) -> FALSE | N33: =IF(M33=TRUE,1,0) -> 0 | O33: =('Form Responses 1'!G30/'Form Responses 1'!J30)*(1-$B$1) -> #DIV/0! | P33: =('Form Responses 1'!G30/'Form Responses 1'!J30)*(1+$B$1) -> #DIV/0! | Q33: =AND('Form Responses 1'!K30>O33,'Form Responses 1'!K30<P33) -> #DIV/0! | R33: =IF(Q33=TRUE,1,0) -> #DIV/0! | S33: =('Form Responses 1'!C30*'Form Responses 1'!I30)*(1-$B$1) -> 0 | T33: =('Form Responses 1'!C30*'Form Responses 1'!I30)*(1+$B$1) -> 0 | U33: =AND('Form Responses 1'!L30>S33,'Form Responses 1'!L30<T33) -> FALSE | V33: =IF(U33=TRUE,1,0) -> 0 | W33: =('Form Responses 1'!D30*'Form Responses 1'!K30)*(1-$B$1) -> 0 | X33: =('Form Responses 1'!D30*'Form Responses 1'!K30)*(1+$B$1) -> 0 | Y33: =AND('Form Responses 1'!M30>W33,'Form Responses 1'!M30<X33) -> FALSE | Z33: =IF(Y33=TRUE,1,0) -> 0 | AA33: =('Form Responses 1'!L30+'Form Responses 1'!M30)*(1-$B$1) -> 0 | AB33: =('Form Responses 1'!L30+'Form Responses 1'!M30)*(1+$B$1) -> 0 | AC33: =AND('Form Responses 1'!N30>AA33,'Form Responses 1'!N30<AB33) -> FALSE | AD33: =IF(AC33=TRUE,1,0) -> 0 | AE33: =('Form Responses 1'!N30/'Form Responses 1'!C30)*(1-$B$1) -> #DIV/0! | AF33: =('Form Responses 1'!N30/'Form Responses 1'!C30)*(1+$B$1) -> #DIV/0! | AG33: =AND('Form Responses 1'!O30>AE33,'Form Responses 1'!O30<AF33) -> #DIV/0! | AH33: =IF(AG33=TRUE,1,0) -> #DIV/0! | AI33: 0 | AJ33: =IF('Form Responses 1'!P30=AI33,1,0) -> 1 | AK33: 0 | AL33: =IF('Form Responses 1'!Q30=AK33,1,0) -> 1
