Workbook

Sheet Data
A1: Timestamp | B1: Email Address | C1: Q1: What is your initial height, hi, in meters? | D1: Q2: What is your final height, hf, in meters? | E1: Q3: What is your mass, m, in kilograms? | F1: Q4: What is your initial potential energy, Epi, in Joules? | G1: Q5: What is your final potential energy, Epf, in Joules? | H1: Q6: What is your Energy Efficiency, as a percentage?
A2: 44211.472 | B2: mbayer@clearview.ab.ca | C2: 1.2 | D2: 0.85 | E2: 0.05 | F2: 0.5886 | G2: 0.416925 | H2: 70.83
A3: 44212.518 | B3: mbayer@clearview.ab.ca | C3: 1.6 | D3: 0.43 | E3: 0.65 | F3: 10.2 | G3: 5.1 | H3: 50

Sheet Marking
A1: SPEC | B1: 0.05
C4: Epi | G4: Epf | K4: Eff(%)
A5: Name | B5: Mark /3 | C5: Low SPEC | D5: High SPEC | E5: In SPEC? | F5: Mark | G5: Low SPEC | H5: High SPEC | I5: In SPEC? | J5: Mark | K5: Low SPEC | L5: High SPEC | M5: In SPEC? | N5: Mark
A6: =Data!B2 -> mbayer@clearview.ab.ca | B6: =SUM(F6+J6+N6) -> 3 | C6: =(Data!E2*9.81*Data!C2)*(1-$B$1) -> 0.55917 | D6: =(Data!E2*9.81*Data!C2)*(1+$B$1) -> 0.61803 | E6: =AND(Data!F2>C6,Data!F2<D6) -> TRUE | F6: =IF(E6=TRUE,1,0) -> 1 | G6: =(Data!E2*9.81*Data!D2)*(1-$B$1) -> 0.39607875 | H6: =(Data!E2*9.81*Data!D2)*(1+$B$1) -> 0.43777125 | I6: =AND(Data!G2>G6,Data!G2<H6) -> TRUE | J6: =IF(I6=TRUE,1,0) -> 1 | K6: =(Data!G2/Data!F2)*100*(1-$B$1) -> 67.291667 | L6: =(Data!G2/Data!F2)*100*(1+$B$1) -> 74.375 | M6: =AND(Data!H2>K6,Data!H2<L6) -> TRUE | N6: =IF(M6=TRUE,1,0) -> 1
A7: =Data!B3 -> mbayer@clearview.ab.ca | B7: =SUM(F7+J7+N7) -> 2 | C7: =(Data!E3*9.81*Data!C3)*(1-$B$1) -> 9.69228 | D7: =(Data!E3*9.81*Data!C3)*(1+$B$1) -> 10.71252 | E7: =AND(Data!F3>C7,Data!F3<D7) -> TRUE | F7: =IF(E7=TRUE,1,0) -> 1 | G7: =(Data!E3*9.81*Data!D3)*(1-$B$1) -> 2.6048003 | H7: =(Data!E3*9.81*Data!D3)*(1+$B$1) -> 2.8789898 | I7: =AND(Data!G3>G7,Data!G3<H7) -> FALSE | J7: =IF(I7=TRUE,1,0) -> 0 | K7: =(Data!G3/Data!F3)*100*(1-$B$1) -> 47.5 | L7: =(Data!G3/Data!F3)*100*(1+$B$1) -> 52.5 | M7: =AND(Data!H3>K7,Data!H3<L7) -> TRUE | N7: =IF(M7=TRUE,1,0) -> 1
